Workbook
Name _2F35000_: #REF!
Name _90060_C군_CP_LOADER_SESL_1_2호기: '[1]90060'!#REF!
Name _90060_C군_CP_LOADER_SESL_1_2호기_2: '[1]90060'!#REF!
Name _F90000: #REF!
Name _F99999: #REF!
Name _Guide_film: '[1]90060'!#REF!
Name aaa: #REF!
Name aaa_2: #REF!
Name ASA: #REF!
Name ASA_2: #REF!
Name b: #REF!
Name B_2: #REF!
Name ccc: #REF!
Name ccc_2: #REF!
Name ddd: #REF!
Name ddd_2: #REF!
Name dfdf: #REF!
Name dfdf_2: #REF!
Name end_2: #REF!
Name Excel_BuiltIn_Criteria: #REF!
Name Excel_BuiltIn_Criteria_2: #REF!
Name Excel_BuiltIn_Database: #REF!
Name Excel_BuiltIn_Database_2: #REF!
Name Excel_BuiltIn_Print_Area: #REF!
Name Excel_BuiltIn_Print_Area_2: #REF!
Name Excel_BuiltIn_Print_Titles: #REF!
Name Excel_BuiltIn_Print_Titles_2: #REF!
Name mmmm: #REF!
Name mmmm_2: #REF!
Name NH: #REF!
Name NH_2: #REF!
Name PRIN_TITLES: #REF!
Name PRINT_AREA_MI: #REF!
Name PRINT_AREA_MI_2: #REF!
Name PRINT_TITLES_MI: #REF!
Name PRINT_TITLES_MI_2: #REF!
Name report: #REF!
Name report_2: #REF!
Name 기준: '[2]AQL(0.65)'!$D$2:$G$6
Name ㄹ４４０: #REF!
Name ㄹ４４０_2: #REF!
Name 업체별미입고품수: IFERROR(OFFSET(#REF!,0,0,COUNTIF(#REF!,">0"),1),0)
Name 업체별발주품수: IFERROR(OFFSET(#REF!,0,0,COUNTIF(#REF!,">0"),1),0)
Name 업체별입고율: IFERROR(OFFSET(#REF!,0,0,COUNTIF(#REF!,">0"),1),0)
Name 업체별입고품수: IFERROR(OFFSET(#REF!,0,0,COUNTIF(#REF!,">0"),1),0)
Name 업체이름: IFERROR(OFFSET(#REF!,0,0,COUNTIF(#REF!,">0"),1),0)
Name 첨부2: #REF!
Name 첨부2_2: #REF!
Name 프로젝트별발주품수: IFERROR(OFFSET(#REF!,0,0,COUNTIF(#REF!,">0"),1),0)
Name 프로젝트별입고율: IFERROR(OFFSET(#REF!,0,0,COUNTIF(#REF!,">0"),1),0)
Name 프로젝트별입고품수: IFERROR(OFFSET(#REF!,0,0,COUNTIF(#REF!,">0"),1),0)
Name 프로젝트이름: IFERROR(OFFSET(#REF!,0,0,COUNTIF(#REF!,">0"),1),0)

Sheet PJT 일정관리
D2: GSI_PJT_Master_Plan
D5: Activity | E5: 세부 내용 | H5: 일정 | L5: JAN | AQ5: FEB | BT5: MAR | CY5: APR | EC5: MAY | FH5: JUN | GL5: JUL | HQ5: AUG | IV5: SEP
H6: 시작 | I6: 종료 | J6: Day | L6: 5W | P6: 1W | W6: 2W | AD6: 3W | AK6: 4W | AR6: 1W | AY6: 2W | BF6: 3W | BM6: 4W | BT6: 1W | CA6: 2W | CH6: 3W | CO6: 4W | CV6: 1W | DC6: 2W | DJ6: 3W | DQ6: 4W | DX6: 5W | EE6: 1W | EL6: 2W | ES6: 3W | EZ6: 4W | FG6: 1W | FN6: 2W | FU6: 3W | GB6: 4W | GI6: 5W | GP6: 1W | GW6: 2W | HD6: 3W | HK6: 4W | HR6: 1W | HY6: 2W | IF6: 3W | IM6: 4W | IT6: 5W | JA6: 1W | JH6: 2W | JO6: 3W
L7: 2 | N7: 4 | P7: 6 | R7: 8 | T7: 10 | V7: 12 | X7: 14 | Z7: 16 | AB7: 18 | AD7: 20 | AF7: 22 | AH7: 24 | AJ7: 26 | AL7: 28 | AN7: 31 | AQ7: 2 | AS7: 4 | AU7: 6 | AW7: 8 | AY7: 10 | BA7: 12 | BC7: 14 | BE7: 16 | BG7: 18 | BI7: 20 | BK7: 22 | BM7: 24 | BO7: 26 | BQ7: 29 | BT7: 2 | BV7: 4 | BX7: 6 | BZ7: 8 | CB7: 10 | CD7: 12 | CF7: 14 | CH7: 16 | CJ7: 18 | CL7: 20 | CN7: 22 | CP7: 24 | CR7: 26 | CT7: 28 | CV7: 31 | CY7: 2 | DA7: 4 | DC7: 6 | DE7: 8 | DG7: 10 | DI7: 12 | DK7: 14 | DM7: 16 | DO7: 18 | DQ7: 20 | DS7: 22 | DU7: 24 | DW7: 26 | DY7: 28 | EA7: 30 | EC7: 2 | EE7: 4 | EG7: 6 | EI7: 8 | EK7: 10 | EM7: 12 | EO7: 14 | EQ7: 16 | ES7: 18 | EU7: 20 | EW7: 22 | EY7: 24 | FA7: 26 | FC7: 28 | FE7: 31 | FH7: 2 | FJ7: 4 | FL7: 6 | FN7: 8 | FP7: 10 | FR7: 12 | FT7: 14 | FV7: 16 | FX7: 18 | FZ7: 20 | GB7: 22 | GD7: 24 | GF7: 26 | GH7: 28 | GJ7: 30 | GL7: 2 | GN7: 4 | GP7: 6 | GR7: 8 | GT7: 10 | GV7: 12 | GX7: 14 | GZ7: 16 | HB7: 18 | HD7: 20 | HF7: 22 | HH7: 24 | HJ7: 26 | HL7: 28 | HN7: 31 | HQ7: 2 | HS7: 4 | HU7: 6 | HW7: 8 | HY7: 10 | IA7: 12 | IC7: 14 | IE7: 16 | IG7: 18 | II7: 20 | IK7: 22 | IM7: 24 | IO7: 26 | IQ7: 28 | IS7: 31 | IV7: 2 | IX7: 4 | IZ7: 6 | JB7: 8 | JD7: 10 | JF7: 12 | JH7: 14 | JJ7: 16 | JL7: 18 | JN7: 20 | JP7: 22 | JR7: 24 | JT7: 26
L8: 43831 | M8: 43832 | N8: 43833 | O8: 43834 | P8: 43835 | Q8: 43836 | R8: 43837 | S8: 43838 | T8: 43839 | U8: 43840 | V8: 43841 | W8: 43842 | X8: 43843 | Y8: 43844 | Z8: 43845 | AA8: 43846 | AB8: 43847 | AC8: 43848 | AD8: 43849 | AE8: 43850 | AF8: 43851 | AG8: 43852 | AH8: 43853 | AI8: 43854 | AJ8: 43855 | AK8: 43856 | AL8: 43857 | AM8: 43858 | AN8: 43859 | AO8: 43860 | AP8: 43861 | AQ8: 43862 | AR8: 43863 | AS8: 43864 | AT8: 43865 | AU8: 43866 | AV8: 43867 | AW8: 43868 | AX8: 43869 | AY8: 43870 | AZ8: 43871 | BA8: 43872 | BB8: 43873 | BC8: 43874 | BD8: 43875 | BE8: 43876 | BF8: 43877 | BG8: 43878 | BH8: 43879 | BI8: 43880 | BJ8: 43881 | BK8: 43882 | BL8: 43883 | BM8: 43884 | BN8: 43885 | BO8: 43886 | BP8: 43887 | BQ8: 43888 | BR8: 43889 | BS8: 43890 | BT8: 43891 | BU8: 43892 | BV8: 43893 | BW8: 43894 | BX8: 43895 | BY8: 43896 | BZ8: 43897 | CA8: 43898 | CB8: 43899 | CC8: 43900 | CD8: 43901 | CE8: 43902 | CF8: 43903 | CG8: 43904 | CH8: 43905 | CI8: 43906 | CJ8: 43907 | CK8: 43908 | CL8: 43909 | CM8: 43910 | CN8: 43911 | CO8: 43912 | CP8: 43913 | CQ8: 43914 | CR8: 43915 | CS8: 43916 | CT8: 43917 | CU8: 43918 | CV8: 43919 | CW8: 43920 | CX8: 43921 | CY8: 43922 | CZ8: 43923 | DA8: 43924 | DB8: 43925 | DC8: 43926 | DD8: 43927 | DE8: 43928 | DF8: 43929 | DG8: 43930 | DH8: 43931 | DI8: 43932 | DJ8: 43933 | DK8: 43934 | DL8: 43935 | DM8: 43936 | DN8: 43937 | DO8: 43938 | DP8: 43939 | DQ8: 43940 | DR8: 43941 | DS8: 43942 | DT8: 43943 | DU8: 43944 | DV8: 43945 | DW8: 43946 | DX8: 43947 | DY8: 43948 | DZ8: 43949 | EA8: 43950 | EB8: 43951 | EC8: 43952 | ED8: 43953 | EE8: 43954 | EF8: 43955 | EG8: 43956 | EH8: 43957 | EI8: 43958 | EJ8: 43959 | EK8: 43960 | EL8: 43961 | EM8: 43962 | EN8: 43963 | EO8: 43964 | EP8: 43965 | EQ8: 43966 | ER8: 43967 | ES8: 43968 | ET8: 43969 | EU8: 43970 | EV8: 43971 | EW8: 43972 | EX8: 43973 | EY8: 43974 | EZ8: 43975 | FA8: 43976 | FB8: 43977 | FC8: 43978 | FD8: 43979 | FE8: 43980 | FF8: 43981 | FG8: 43982 | FH8: 43983 | FI8: 43984 | FJ8: 43985 | FK8: 43986 | FL8: 43987 | FM8: 43988 | FN8: 43989 | FO8: 43990 | FP8: 43991 | FQ8: 43992 | FR8: 43993 | FS8: 43994 | FT8: 43995 | FU8: 43996 | FV8: 43997 | FW8: 43998 | FX8: 43999 | FY8: 44000 | FZ8: 44001 | GA8: 44002 | GB8: 44003 | GC8: 44004 | GD8: 44005 | GE8: 44006 | GF8: 44007 | GG8: 44008 | GH8: 44009 | GI8: 44010 | GJ8: 44011 | GK8: 44012 | GL8: 44013 | GM8: 44014 | GN8: 44015 | GO8: 44016 | GP8: 44017 | GQ8: 44018 | GR8: 44019 | GS8: 44020 | GT8: 44021 | GU8: 44022 | GV8: 44023 | GW8: 44024 | GX8: 44025 | GY8: 44026 | GZ8: 44027 | HA8: 44028 | HB8: 44029 | HC8: 44030 | HD8: 44031 | HE8: 44032 | HF8: 44033 | HG8: 44034 | HH8: 44035 | HI8: 44036 | HJ8: 44037 | HK8: 44038 | HL8: 44039 | HM8: 44040 | HN8: 44041 | HO8: 44042 | HP8: 44043 | HQ8: 44044 | HR8: 44045 | HS8: 44046 | HT8: 44047 | HU8: 44048 | HV8: 44049 | HW8: 44050 | HX8: 44051 | HY8: 44052 | HZ8: 44053 | IA8: 44054 | IB8: 44055 | IC8: 44056 | ID8: 44057 | IE8: 44058 | IF8: 44059 | IG8: 44060 | IH8: 44061 | II8: 44062 | IJ8: 44063 | IK8: 44064 | IL8: 44065 | IM8: 44066 | IN8: 44067 | IO8: 44068 | IP8: 44069 | IQ8: 44070 | IR8: 44071 | IS8: 44072 | IT8: 44073 | IU8: 44074 | IV8: 44075 | IW8: 44076 | IX8: 44077 | IY8: 44078 | IZ8: 44079 | JA8: 44080 | JB8: 44081 | JC8: 44082 | JD8: 44083 | JE8: 44084 | JF8: 44085 | JG8: 44086 | JH8: 44087 | JI8: 44088 | JJ8: 44089 | JK8: 44090 | JL8: 44091 | JM8: 44092 | JN8: 44093 | JO8: 44094 | JP8: 44095 | JQ8: 44096 | JR8: 44097 | JS8: 44098 | JT8: 44099 | JU8: 44100
B9: 101 | D9: Low Cost OHV | E9: 전체 일정 | G9: 전체 | H9: 43838 | I9: 44074 | J9: =IF((I9-H9)=0,"",I9-H9+1) -> 237
B10: 101 | G10: 설계 및 구매 | H10: 43838 | I10: 43890 | J10: =IF((I10-H10)=0,"",I10-H10+1) -> 53
B11: 101 | G11: 제작 및 출하 | H11: 43895 | I11: 43980 | J11: =IF((I11-H11)=0,"",I11-H11+1) -> 86
B12: 101 | G12: 출하 및 운송 | H12: 43980 | I12: 44007 | J12: =IF((I12-H12)=0,"",I12-H12+1) -> 28
B13: 101 | G13: 셋업 | H13: 43998 | I13: 44043 | J13: =IF((I13-H13)=0,"",I13-H13+1) -> 46
B14: 101 | G14: 안정화 | H14: 44044 | I14: 44074 | J14: =IF((I14-H14)=0,"",I14-H14+1) -> 31
B15: 101 | E15: 세부 일정 | F15: Vehicle | G15: 발주/자재 입고 | H15: 43876 | I15: 43966 | J15: =IF((I15-H15)=0,"",I15-H15+1) -> 91
B16: 101 | G16: 기구 조립 | H16: 43906 | I16: 43922 | J16: =IF((I16-H16)=0,"",I16-H16+1) -> 17
B17: 101 | G17: 전장 조립 | H17: 43911 | I17: 43922 | J17: =IF((I17-H17)=0,"",I17-H17+1) -> 12
B18: 101 | F18: Rail & 설치자자 | G18: 발주/자재 입고 | H18: 43876 | I18: 43914 | J18: =IF((I18-H18)=0,"",I18-H18+1) -> 39
B19: 101 | G19: 기구 조립 | H19: 43906 | I19: 43922 | J19: =IF((I19-H19)=0,"",I19-H19+1) -> 17
B20: 101 | G20: 전장 조립 | H20: 43911 | I20: 43922 | J20: =IF((I20-H20)=0,"",I20-H20+1) -> 12
B21: 101 | F21: Stocker Lifter | G21: 발주/자재 입고 | H21: 43887 | I21: 43921 | J21: =IF((I21-H21)=0,"",I21-H21+1) -> 35
B22: 101 | G22: 기구 조립 | H22: 43902 | I22: 43921 | J22: =IF((I22-H22)=0,"",I22-H22+1) -> 20
B23: 101 | G23: 전장 조립 | H23: 43904 | I23: 43921 | J23: =IF((I23-H23)=0,"",I23-H23+1) -> 18
B24: 101 | F24: 작업자 Station | G24: 발주/자재 입고 | H24: 43887 | I24: 43921 | J24: =IF((I24-H24)=0,"",I24-H24+1) -> 35
B25: 101 | G25: 기구 조립 | H25: 43902 | I25: 43921 | J25: =IF((I25-H25)=0,"",I25-H25+1) -> 20
B26: 101 | G26: 전장 조립 | H26: 43904 | I26: 43921 | J26: =IF((I26-H26)=0,"",I26-H26+1) -> 18
B27: 101 | F27: CAN Station | G27: 발주/자재 입고 | H27: 43887 | I27: 43921 | J27: =IF((I27-H27)=0,"",I27-H27+1) -> 35
B28: 101 | G28: 기구 조립 | H28: 43902 | I28: 43921 | J28: =IF((I28-H28)=0,"",I28-H28+1) -> 20
B29: 101 | G29: 전장 조립 | H29: 43904 | I29: 43921 | J29: =IF((I29-H29)=0,"",I29-H29+1) -> 18
B30: 101 | F30: MTL | G30: 발주/자재 입고 | H30: 43887 | I30: 43915 | J30: =IF((I30-H30)=0,"",I30-H30+1) -> 29
B31: 101 | G31: 기구 조립 | H31: 43902 | I31: 43918 | J31: =IF((I31-H31)=0,"",I31-H31+1) -> 17
B32: 101 | G32: 전장 조립 | H32: 43904 | I32: 43919 | J32: =IF((I32-H32)=0,"",I32-H32+1) -> 16
B33: 101 | F33: Docking 및 Turn On | H33: 43922 | I33: 43923 | J33: =IF((I33-H33)=0,"",I33-H33+1) -> 2
B34: 101 | F34: I/O Check | H34: 43923 | I34: 43927 | J34: =IF((I34-H34)=0,"",I34-H34+1) -> 5
B35: 101 | F35: Test Run 및 CE 및 Qual. | H35: =H36 -> 43928 | I35: =I46 -> 43949 | J35: =IF((I35-H35)=0,"",I35-H35+1) -> 22
B36: 101 | F36: 단동 Test Run 및 정밀 Setting | G36: Vehicle | H36: 43928 | I36: 43938 | J36: =IF((I36-H36)=0,"",I36-H36+1) -> 11
B37: 101 | G37: MTL Station | H37: 43928 | I37: 43938 | J37: =IF((I37-H37)=0,"",I37-H37+1) -> 11
B38: 101 | G38: CAN Station | H38: 43928 | I38: 43938 | J38: =IF((I38-H38)=0,"",I38-H38+1) -> 11
B39: 101 | G39: 작업자 Station | H39: 43928 | I39: 43938 | J39: =IF((I39-H39)=0,"",I39-H39+1) -> 11
B40: 101 | G40: STK Station | H40: 43928 | I40: 43938 | J40: =IF((I40-H40)=0,"",I40-H40+1) -> 11
B41: 101 | F41: Vehicle | G41: 주행 Test 및 분석 | H41: 43928 | I41: 43934 | J41: =IF((I41-H41)=0,"",I41-H41+1) -> 7
B42: 101 | G42: OCS 연동 | H42: 43935 | I42: 43938 | J42: =IF((I42-H42)=0,"",I42-H42+1) -> 4
B43: 101 | F43: Qual. | G43: CE 인증 | H43: 43942 | I43: 43942 | J43: =IF((I43-H43)=0,"",I43-H43+1)
...

Sheet 입고율
B2: 구분 | C2: 품목수 | D2: 발주 (완료예상) | E2: 입고완료 | F2: 입고율 | G2: 입고 (완료예상) | H2: 비고
B3: Vehicle&Rail | C3: =COUNTA('Vehicle&Rail'!$G$3:$G$930) -> 233 | D3: =MAX('Vehicle&Rail'!$K$3:$K$930) -> 43895 | E3: =COUNTA('Vehicle&Rail'!$J$3:$J$930) -> 81 | F3: =E3/C3 -> 0.34763948 | G3: =MAX('Vehicle&Rail'!$L$3:$L$930) -> 43957 | H3: DRIVE ROLLER(5/6), STD Code Tape(4/15)
B4: MTL STATION | C4: =COUNTA('MTL STATION'!$H$4:$H$1000) -> 111 | D4: =MAX('MTL STATION'!M4:M1000) -> 43900 | E4: =COUNTA('MTL STATION'!$J$4:$J$1000) -> 0 | F4: =E4/C4 -> 0 | G4: =MAX('MTL STATION'!$N$4:$N$1000) -> 43915 | H4: SAFETY Part(3/25)
B5: CAN STATION | C5: =COUNTA('CAN STATION'!$H$4:$H$1000) -> 408 | D5: =MAX('CAN STATION'!$M$4:$M$1000) -> 43895 | E5: =COUNTA('CAN STATION'!$J$4:$J$1000) -> 0 | F5: =E5/C5 -> 0 | G5: =MAX('CAN STATION'!$N$4:$N$1000) -> 43921 | H5: Reducer(3/31)
B6: 작업자 STATION | C6: =COUNTA('작업자 STATION'!$H$4:$H$1000) -> 397 | D6: =MAX('작업자 STATION'!$M$4:$M$1000) -> 43895 | E6: =COUNTA('작업자 STATION'!$J$4:$J$1000) -> 0 | F6: =E6/C6 -> 0 | G6: =MAX('작업자 STATION'!$N$4:$N$1000) -> 43921 | H6: Reducer(3/31)
B7: STK STATION | C7: =COUNTA('STK STATION'!$H$4:$H$1000) -> 153 | D7: =MAX('STK STATION'!$M$4:$M$1000) -> 43895 | E7: =COUNTA('STK STATION'!$J$4:$J$1000) -> 0 | F7: =E7/C7 -> 0 | G7: =MAXA('STK STATION'!$N$4:$N$1000) -> 43921 | H7: Reducer(3/31)
B8: TTL | C8: =SUM(C3:C7) -> 1302 | D8: =MAX(D3:D7) -> 43900 | E8: =SUM(E3:E7) -> 81 | F8: =SUM(F3:F7)/5 -> 0.069527897 | G8: =MAX(G3:G7) -> 43957

Sheet 자재 입고 Trend
A3: 행 레이블 | B3: 개수 : 입고일자 (예상일자) | F3: 입고일자 | G3: 입고수 | H3: 누적 | I3: 누적점유율
A4: 43868 | B4: 1 | F4: 43868 | G4: 1 | H4: =G4 -> 1 | I4: =H4/$H$33 -> 0.00076745971
A5: 43874 | B5: 2 | F5: 43874 | G5: 2 | H5: =G5+H4 -> 3 | I5: =H5/$H$33 -> 0.0023023791
A6: 43878 | B6: 2 | F6: 43878 | G6: 2 | H6: =G6+H5 -> 5 | I6: =H6/$H$33 -> 0.0038372985
A7: 43879 | B7: 3 | F7: 43879 | G7: 3 | H7: =G7+H6 -> 8 | I7: =H7/$H$33 -> 0.0061396777
A8: 43880 | B8: 2 | F8: 43880 | G8: 2 | H8: =G8+H7 -> 10 | I8: =H8/$H$33 -> 0.0076745971
A9: 43881 | B9: 3 | F9: 43881 | G9: 3 | H9: =G9+H8 -> 13 | I9: =H9/$H$33 -> 0.0099769762
A10: 43885 | B10: 13 | F10: 43885 | G10: 13 | H10: =G10+H9 -> 26 | I10: =H10/$H$33 -> 0.019953952
A11: 43886 | B11: 12 | F11: 43886 | G11: 12 | H11: =G11+H10 -> 38 | I11: =H11/$H$33 -> 0.029163469
A12: 43887 | B12: 7 | F12: 43887 | G12: 7 | H12: =G12+H11 -> 45 | I12: =H12/$H$33 -> 0.034535687
A13: 43888 | B13: 2 | F13: 43888 | G13: 2 | H13: =G13+H12 -> 47 | I13: =H13/$H$33 -> 0.036070606
A14: 43889 | B14: 14 | F14: 43889 | G14: 14 | H14: =G14+H13 -> 61 | I14: =H14/$H$33 -> 0.046815042
A15: 43892 | B15: 4 | F15: 43892 | G15: 4 | H15: =G15+H14 -> 65 | I15: =H15/$H$33 -> 0.049884881
A16: 43893 | B16: 6 | F16: 43893 | G16: 6 | H16: =G16+H15 -> 71 | I16: =H16/$H$33 -> 0.054489639
... A33: 43957 | B33: 3 | F33: 43957 | G33: 3 | H33: =G33+H32 -> 1303 | I33: =H33/$H$33 -> 1
A34: 총합계 | B34: 1303

Sheet 각 부문 담당자
B2: 담당 | C2: 성명 | D2: 직급 | E2: 연락처 | F2: 비고
B3: 과제관리 | C3: 박태희 | D3: 부장 | E3: 010-3593-3723
B4: 기구설계 | C4: 이관용 | D4: 차장 | E4: 010-5453-5197
B5: 전장설계 | C5: 김형태 | D5: 이사 | E5: 010-8893-5938
C6: 김병훈 | D6: 차장 | E6: 010-4146-8079
B7: PC제어 | C7: 나성권 | D7: 차장 | E7: 010-3738-7419 | F7: 구동부 제어
C8: 강석경 | D8: 차장 | E8: 010-8998-8060 | F8: 전체 PC 제어
B9: PLC제어 | C9: 이창기 | D9: 과장 | E9: 010-9484-7495
B10: 제조 | C10: 김민수 | D10: 부장 | E10: 010-6316-7159 | F10: 제작 총괄

Sheet Vehicle&Rail
B2: Project명 | C2: Sub Project명 | D2: 품목구분 | E2: 품명 | F2: 규격 | G2: 원 수량 | H2: 단위 | I2: 제조사명 | J2: 입고수량 | K2: 발주일자 (예상일자) | L2: 입고일자 (예상일자) | M2: 비고
B3: Vehicle&Rail | C3: Vehicle | D3: 가공품 | E3: SPACER | F3: 50*15*0.5;STS304;POLISHING | G3: 12 | H3: EA | J3: 12 | K3: 43875 | L3: 43879
C4: Vehicle | D4: 가공품 | E4: TEST BKT-1 | F4: 308*110*46;STS304;POLISHING | G4: 1 | H4: EA | J4: 1 | K4: 43875 | L4: 43879
C5: Vehicle | D5: 가공품 | E5: TEST BKT-2 | F5: 76*75.5*40;STS304;POLISHING | G5: 1 | H5: EA | J5: 1 | K5: 43875 | L5: 43879
C6: Rail (Curve) | D6: 가공품 | E6: UPPER BASE | F6: 900*806*10;SS41;무전해NI | G6: 5 | H6: EA | K6: 43888 | L6: 43902 | M6: 입고 예정
C7: Rail (Curve) | D7: 가공품 | E7: UPPER BASE | F7: 900*806*10;SS41;무전해NI | G7: 4 | H7: EA | K7: 43888 | L7: 43902 | M7: 입고 예정
C8: Rail (Curve) | D8: 가공품 | E8: UPPER BASE | F8: 806*806*10;SS41;무전해NI | G8: 3 | H8: EA | K8: 43888 | L8: 43902 | M8: 입고 예정
C9: Vehicle | D9: 가공품 | E9: DRIVE ROLLER | F9: D120*35;A6061+PPDI;W-ANO;SHORE′A′95 | G9: 8 | H9: EA | K9: 43889 | L9: 43957 | M9: 발주후 70일
C10: Vehicle | D10: 가공품 | E10: GUIDE ROLLER | F10: D60*21;A6061+PPDI;W-ANO+SHORE′A′95 | G10: 24 | H10: EA | K10: 43889 | L10: 43957 | M10: 발주후 70일
C11: Vehicle | D11: 구매(기구) | E11: BEARING | F11: 6904ZZ | G11: 24 | H11: EA | I11: NSK | J11: 24 | K11: 43881 | L11: 43881
C12: 전장 재료비 | D12: 구매(전장) | E12: Safety Relay | F12: G7SA-2A2B | G12: 4 | H12: EA | I12: OMRON | J12: 4 | K12: 43888 | L12: 43889
C13: Vehicle | D13: 구매(기구) | E13: LM GUIDE | F13: HRW21CR1UU+145L-G22.5 | G13: 1 | H13: EA | I13: THK | J13: 1 | K13: 43875 | L13: 43881
C14: Vehicle | D14: 구매(기구) | E14: CAMFOLLOWER | F14: CF5UU | G14: 1 | H14: EA | I14: THK | J14: 1 | K14: 43875 | L14: 43881
C15: Vehicle | D15: 구매(기구) | E15: LM GUIDE | F15: HRW21CR1UU+145LF-G22.5 | G15: 4 | H15: EA | I15: THK | J15: 4 | K15: 43881 | L15: 43886
C16: Vehicle | D16: 구매(기구) | E16: CAM FOLLOWER | F16: CF5UU | G16: 4 | H16: EA | I16: THK | J16: 4 | K16: 43881 | L16: 43886
C17: Vehicle | D17: 구매(기구) | E17: CAM FOLLOWER | F17: CF5MUU | G17: 4 | H17: EA | I17: THK | J17: 4 | K17: 43881 | L17: 43886
C18: Rail (Curve) | D18: 가공품 | E18: MAIN GUIDE | F18: 493.2*85.1*28;SM45C;H-Cr | G18: 5 | H18: EA | K18: 43880 | L18: 43896 | M18: 입고 예정
C19: Rail (Curve) | D19: 가공품 | E19: ST GUIDE | F19: 700*32.7*28;A6061-T6;W-ANO | G19: 5 | H19: EA | K19: 43880 | L19: 43896 | M19: 입고 예정
C20: Rail (Curve) | D20: 가공품 | E20: CURVE GUIDE | F20: 694.3*518.8*28;A6061-T6;W-ANO | G20: 5 | H20: EA | K20: 43880 | L20: 43896 | M20: 입고 예정
C21: Rail (Curve) | D21: 가공품 | E21: CIRCLE PLATE-1 | F21: 420*420*30;A6061-T6;W-ANO | G21: 5 | H21: EA | K21: 43880 | L21: 43896 | M21: 입고 예정
C22: Rail (Curve) | D22: 가공품 | E22: GUIDE BLOCK | F22: 45*42*3;A6061;W-ANO | G22: 5 | H22: EA | K22: 43880 | L22: 43896 | M22: 입고 예정
C23: Rail (Curve) | D23: 가공품 | E23: CEILING SUPPORT | F23: 190.5*100*43.5;SM45C;H-Cr | G23: 35 | H23: EA | K23: 43880 | L23: 43896 | M23: 입고 예정
C24: Rail (Curve) | D24: 가공품 | E24: LEVEL GUIDE BLOCK | F24: 40*20*20;A6061;W-ANO | G24: 10 | H24: EA | K24: 43880 | L24: 43896 | M24: 입고 예정
C25: Rail (Curve) | D25: 가공품 | E25: SUPPORT BLOCK | F25: 50*30*26;A6061-T6;W-ANO | G25: 5 | H25: EA | K25: 43880 | L25: 43896 | M25: 입고 예정
C26: Rail (Curve) | D26: 가공품 | E26: TAP PLATE-1 | F26: 80*12*6;SS41 | G26: 40 | H26: EA | K26: 43880 | L26: 43896 | M26: 입고 예정
C27: Rail (Curve) | D27: 가공품 | E27: TAP PLATE-2 | F27: 95*16*8;SS41;아연도금(천연색) | G27: 25 | H27: EA | K27: 43880 | L27: 43896 | M27: 입고 예정
C28: Rail (Curve) | D28: 가공품 | E28: TAP PLATE-3 | F28: 40*12*6;SS41 | G28: 20 | H28: EA | K28: 43880 | L28: 43896 | M28: 입고 예정
C29: Rail (Curve) | D29: 가공품 | E29: TAP PLATE-5 | F29: 38*12*6;SS41 | G29: 10 | H29: EA | K29: 43880 | L29: 43896 | M29: 입고 예정
... C102: 설치부자재 (T/B) | D102: 가공품 | E102: TUNBUCKLE BOLT | F102: D16*1062;SM45C;무전해 NI | G102: 172 | H102: EA | K102: 43888 | L102: 43899 | M102: 입고 예정
C103: Vehicle | D103: 가공품 | E103: TURN PLATE | F103: 85.5*20*12;A6061 | G103: 1 | H103: EA | J103: 1 | K103: 43894 | L103: 43894
C104: Vehicle | D104: 가공품 | E104: GUIDE ROLLER BASE-1 | F104: 308*95*10;A6061;B-ANO | G104: 1 | H104: EA | J104: 1 | K104: 43875 | L104: 43889
C105: Vehicle | D105: 가공품 | E105: GUIDE ROLLER BASE-2 | F105: 100*70*15;SM45C;무전해NI | G105: 1 | H105: EA | J105: 1 | K105: 43875 | L105: 43889
C106: Vehicle | D106: 가공품 | E106: ADJUST BLOCK | F106: 45*30*12;SM45C;무전해NI | G106: 1 | H106: EA | J106: 1 | K106: 43875 | L106: 43889
C107: Vehicle | D107: 가공품 | E107: STOPPER BASE | F107: 90*30*30;SM45C;무전해NI | G107: 2 | H107: EA | J107: 2 | K107: 43875 | L107: 43889
C108: Vehicle | D108: 가공품 | E108: STOPPER | F108: D10*6.5;URETHAN;SHORE′A′90(YELLOW) | G108: 2 | H108: EA | J108: 2 | K108: 43875 | L108: 43889
C109: Vehicle | D109: 가공품 | E109: TURN PLATE | F109: 67*20*12;SM45C;무전해NI;HrC55이상 | G109: 1 | H109: EA | J109: 1 | K109: 43875 | L109: 43889
C110: Vehicle | D110: 가공품 | E110: STOPPER | F110: 50*15*10;SM45C;무전해NI;HrC55이상 | G110: 2 | H110: EA | J110: 2 | K110: 43875 | L110: 43889
C111: Vehicle | D111: 가공품 | E111: ROTARY BASE-2 | F111: 95*55*8;A6061;B-ANO | G111: 8 | H111: EA | K111: 43895 | L111: 43901 | M111: 입고 예정
C112: Vehicle | D112: 가공품 | E112: TURN PLATE | F112: 85.5*12*12;SM45C;무전해NI | G112: 4 | H112: EA | K112: 43895 | L112: 43901 | M112: 입고 예정
C113: Vehicle | D113: 구매(기구) | E113: ROTARY SOLENOID | F113: M090064RM | G113: 1 | H113: EA | I113: SHINDENGEN | J113: 1 | K113: 43868 | L113: 43874
...

Sheet MTL STATION
B2: STK STATION BOM LIST | K2: 대수 | L2: 1 | M2: 발주일자 (예상일자) | N2: 입고일자 (예상일자)
B3: Sub Unit | D3: 품목구분 | E3: 품명 | F3: 규격 | G3: 제조사명 | H3: 원 수량 | I3: 구매 수량 | J3: 입고 수량 | K3: 단위 | L3: 비고(신청)
B4: MTL | C4: MTL FRAME UNIT
D6: 구매품 | E6: LEVELING FOOT | F6: KD-1258-20130 | G6: KONGJIN | H6: 4 | I6: =H6 -> 4 | K6: EA | M6: 43900 | N6: 43913
D7: 구매품 | E7: CASTER | F7: CHJF75A | G7: MISUMI | H7: 4 | I7: =H7 -> 4 | K7: EA | M7: 43900 | N7: 43913
D8: 구매품 | E8: SAFETY LOCK | F8: D4SL-N4NFG-D | G8: OMRON | H8: 6 | I8: =H8 -> 6 | K8: EA | M8: 43887 | N8: 43915
D9: 구매품 | E9: SAFETY LOCK KEY | F9: D4SL-NK3 | G9: OMRON | H9: 6 | I9: =H9 -> 6 | K9: EA | M9: 43887 | N9: 43915
D10: 구매품 | E10: HANDLE | F10: BY183-2CV | G10: BUYOUNG | H10: 6 | I10: =H10 -> 6 | K10: EA | M10: 43895 | N10: 43907
D11: 구매품 | E11: HINGE | F11: BYH6060-31 | G11: BUYOUNG | H11: 18 | I11: =H11 -> 18 | K11: EA | M11: 43895 | N11: 43907
D12: 구매품 | E12: MAGNET | F12: BY3-4040-20 | G12: BUYOUNG | H12: 12 | I12: =H12 -> 12 | K12: EA | M12: 43895 | N12: 43907
D13: 구매품 | E13: MAGNET | F13: BY3-PBK | G13: BUYOUNG | H13: 12 | I13: =H13 -> 12 | K13: EA | M13: 43895 | N13: 43907
D14: 구매품 | E14: EMS SWITCH | F14: A22E-M-12-EMS | G14: OMRON | H14: 1 | I14: =H14 -> 1 | K14: EA | M14: 43900 | N14: 43910
D15: 구매품 | E15: SOLVELVE | F15: SS5Y3-41-08-C6_40-5LZE_22221100 | G15: SMC | H15: 1 | I15: =H15 -> 1 | K15: EA | M15: 43900 | N15: 43907
D16: 구매품 | E16: SILENCER | F16: AN200-02 | G16: SMC | H16: 1 | I16: =H16 -> 1 | K16: EA | M16: 43900 | N16: 43907
D17: 구매품 | E17: DIGITAL PRESSURE SWITCH | F17: ISE30A-01-C-L | G17: SMC | H17: 1 | I17: =H17 -> 1 | K17: EA | M17: 43900 | N17: 43907
... D24: 구매품 | E24: REGULATER | F24: AC30D-02-V1-B | G24: SMC | H24: 1 | I24: =H24 -> 1 | K24: EA | M24: 43900 | N24: 43910
C28: LIFT RAIL ASSY | D28: 구매품 | E28: SPEED_GUIDE | F28: OSG40-2 | G28: WINNER | H28: 4 | I28: 4 | K28: EA | M28: 43900 | N28: 43910
D29: 구매품 | E29: BULCKLE TYPE_1 | F29: STRT60 | G29: MISUMI | H29: 12 | I29: 12 | K29: EA | M29: 43900 | N29: 43910
D30: 구매품 | E30: BULCKLE TYPE_2 | F30: SRC-R60 | G30: MISUMI | H30: 16 | I30: 16 | K30: EA | M30: 43900 | N30: 43910
D31: 구매품 | E31: JOINT LINK | F31: JMTC60 | G31: MISUMI | H31: 12 | I31: 12 | K31: EA | M31: 43900 | N31: 43910
D32: 구매품 | E32: GUIDE ROLLER | F32: RORPHS50-L30 | G32: MISUMI | H32: 24 | I32: 24 | K32: EA | M32: 43900 | N32: 43910
D33: 구매품 | E33: SNAP RING | F33: STWN12 | G33: MISUMI | H33: 32 | I33: 32 | K33: EA | M33: 43900 | N33: 43910
D34: 구매품 | E34: SENSOR | F34: E2E_X7D1_M1GJ | G34: OMRON | H34: 2 | I34: 2 | K34: EA | M34: 43900 | N34: 43910
D35: 구매품 | E35: BUSH | F35: LFG25-59 | G35: MISUMI | H35: 2 | I35: 2 | K35: EA | M35: 43900 | N35: 43910
D36: 구매품 | E36: LM GUIDE | F36: SR20W1SS-118L | G36: THK | H36: 2 | I36: 2 | K36: EA | M36: 43900 | N36: 43910
D37: 구매품 | E37: CYLINDER | F37: CDU20-40D-M9NM | G37: SMC | H37: 2 | I37: 2 | K37: EA | M37: 43900 | N37: 43907
D38: 구매품 | E38: CYLINDER | F38: 20CDQ2D40-50DZ-M9NM | G38: SMC | H38: 2 | I38: 2 | K38: EA | M38: 43900 | N38: 43907
C42: CHAIN DRIVE ASSY
D43: 구매품 | E43: SERVO MOTOR | F43: HG-SR-152B | G43: MITSUBISHI | H43: 1 | I43: 1 | K43: EA | M43: 43900 | N43: 43913
D44: 구매품 | E44: BEVEL GEAR | F44: CBX-401TB | G44: TOHOKOERA | H44: 1 | I44: 1 | K44: EA | M44: 43900 | N44: 43913
D45: 구매품 | E45: UNIT BEARING | F45: UCP308 | G45: NSK | H45: 4 | I45: 4 | K45: EA | M45: 43900 | N45: 43907
D46: 구매품 | E46: SPROCKET | F46: DRC60-14-20 | G46: MISUMI | H46: 14 | I46: 6 | K46: EA | M46: 43895 | N46: 43910
D47: 구매품 | E47: WASHER | F47: FWSSS-D28-V15.5-T3.0 | G47: MISUMI | H47: 12 | I47: 12 | K47: EA | M47: 43900 | N47: 43907
D48: 구매품 | E48: NUT | F48: BNR15 | G48: MISUMI | H48: 12 | I48: 12 | K48: EA | M48: 43900 | N48: 43907
D49: 구매품 | E49: SENSOR | F49: E2E_X7D1_M1GJ | G49: OMRON | H49: 2 | I49: 2 | K49: EA | M49: 43900 | N49: 43910
D50: 구매품 | E50: CHAIN | F50: CHEM60-U(RS60) 1000L | G50: MISUMI | H50: 4 | I50: 4 | K50: EA | M50: 43895 | N50: 43910
D51: 구매품 | E51: CHAIN | F51: CHEM60-U(RS60) 1500L | G51: MISUMI | H51: 4 | I51: 4 | K51: EA | M51: 43895 | N51: 43910
C55: FREE ROLLER MODULE
D56: 구매품 | E56: FREE ROLLER | F56: 860L x Φ42.7 | G56: DAE JONG FRS | H56: 4 | I56: =H56 -> 4 | K56: EA | M56: 43887 | N56: 43903
C65: 전장 UNIT | D65: 구매(전장) | E65: BASE | F65: Q38B | G65: Mitsubishi | H65: 1 | I65: 1 | K65: EA | M65: 43895 | N65: 43903
...

Sheet CAN STATION
B2: CAN STATION BOM LIST | K2: 대수 | L2: 1 | M2: 발주일자 (예상일자) | N2: 입고일자 (예상일자)
B3: Sub Unit | D3: 품목구분 | E3: 품명 | F3: 규격 | G3: 제조사명 | H3: 원 수량 | I3: 구매 수량 | J3: 입고 수량 | K3: 단위 | L3: 비고(신청)
B4: CAN STATION | C4: FRAME UNIT | D4: 가공품 | E4: FRONT COVER_01 | F4: 1230*1005_2t ; SS41 ; 도장 | H4: 1 | I4: =H4 -> 1 | K4: EA | L4: Munsell No. 5Y 9/1.5(상아색) | M4: 43889 | N4: 43902
D5: 가공품 | E5: FRONT COVER_02 | F5: 1230*825_2t ; SS41 ; 도장 | H5: 1 | I5: =H5 -> 1 | K5: EA | L5: Munsell No. 5Y 9/1.5(상아색) | M5: 43889 | N5: 43902
D6: 가공품 | E6: CABLEVEYOR BKT_01 | F6: 1830*1521_3t ; STS304,양면폴리싱 | H6: 1 | I6: =H6 -> 1 | K6: EA | M6: 43889 | N6: 43902
D7: 가공품 | E7: CABLEVEYOR BKT_02 | F7: 1828*154_3t ; STS304,양면폴리싱 | H7: 1 | I7: =H7 -> 1 | K7: EA | M7: 43889 | N7: 43902
D8: 가공품 | E8: LOWER COVER_01 | F8: 1218*818_2t ; STS304,양면폴리싱 | H8: 1 | I8: =H8 -> 1 | K8: EA | M8: 43889 | N8: 43902
D9: 가공품 | E9: LOWER COVER_02 | F9: 1118*818_2t ; STS304,양면폴리싱 | H9: 1 | I9: =H9 -> 1 | K9: EA | M9: 43889 | N9: 43902
D10: 가공품 | E10: LOWER COVER_03 | F10: 1108*818_2t ; STS304,양면폴리싱 | H10: 1 | I10: =H10 -> 1 | K10: EA | M10: 43889 | N10: 43902
D11: 가공품 | E11: LOWER COVER_04 | F11: 1029*818_2t ; STS304,양면폴리싱 | H11: 1 | I11: =H11 -> 1 | K11: EA | M11: 43889 | N11: 43902
D12: 가공품 | E12: LOWER COVER_05 | F12: 1070*818_2t ; STS304,양면폴리싱 | H12: 1 | I12: =H12 -> 1 | K12: EA | M12: 43889 | N12: 43902
D13: 가공품 | E13: CAN FRAME | F13: 2755*3680*900 ; PROFILE | H13: 1 | I13: =H13 -> 1 | K13: EA | M13: 43889 | N13: 43907
D14: 가공품 | E14: STOPPER | F14: Ф30*30 ; 우레탄 | H14: 2 | I14: =H14 -> 2 | K14: EA | M14: 43889 | N14: 43907
D15: 가공품 | E15: UPPER DOOR_01 | F15: 1096*661*20 ; PROFILE | H15: 1 | I15: =H15 -> 1 | K15: EA | M15: 43889 | N15: 43907
D16: 가공품 | E16: FOOT BASE_01 | F16: 180*180_15t ; SS40 ; 크롬도금 | H16: 4 | I16: =H16 -> 4 | K16: EA | M16: 43889 | N16: 43907
D17: 가공품 | E17: FOOT BASE_02 | F17: 120*120_8t ; STS304 | H17: 6 | I17: =H17 -> 6 | K17: EA | M17: 43889 | N17: 43907
D18: 가공품 | E18: FOOT BASE_03 | F18: 160*150_15t ; SS40 ; 크롬도금 | H18: 2 | I18: =H18 -> 2 | K18: EA | M18: 43889 | N18: 43907
D19: 가공품 | E19: PIO LOWER BKT_01 | F19: 80*80_2t ; SS41 ; 도장 | H19: 2 | I19: =H19 -> 2 | K19: EA | L19: Munsell No. 5Y 9/1.5(상아색) | M19: 43889 | N19: 43902
D20: 가공품 | E20: PIO LOWER BKT_02 | F20: 100*80*95_2t ; SS41 ; 도장 | H20: 2 | I20: =H20 -> 2 | K20: EA | L20: Munsell No. 5Y 9/1.5(상아색) | M20: 43889 | N20: 43902
D21: 가공품 | E21: PIO HIGH BKT_01 | F21: 83*34*20_2t ; SS41 ; 도장 | H21: 1 | I21: =H21 -> 1 | K21: EA | L21: Munsell No. 5Y 9/1.5(상아색) | M21: 43889 | N21: 43902
D22: 가공품 | E22: PIO HIGH BKT_02 | F22: 70*54*30_2t ; SS41 ; 도장 | H22: 1 | I22: =H22 -> 1 | K22: EA | L22: Munsell No. 5Y 9/1.5(상아색) | M22: 43889 | N22: 43902
D23: 가공품 | E23: BCR BLOCK | F23: 60*40*30 ; AL6061 ; W-ANO | H23: 3 | I23: =H23 -> 3 | K23: EA | M23: 43889 | N23: 43903
D24: 가공품 | E24: BCR SHAFT_01 | F24: 320*Φ12 ; SUS 연마봉 | H24: 2 | I24: =H24 -> 2 | K24: EA | M24: 43889 | N24: 43907
D25: 가공품 | E25: BCR SHAFT_02 | F25: 230*Φ12 ; SUS 연마봉 | H25: 1 | I25: =H25 -> 1 | K25: EA | M25: 43889 | N25: 43907
D26: 가공품 | E26: BCR BKT | F26: 80*60_3t ; STS304,양면폴리싱 | H26: 1 | I26: =H26 -> 1 | K26: EA | M26: 43889 | N26: 43903
D27: 가공품 | E27: PIO HIGH BKT_03 | F27: 53.5*54*20_2t ; SS41 ; 도장 | H27: 1 | I27: =H27 -> 1 | K27: EA | L27: Munsell No. 5Y 9/1.5(상아색) | M27: 43889 | N27: 43902
D28: 가공품 | E28: PIO HIGH BKT_04 | F28: 55*54*30_2t ; SS41 ; 도장 | H28: 1 | I28: =H28 -> 1 | K28: EA | L28: Munsell No. 5Y 9/1.5(상아색) | M28: 43889 | N28: 43902
D29: 가공품 | E29: FREE ROLLER BKT_01 | F29: 165*50_3t ; STS304,양면폴리싱 | H29: 4 | I29: =H29 -> 4 | K29: EA | M29: 43889 | N29: 43903
D31: 구매품 | E31: LEVELING FOOT | F31: A-M-16-180 | G31: AUTOCFT | H31: 6 | I31: =H31 -> 6 | K31: EA | M31: 43889 | N31: 43907
D32: 구매품 | E32: CASTER | F32: ACMM-75SF | G32: AUTOCFT | H32: 6 | I32: =H32 -> 6 | K32: EA | M32: 43889 | N32: 43907
D33: 구매품 | E33: PIO SENSOR | F33: DMS-HB1-V | G33: HOKUYO | H33: 4 | I33: =H33 -> 4 | K33: EA | M33: 43889 | N33: 43907
D34: 구매품 | E34: SAFETY LOCK KEY | F34: D4SL-NSK10-LK | G34: OMRON | H34: 1 | I34: =H34 -> 1 | K34: EA | M34: 43889 | N34: 43915
D35: 구매품 | E35: SAFETY LOCK | F35: D4SL-N4NFG-D | G35: OMRON | H35: 1 | I35: =H35 -> 1 | K35: EA | M35: 43889 | N35: 43915
D36: 구매품 | E36: PROFILE GUIDE | F36: 1991+1990_3M | G36: WOOJIN | H36: 4 | I36: =H36 -> 4 | K36: EA | M36: 43889 | N36: 43903
C39: LIFT DIVERTER UNIT | D39: 가공품 | E39: ROBOT PLATE_01 | F39: 1750*240*15 ; AL6061 ; W-ANO | H39: 1 | I39: =H39 -> 1 | K39: EA | M39: 43889 | N39: 43903
D40: 가공품 | E40: ROBOT PLATE_02 | F40: 923*240*15 ; AL6061 ; W-ANO | H40: 1 | I40: =H40 -> 1 | K40: EA | M40: 43889 | N40: 43903
D41: 가공품 | E41: CABLEVEYOR BKT_CAN | F41: 149.5*120*141_3t ; STS304,양면폴리싱 | H41: 1 | I41: =H41 -> 1 | K41: EA | M41: 43889 | N41: 43903
D42: 가공품 | E42: TRAY STOPPER_01 | F42: 60*30*10 ; AL6061 ; W-ANO | H42: 2 | I42: =H42 -> 2 | K42: EA | M42: 43889 | N42: 43903
D43: 가공품 | E43: TRAY STOPPER_02 | F43: 60*40*10 ; AL6061 ; W-ANO | H43: 2 | I43: =H43 -> 2 | K43: EA | M43: 43889 | N43: 43903
D44: 가공품 | E44: DIVERTER CONVEYOR FRAME | F44: 958*710*40 ; PROFILE | H44: 1 | I44: =H44 -> 1 | K44: EA | M44: 43889 | N44: 43903
...

Sheet 작업자 STATION
B2: 작업자 STATION BOM LIST | K2: 대수 | L2: 1 | M2: 발주일자 (예상일자) | N2: 입고일자 (예상일자)
B3: Sub Unit | D3: 품목구분 | E3: 품명 | F3: 규격 | G3: 제조사명 | H3: 원 수량 | I3: 구매 수량 | J3: 입고 수량 | K3: 단위 | L3: 비고(신청)
B4: STD STATION | C4: FRAME | D4: 가공품 | E4: STD RACK FRAME | F4: 4560*1697*810 ; PROFILE | H4: 1 | I4: =H4 -> 1 | K4: EA | M4: 43889 | N4: 43907
D5: 가공품 | E5: STD_RACK_FRONT COVER_1 | F5: 1140*725_2t ; SS41 ; 도장 | H5: 2 | I5: =H5 -> 2 | K5: EA | L5: Munsell No. 5Y 9/1.5(상아색) | M5: 43889 | N5: 43902
D6: 가공품 | E6: STD_RACK_FRONT COVER_2 | F6: 1100*725_2t ; SS41 ; 도장 | H6: 2 | I6: =H6 -> 2 | K6: EA | L6: Munsell No. 5Y 9/1.5(상아색) | M6: 43889 | N6: 43902
D7: 가공품 | E7: STD_RACK_FRONT COVER_3 | F7: 1100*750_2t ; SS41 ; 도장 | H7: 2 | I7: =H7 -> 2 | K7: EA | L7: Munsell No. 5Y 9/1.5(상아색) | M7: 43889 | N7: 43902
D8: 가공품 | E8: STD_RACK_FRONT COVER_4 | F8: 1140*750_2t ; SS41 ; 도장 | H8: 2 | I8: =H8 -> 2 | K8: EA | L8: Munsell No. 5Y 9/1.5(상아색) | M8: 43889 | N8: 43902
D9: 가공품 | E9: RACK FOOT BASE | F9: 80*40_17t ; AL6061 ; W-ANO | H9: 6 | I9: =H9 -> 6 | K9: EA | M9: 43889 | N9: 43903
D10: 가공품 | E10: RACK WEIGHT PLATE | F10: 120*120_8t ; STS304 ; 2B | H10: 6 | I10: =H10 -> 6 | K10: EA | M10: 43889 | N10: 43903
D11: 가공품 | E11: BCR BLOCK | F11: 80*50_25t ; AL6061 ; W-ANO | H11: 4 | I11: =H11 -> 4 | K11: EA | M11: 43889 | N11: 43903
D12: 가공품 | E12: BCR SUPPORT_01 | F12: Ф16*190 ; STS304 연마봉 | H12: 4 | I12: =H12 -> 4 | K12: EA | M12: 43889 | N12: 43903
D13: 가공품 | E13: BCR SUPPORT_02 | F13: Ф16*160 ; STS304 연마봉 | H13: 8 | I13: =H13 -> 8 | K13: EA | M13: 43889 | N13: 43903
D14: 가공품 | E14: RACK CASTER PLATE | F14: 120*150*100_5t ; STS304 ; 2B | H14: 4 | I14: =H14 -> 4 | K14: EA | M14: 43889 | N14: 43903
D16: 구매품 | E16: LEVELING FOOT | F16: A-M-16-100L | G16: AUTO CFT | H16: 6 | I16: =H16 -> 6 | K16: EA | M16: 43887 | N16: 43907
D17: 구매품 | E17: CASTER | F17: ACMM-75SF | G17: AUTO CFT | H17: 4 | I17: =H17 -> 4 | K17: EA | M17: 43887 | N17: 43907
D18: 구매품 | E18: SHAFT HOLDER | F18: SHFT16 | G18: MISUMI | H18: 4 | I18: =H18 -> 4 | K18: EA | M18: 43887 | N18: 43903
D19: 구매품 | E19: STRUT CLAMP | F19: MDKT16 | G19: MISUMI | H19: 8 | I19: =H19 -> 8 | K19: EA | M19: 43887 | N19: 43903
C21: POWER MOLLER ASSY | D21: 가공품 | E21: RACK CONVEYOR BASE_01 | F21: 790*110*35_3.2t ; SS41 ; 도장 | H21: 8 | I21: =H21 -> 8 | K21: EA | L21: Munsell No. 5Y 9/1.5(상아색) | M21: 43889 | N21: 43902
D22: 가공품 | E22: RACK CONVEYOR BASE_02 | F22: 790*110*35_3.2t ; SS41 ; 도장 | H22: 8 | I22: =H22 -> 8 | K22: EA | L22: Munsell No. 5Y 9/1.5(상아색) | M22: 43889 | N22: 43902
D23: 가공품 | E23: RACK CONVEYOR FRONT COVER | F23: 947*110*12_2t ; SS41 ; 도장 | H23: 8 | I23: =H23 -> 8 | K23: EA | L23: Munsell No. 5Y 9/1.5(상아색) | M23: 43889 | N23: 43902
D24: 가공품 | E24: RACK CONVEYOR BKT | F24: 50*25*30_3t ; STS304 | H24: 32 | I24: =H24 -> 32 | K24: EA | M24: 43889 | N24: 43902
D25: 가공품 | E25: RACK CONVEYOR REAR COVER | F25: 947*110*12_2t ; SS41 ; 도장 | H25: 8 | I25: =H25 -> 8 | K25: EA | L25: Munsell No. 5Y 9/1.5(상아색) | M25: 43889 | N25: 43902
D26: 가공품 | E26: AUTO STOPPER COVER | F26: 536*129*85_1.6t ; SS41 ; 도장 | H26: 4 | I26: =H26 -> 4 | K26: EA | L26: Munsell No. 5Y 9/1.5(상아색) | M26: 43889 | N26: 43902
D27: 가공품 | E27: RACK CONVEYOR PLATE_01 | F27: 878*788*35_3.2t ; SS41 ; 도장 | H27: 4 | I27: =H27 -> 4 | K27: EA | L27: Munsell No. 5Y 9/1.5(상아색) | M27: 43889 | N27: 43902
D28: 가공품 | E28: RACK CONVEYOR BELT COVER | F28: 799*70*38_2t ; SS41 ; 도장 | H28: 8 | I28: =H28 -> 8 | K28: EA | L28: Munsell No. 5Y 9/1.5(상아색) | M28: 43889 | N28: 43902
D29: 가공품 | E29: RACK CONVEYOR SIDE COVER | F29: 790*98_1.6t ; SS41 ; 도장 | H29: 16 | I29: =H29 -> 16 | K29: EA | L29: Munsell No. 5Y 9/1.5(상아색) | M29: 43889 | N29: 43902
D30: 가공품 | E30: RACK CONVEYOR GUIDE | F30: 60*31*24_2t ; STS304 ; POLISHING | H30: 32 | I30: =H30 -> 32 | K30: EA | M30: 43889 | N30: 43902
D31: 가공품 | E31: RACK CONVEYOR GUIDE BKT_01 | F31: 54.5*40*35_3t ; SS41 ; 도장 | H31: 16 | I31: =H31 -> 16 | K31: EA | L31: Munsell No. 5Y 9/1.5(상아색) | M31: 43889 | N31: 43902
D32: 가공품 | E32: RACK CONVEYOR GUIDE BKT_02 | F32: 30*40*48_3t ; SS41 ; 도장 | H32: 16 | I32: =H32 -> 16 | K32: EA | L32: Munsell No. 5Y 9/1.5(상아색) | M32: 43889 | N32: 43902
D33: 가공품 | E33: RACK CONVEYOR SENSOR BKT | F33: 25*102*38_2t ; SS41 ; 도장 | H33: 48 | I33: =H33 -> 48 | K33: EA | L33: Munsell No. 5Y 9/1.5(상아색) | M33: 43889 | N33: 43902
D34: 가공품 | E34: MANUAL STOPPER BASE | F34: 107*60_8t ; STS304 | H34: 8 | I34: =H34 -> 8 | K34: EA | M34: 43889 | N34: 43902
D35: 가공품 | E35: MANUAL STOPPER BOLT | F35: Ф20*25.5 ; STS304 연마봉 | H35: 8 | I35: =H35 -> 8 | K35: EA | M35: 43889 | N35: 43903
D36: 가공품 | E36: MANUAL STOPPER HANDLE | F36: Ф15*40 ; STS304 | H36: 8 | I36: =H36 -> 8 | K36: EA | M36: 43889 | N36: 43902
D37: 가공품 | E37: AUTO STOPPER PLATE | F37: 470*60*75_5t ; SS41 ; 도장 | H37: 4 | I37: =H37 -> 4 | K37: EA | L37: Munsell No. 5Y 9/1.5(상아색) | M37: 43889 | N37: 43902
D38: 가공품 | E38: AUTO STOPPER BASE | F38: 380*59*91.5_5t ; SS41 ; 도장 | H38: 4 | I38: =H38 -> 4 | K38: EA | L38: Munsell No. 5Y 9/1.5(상아색) | M38: 43889 | N38: 43902
D39: 가공품 | E39: AUTO STOPPER URETHANE | F39: 380*40_5t ; 우레탄 | H39: 4 | I39: =H39 -> 4 | K39: EA | M39: 43889 | N39: 43903
D40: 가공품 | E40: RACK CONVEYOR GUIDE BKT_03 | F40: 28.5*40*35_3t ; SS41 ; 도장 | H40: 16 | I40: =H40 -> 16 | K40: EA | L40: Munsell No. 5Y 9/1.5(상아색) | M40: 43889 | N40: 43902
D41: 가공품 | E41: RACK CONVEYOR GUIDE BKT_04 | F41: 30*40*46_3t ; SS41 ; 도장 | H41: 16 | I41: =H41 -> 16 | K41: EA | L41: Munsell No. 5Y 9/1.5(상아색) | M41: 43889 | N41: 43902
D42: 가공품 | E42: RACK CONVEYOR PLATE_02 | F42: 878*788*35_2.3t ; SS41 ; 도장 | H42: 4 | I42: =H42 -> 4 | K42: EA | L42: Munsell No. 5Y 9/1.5(상아색) | M42: 43889 | N42: 43902
D44: 구매품 | E44: CYLINDER | F44: MGPWL32-25-M9NM | G44: SMC | H44: 4 | I44: =H44 -> 4 | K44: EA | M44: 43887 | N44: 43903
...

Sheet STK STATION
B2: STK STATION BOM LIST | K2: 대수 | L2: 1 | M2: 발주일자 (예상일자) | N2: 입고일자 (예상일자)
B3: Sub Unit | D3: 품목구분 | E3: 품명 | F3: 규격 | G3: 제조사명 | H3: 원 수량 | I3: 구매 수량 | J3: 입고 수량 | K3: 단위 | L3: 비고(신청)
B4: STK STATION | C4: STK FRAME UNIT | D4: 가공품 | E4: CABLEVEYOR BK_01 | F4: 1857*150*3;STS304;POLISHING | H4: 1 | I4: =H4 -> 1 | K4: EA | M4: 43889 | N4: 43902
D5: 가공품 | E5: CABLEVEYOR BK_02 | F5: 1859*150*3;STS304;POLISHING | H5: 1 | I5: =H5 -> 1 | K5: EA | M5: 43889 | N5: 43902
D6: 가공품 | E6: STK BOTTOM COVER_01 | F6: 1256*728*2;STS304;POLISHING | H6: 1 | I6: =H6 -> 1 | K6: EA | M6: 43889 | N6: 43902
D7: 가공품 | E7: STK BOTTOM COVER_02 | F7: 1218*728*2;STS304;POLISHING | H7: 1 | I7: =H7 -> 1 | K7: EA | M7: 43889 | N7: 43902
D8: 가공품 | E8: PIO HIGH BKT_01 | F8: 83*34*20_2t ; SS41 ; 도장 | H8: 1 | I8: =H8 -> 1 | K8: EA | L8: Munsell No. 5Y 9/1.5(상아색) | M8: 43889 | N8: 43902
D9: 가공품 | E9: PIO HIGH BKT_02 | F9: 70*54*30_2t ; SS41 ; 도장 | H9: 1 | I9: =H9 -> 1 | K9: EA | L9: Munsell No. 5Y 9/1.5(상아색) | M9: 43889 | N9: 43902
D10: 가공품 | E10: BCR BLOCK | F10: 60*40*30 ; AL6061 ; W-ANO | H10: 2 | I10: =H10 -> 2 | K10: EA | M10: 43889 | N10: 43903
D11: 가공품 | E11: BCR SHAFT_01 | F11: 320*Φ12 ; SUS 연마봉 | H11: 2 | I11: =H11 -> 2 | K11: EA | M11: 43889 | N11: 43903
D12: 가공품 | E12: LIFTER LINEAR BUSH BKT | F12: 1745*65_5t ; SS41 ; 도장 | H12: 4 | I12: =H12 -> 4 | K12: EA | L12: Munsell No. 5Y 9/1.5(상아색) | M12: 43889 | N12: 43902
D13: 가공품 | E13: LIFTER_BUSH CONNECTOR | F13: 85*60_10t ; AL6061 ; W-ANO | H13: 4 | I13: =H13 -> 4 | K13: EA | M13: 43889 | N13: 43903
D14: 가공품 | E14: LIFT GUIDE BLOCK_01 | F14: 104*60*12 ; AL6061 ; W-ANO | H14: 4 | I14: =H14 -> 4 | K14: EA | M14: 43889 | N14: 43903
D15: 가공품 | E15: STK MAIN FRAME | F15: 2520*700*2675;4080PROFILE | H15: 1 | I15: =H15 -> 1 | K15: EA | M15: 43889 | N15: 43907
D16: 가공품 | E16: STK DOOR | F16: 1136*676*20;2020PROFILE | H16: 2 | I16: =H16 -> 2 | K16: EA | M16: 43889 | N16: 43907
D17: 가공품 | E17: STOPPER | F17: Ф30*30 ; 우레탄 | H17: 4 | I17: =H17 -> 4 | K17: EA | M17: 43889 | N17: 43903
D18: 가공품 | E18: FOOT BASE_01 | F18: 180*180_15t ; SS40 ; 크롬도금 | H18: 4 | I18: =H18 -> 4 | K18: EA | M18: 43889 | N18: 43903
D19: 가공품 | E19: FOOT BASE_02 | F19: 120*120_8t ; STS304 | H19: 6 | I19: =H19 -> 6 | K19: EA | M19: 43889 | N19: 43902
D20: 가공품 | E20: FOOT BASE_03 | F20: 160*150_15t ; SS40 ; 크롬도금 | H20: 2 | I20: =H20 -> 2 | K20: EA | M20: 43889 | N20: 43903
D21: 가공품 | E21: PIO HIGH BKT_02 | F21: 70*54*30_2t ; SS41 ; 도장 | H21: 1 | I21: =H21 -> 1 | K21: EA | L21: Munsell No. 5Y 9/1.5(상아색) | M21: 43889 | N21: 43902
D22: 가공품 | E22: STK PIO SENSOR BK_01 | F22: 120*34*2;SS41;도장 | H22: 1 | I22: =H22 -> 1 | K22: EA | L22: Munsell No. 5Y 9/1.5(상아색) | M22: 43889 | N22: 43902
D23: 가공품 | E23: FREE ROLLER BK_01 | F23: 45*195*3;STS304;POLISHING | H23: 1 | I23: =H23 -> 1 | K23: EA | M23: 43889 | N23: 43902
D24: 가공품 | E24: FREE ROLLER BK_02 | F24: 45*195*3;STS304;POLISHING | H24: 1 | I24: =H24 -> 1 | K24: EA | M24: 43889 | N24: 43902
D25: 가공품 | E25: FREE ROLLER BK_03 | F25: 45*205*3;STS304;POLISHING | H25: 3 | I25: =H25 -> 3 | K25: EA | M25: 43889 | N25: 43902
D26: 가공품 | E26: FREE ROLLER BK_04 | F26: 45*205*3;STS304;POLISHING | H26: 3 | I26: =H26 -> 3 | K26: EA | M26: 43889 | N26: 43902
D27: 가공품 | E27: EMS BK_01 | F27: 170*100*3.2;SS41;도장 | H27: 1 | I27: =H27 -> 1 | K27: EA | L27: Munsell No. 5Y 9/1.5(상아색) | M27: 43889 | N27: 43902
D28: 가공품 | E28: SHUTTLE EMS COVER | F28: 100*95*62 ; SS41 ; 도장 | H28: 1 | I28: =H28 -> 1 | K28: EA | L28: Munsell No. 5Y 9/1.5(상아색) | M28: 43889 | N28: 43902
D30: 구매품 | E30: LEVELING FOOT | F30: A-M-16-180L | G30: AUTO CFT | H30: 6 | I30: =H30 -> 6 | K30: EA | M30: 43889 | N30: 43907
D31: 구매품 | E31: CASTER | F31: ACMM-75SF | G31: AUTO CFT | H31: 6 | I31: =H31 -> 6 | K31: EA | M31: 43889 | N31: 43907
D32: 구매품 | E32: PIO SENSOR | F32: DMS-HB1-V | G32: HOKUYO | H32: 2 | I32: =H32 -> 2 | K32: EA | M32: 43887 | N32: 43903
D33: 구매품 | E33: BALL BUSH | F33: WBAS-20G6-1965-M6x200-100 | G33: WONST | H33: 4 | I33: =H33 -> 4 | K33: EA | M33: 43887 | N33: 43903
D34: 구매품 | E34: LINEAR MOTION SHAFT | F34: CSOW 20UU | G34: WONST | H34: 4 | I34: =H34 -> 4 | K34: EA | M34: 43887 | N34: 43903
D35: 구매품 | E35: SHAFT GUIDE | F35: S-STU20X50 | G35: WONST | H35: 32 | I35: =H35 -> 32 | K35: EA | M35: 43887 | N35: 43903
D36: 구매품 | E36: NIPPLE | F36: GPAS6A | G36: MISUMI | H36: 4 | I36: =H36 -> 4 | K36: EA | M36: 43887 | N36: 43903
D37: 구매품 | E37: EMS SWITCH COVER | F37: A22B-KG2-YS | G37: SAFECT | H37: 1 | I37: =H37 -> 1 | K37: EA | M37: 43887 | N37: 43903
D38: 구매품 | E38: EMS SWITCH | F38: A22E-M-01-EMS | G38: OMRON | H38: 1 | I38: =H38 -> 1 | K38: EA | M38: 43887 | N38: 43903
D39: 구매품 | E39: SAFETY LOCK | F39: D4SL-NSK10-LK | G39: OMRON | H39: 2 | I39: =H39 -> 2 | K39: EA | M39: 43887 | N39: 43915
D40: 구매품 | E40: SAFETY LOCK | F40: D4SL-N4NFG-D | G40: OMRON | H40: 2 | I40: =H40 -> 2 | K40: EA | M40: 43887 | N40: 43915
D41: 구매품 | E41: SAFETY LOCK KEY | F41: D4SL-NK1G | G41: OMRON | H41: 2 | I41: =H41 -> 2 | K41: EA | M41: 43887 | N41: 43915
C44: STK ROBOT UNIT | D44: 가공품 | E44: STK ROBOT PLATE_01 | F44: 1780*240*15;AL6061;W-ANO | H44: 2 | I44: =H44 -> 2 | K44: EA | M44: 43889 | N44: 43903
...

Sheet Sheet2
B2: Project Code | C2: Project 명 | D2: Project Plan (업무 Scope : GSI 설비 입고 후 I/O Check까지)
D3: 설계 | F3: 구매 | H3: 제작 | J3: 출하 | L3: 셋업 | N3: 안정화
D4: 시작 | E4: 종료 | F4: 시작 | G4: 종료 | H4: 시작 | I4: 종료 | J4: 시작 | K4: 종료 | L4: 시작 | M4: 종료 | N4: 시작 | O4: 종료
B5: [SDI] OHV 상공물류 자동화(천진) | D5: 43857 | E5: 43878 | F5: 43878 | G5: 43900 | H5: 43896 | I5: 43917 | J5: 43918 | K5: 43920 | L5: 43920 | M5: 43923
B7: Project | C7: 설계 | F7: 구매 / 가공 | K7: 제작 진행률 | L7: 비고
F8: 발주 | I8: 입고
C9: 총 설계 수 | D9: 총 설계 완료 수 | E9: 설계 진행율 | F9: 발주 필요 수 | G9: 발주 완료 수 | H9: 발주 완료율 | I9: 입고 완료 수 | J9: 입고 완료율
B10: [SDI] OHV 상공물류 자동화(천진) | C10: =D44 -> 35 | D10: =COUNTIF(F13:F43,"100%") -> 25 | E10: =F44 -> 0.96935484 | F10: =E44 -> 63 | G10: =COUNTIF(G13:G43,"100%") -> 22 | H10: =G44 -> 0.76129032 | I10: =COUNTIF(H13:H43,"100%") -> 0 | J10: =H44 -> 0 | K10: =I44 -> 0
B12: Module | C12: Unit | D12: Unit | E12: 제작 수량 | F12: 설계완료율 | G12: 발주완료율 | H12: 입고완료율 | I12: 세부 완료율 | J12: 제작 완료 TTL | K12: 제작 Issue
B13: Can용 Station | C13: Lifter | D13: Frame & Cover | E13: 1 | F13: 1 | G13: 1 | H13: 0 | I13: 0 | J13: =AVERAGE(I13:I16) -> 0
D14: Z-Axis Robot | E14: 1 | F14: 1 | G14: 1 | H14: 0 | I14: 0
D15: Diverter | E15: 2 | F15: 1 | G15: 1 | H15: 0 | I15: 0
D16: BCR & Sensor | E16: 2 | F16: 1 | G16: 1 | H16: 0 | I16: 0
C17: Movement | D17: 1단 Diverter | E17: 1 | F17: 1 | G17: 1 | H17: 0 | I17: 0 | J17: =AVERAGE(I17:I19) -> 0
D18: 2단 Diverter | E18: 1 | F18: 1 | G18: 1 | H18: 0 | I18: 0
D19: Belt Conveyor | E19: 2 | F19: 1 | G19: 1 | H19: 0 | I19: 0
D20: BCR & Sensor | E20: 1 | F20: 1 | G20: 1 | H20: 0 | I20: 0 | J20: =AVERAGE(I20:I20) -> 0
C21: 전장 | D21: 전장 Box | E21: 1 | F21: 0.8 | G21: 0.4 | H21: 0 | I21: 0 | J21: =I21 -> 0
B22: Standard Station | C22: Lifter | D22: Frame & Cover | E22: 1 | F22: 1 | G22: 1 | H22: 0 | I22: 0 | J22: =AVERAGE(I22:I26) -> 0 | K22: 3/4 15:00 이관용 차장의 Concept 변경 검토 요청에 의한 제작 및 발주 진행 보류 (3/5 오전중 Concept 확정 Confirm 예정)
D23: Z-Axis Robot | E23: 1 | F23: 1 | G23: 1 | H23: 0 | I23: 0
D24: Belt Conveyor | E24: 1 | F24: 1 | G24: 1 | H24: 0 | I24: 0
D25: Diverter | E25: 2 | F25: 1 | G25: 1 | H25: 0 | I25: 0
D26: BCR & Sensor | E26: 3 | F26: 1 | G26: 1 | H26: 0 | I26: 0
C27: Rack | D27: Frame & Cover | E27: 1 | F27: 1 | G27: 1 | H27: 0 | I27: 0 | J27: =AVERAGE(I27:I29) -> 0
D28: Roller Conveyor | E28: 8 | F28: 1 | G28: 1 | H28: 0 | I28: 0
D29: BCR & Sensor | E29: 4 | F29: 1 | G29: 1 | H29: 0 | I29: 0
C30: Shuttle | D30: Frame & Cover | E30: 1 | F30: 1 | G30: 1 | H30: 0 | I30: 0 | J30: =AVERAGE(I30:I31) -> 0
D31: Diverter | E31: 10 | F31: 1 | G31: 1 | H31: 0 | I31: 0
C32: 전장 | D32: 전장 Box | E32: 1 | F32: 0.8 | G32: 0.4 | H32: 0 | I32: 0 | J32: =I32 -> 0
B33: STK Lifter | C33: Lifter | D33: Frame & Cover | E33: 1 | F33: 1 | G33: 1 | H33: 0 | I33: 0 | J33: =AVERAGE(I33:I36) -> 0
D34: Z-Axis Robot | E34: 2 | F34: 1 | G34: 1 | H34: 0 | I34: 0
D35: Belt Conveyor | E35: 2 | F35: 1 | G35: 1 | H35: 0 | I35: 0
D36: BCR & Sensor | E36: 2 | F36: 1 | G36: 1 | H36: 0 | I36: 0
C37: 전장 | D37: 전장 Box | E37: 1 | F37: 0.8 | G37: 0.4 | H37: 0 | I37: 0 | J37: =I37 -> 0
B38: MTL | C38: Lifter | D38: Frame & Cover | E38: 1 | F38: 0.9 | G38: 0 | H38: 0 | I38: 0 | J38: =AVERAGE(I38:I42) -> 0
D39: Vehicle Rail | E39: 2 | F39: 1 | G39: 0 | H39: 0 | I39: 0
D40: Chain | E40: 4 | F40: 1 | G40: 0 | H40: 0 | I40: 0
D41: Free Conveyor | E41: 1 | F41: 1 | G41: 0 | H41: 0 | I41: 0
D42: Sensor | E42: 1 | F42: 0.95 | G42: 0 | H42: 0 | I42: 0
C43: 전장 | D43: 전장 Box | E43: 1 | F43: 0.8 | G43: 0.4 | H43: 0 | I43: 0 | J43: =I43 -> 0
...

Sheet Sheet4
B1: 입고일자 (예상일자)
B2: 43868
B3: 43874
B4: 43874
B5: 43878
B6: 43878
B7: 43879
B8: 43879
B9: 43879
B10: 43880
B11: 43880
B12: 43881
B13: 43881
... B1304: 43921
