Workbook
Name _2F35000_: #REF!
Name _90060_C군_CP_LOADER_SESL_1_2호기: '[1]90060'!#REF!
Name _90060_C군_CP_LOADER_SESL_1_2호기_2: '[1]90060'!#REF!
Name _F90000: #REF!
Name _F99999: #REF!
Name _Guide_film: '[1]90060'!#REF!
Name aaa: #REF!
Name aaa_2: #REF!
Name ASA: #REF!
Name ASA_2: #REF!
Name b: #REF!
Name B_2: #REF!
Name ccc: #REF!
Name ccc_2: #REF!
Name ddd: #REF!
Name ddd_2: #REF!
Name dfdf: #REF!
Name dfdf_2: #REF!
Name end_2: #REF!
Name Excel_BuiltIn_Criteria: #REF!
Name Excel_BuiltIn_Criteria_2: #REF!
Name Excel_BuiltIn_Database: #REF!
Name Excel_BuiltIn_Database_2: #REF!
Name Excel_BuiltIn_Print_Area: #REF!
Name Excel_BuiltIn_Print_Area_2: #REF!
Name Excel_BuiltIn_Print_Titles: #REF!
Name Excel_BuiltIn_Print_Titles_2: #REF!
Name mmmm: #REF!
Name mmmm_2: #REF!
Name NH: #REF!
Name NH_2: #REF!
Name PRIN_TITLES: #REF!
Name PRINT_AREA_MI: #REF!
Name PRINT_AREA_MI_2: #REF!
Name PRINT_TITLES_MI: #REF!
Name PRINT_TITLES_MI_2: #REF!
Name report: #REF!
Name report_2: #REF!
Name 기준: '[2]AQL(0.65)'!$D$2:$G$6
Name ㄹ４４０: #REF!
Name ㄹ４４０_2: #REF!
Name 업체별미입고품수: IFERROR(OFFSET(#REF!,0,0,COUNTIF(#REF!,">0"),1),0)
Name 업체별발주품수: IFERROR(OFFSET(#REF!,0,0,COUNTIF(#REF!,">0"),1),0)
Name 업체별입고율: IFERROR(OFFSET(#REF!,0,0,COUNTIF(#REF!,">0"),1),0)
Name 업체별입고품수: IFERROR(OFFSET(#REF!,0,0,COUNTIF(#REF!,">0"),1),0)
Name 업체이름: IFERROR(OFFSET(#REF!,0,0,COUNTIF(#REF!,">0"),1),0)
Name 첨부2: #REF!
Name 첨부2_2: #REF!
Name 프로젝트별발주품수: IFERROR(OFFSET(#REF!,0,0,COUNTIF(#REF!,">0"),1),0)
Name 프로젝트별입고율: IFERROR(OFFSET(#REF!,0,0,COUNTIF(#REF!,">0"),1),0)
Name 프로젝트별입고품수: IFERROR(OFFSET(#REF!,0,0,COUNTIF(#REF!,">0"),1),0)
Name 프로젝트이름: IFERROR(OFFSET(#REF!,0,0,COUNTIF(#REF!,">0"),1),0)

Sheet PJT 일정관리
D2: GSI_PJT_Master_Plan
D5: Activity | E5: 세부 내용 | H5: 일정 | L5: JAN | AQ5: FEB | BT5: MAR | CY5: APR | EC5: MAY | FH5: JUN | GL5: JUL | HQ5: AUG | IV5: SEP
H6: 시작 | I6: 종료 | J6: Day | L6: 5W | P6: 1W | W6: 2W | AD6: 3W | AK6: 4W | AR6: 1W | AY6: 2W | BF6: 3W | BM6: 4W | BT6: 1W | CA6: 2W | CH6: 3W | CO6: 4W | CV6: 1W | DC6: 2W | DJ6: 3W | DQ6: 4W | DX6: 5W | EE6: 1W | EL6: 2W | ES6: 3W | EZ6: 4W | FG6: 1W | FN6: 2W | FU6: 3W | GB6: 4W | GI6: 5W | GP6: 1W | GW6: 2W | HD6: 3W | HK6: 4W | HR6: 1W | HY6: 2W | IF6: 3W | IM6: 4W | IT6: 5W | JA6: 1W | JH6: 2W | JO6: 3W
L7: 2 | N7: 4 | P7: 6 | R7: 8 | T7: 10 | V7: 12 | X7: 14 | Z7: 16 | AB7: 18 | AD7: 20 | AF7: 22 | AH7: 24 | AJ7: 26 | AL7: 28 | AN7: 31 | AQ7: 2 | AS7: 4 | AU7: 6 | AW7: 8 | AY7: 10 | BA7: 12 | BC7: 14 | BE7: 16 | BG7: 18 | BI7: 20 | BK7: 22 | BM7: 24 | BO7: 26 | BQ7: 29 | BT7: 2 | BV7: 4 | BX7: 6 | BZ7: 8 | CB7: 10 | CD7: 12 | CF7: 14 | CH7: 16 | CJ7: 18 | CL7: 20 | CN7: 22 | CP7: 24 | CR7: 26 | CT7: 28 | CV7: 31 | CY7: 2 | DA7: 4 | DC7: 6 | DE7: 8 | DG7: 10 | DI7: 12 | DK7: 14 | DM7: 16 | DO7: 18 | DQ7: 20 | DS7: 22 | DU7: 24 | DW7: 26 | DY7: 28 | EA7: 30 | EC7: 2 | EE7: 4 | EG7: 6 | EI7: 8 | EK7: 10 | EM7: 12 | EO7: 14 | EQ7: 16 | ES7: 18 | EU7: 20 | EW7: 22 | EY7: 24 | FA7: 26 | FC7: 28 | FE7: 31 | FH7: 2 | FJ7: 4 | FL7: 6 | FN7: 8 | FP7: 10 | FR7: 12 | FT7: 14 | FV7: 16 | FX7: 18 | FZ7: 20 | GB7: 22 | GD7: 24 | GF7: 26 | GH7: 28 | GJ7: 30 | GL7: 2 | GN7: 4 | GP7: 6 | GR7: 8 | GT7: 10 | GV7: 12 | GX7: 14 | GZ7: 16 | HB7: 18 | HD7: 20 | HF7: 22 | HH7: 24 | HJ7: 26 | HL7: 28 | HN7: 31 | HQ7: 2 | HS7: 4 | HU7: 6 | HW7: 8 | HY7: 10 | IA7: 12 | IC7: 14 | IE7: 16 | IG7: 18 | II7: 20 | IK7: 22 | IM7: 24 | IO7: 26 | IQ7: 28 | IS7: 31 | IV7: 2 | IX7: 4 | IZ7: 6 | JB7: 8 | JD7: 10 | JF7: 12 | JH7: 14 | JJ7: 16 | JL7: 18 | JN7: 20 | JP7: 22 | JR7: 24 | JT7: 26
L8: 43831 | M8: 43832 | N8: 43833 | O8: 43834 | P8: 43835 | Q8: 43836 | R8: 43837 | S8: 43838 | T8: 43839 | U8: 43840 | V8: 43841 | W8: 43842 | X8: 43843 | Y8: 43844 | Z8: 43845 | AA8: 43846 | AB8: 43847 | AC8: 43848 | AD8: 43849 | AE8: 43850 | AF8: 43851 | AG8: 43852 | AH8: 43853 | AI8: 43854 | AJ8: 43855 | AK8: 43856 | AL8: 43857 | AM8: 43858 | AN8: 43859 | AO8: 43860 | AP8: 43861 | AQ8: 43862 | AR8: 43863 | AS8: 43864 | AT8: 43865 | AU8: 43866 | AV8: 43867 | AW8: 43868 | AX8: 43869 | AY8: 43870 | AZ8: 43871 | BA8: 43872 | BB8: 43873 | BC8: 43874 | BD8: 43875 | BE8: 43876 | BF8: 43877 | BG8: 43878 | BH8: 43879 | BI8: 43880 | BJ8: 43881 | BK8: 43882 | BL8: 43883 | BM8: 43884 | BN8: 43885 | BO8: 43886 | BP8: 43887 | BQ8: 43888 | BR8: 43889 | BS8: 43890 | BT8: 43891 | BU8: 43892 | BV8: 43893 | BW8: 43894 | BX8: 43895 | BY8: 43896 | BZ8: 43897 | CA8: 43898 | CB8: 43899 | CC8: 43900 | CD8: 43901 | CE8: 43902 | CF8: 43903 | CG8: 43904 | CH8: 43905 | CI8: 43906 | CJ8: 43907 | CK8: 43908 | CL8: 43909 | CM8: 43910 | CN8: 43911 | CO8: 43912 | CP8: 43913 | CQ8: 43914 | CR8: 43915 | CS8: 43916 | CT8: 43917 | CU8: 43918 | CV8: 43919 | CW8: 43920 | CX8: 43921 | CY8: 43922 | CZ8: 43923 | DA8: 43924 | DB8: 43925 | DC8: 43926 | DD8: 43927 | DE8: 43928 | DF8: 43929 | DG8: 43930 | DH8: 43931 | DI8: 43932 | DJ8: 43933 | DK8: 43934 | DL8: 43935 | DM8: 43936 | DN8: 43937 | DO8: 43938 | DP8: 43939 | DQ8: 43940 | DR8: 43941 | DS8: 43942 | DT8: 43943 | DU8: 43944 | DV8: 43945 | DW8: 43946 | DX8: 43947 | DY8: 43948 | DZ8: 43949 | EA8: 43950 | EB8: 43951 | EC8: 43952 | ED8: 43953 | EE8: 43954 | EF8: 43955 | EG8: 43956 | EH8: 43957 | EI8: 43958 | EJ8: 43959 | EK8: 43960 | EL8: 43961 | EM8: 43962 | EN8: 43963 | EO8: 43964 | EP8: 43965 | EQ8: 43966 | ER8: 43967 | ES8: 43968 | ET8: 43969 | EU8: 43970 | EV8: 43971 | EW8: 43972 | EX8: 43973 | EY8: 43974 | EZ8: 43975 | FA8: 43976 | FB8: 43977 | FC8: 43978 | FD8: 43979 | FE8: 43980 | FF8: 43981 | FG8: 43982 | FH8: 43983 | FI8: 43984 | FJ8: 43985 | FK8: 43986 | FL8: 43987 | FM8: 43988 | FN8: 43989 | FO8: 43990 | FP8: 43991 | FQ8: 43992 | FR8: 43993 | FS8: 43994 | FT8: 43995 | FU8: 43996 | FV8: 43997 | FW8: 43998 | FX8: 43999 | FY8: 44000 | FZ8: 44001 | GA8: 44002 | GB8: 44003 | GC8: 44004 | GD8: 44005 | GE8: 44006 | GF8: 44007 | GG8: 44008 | GH8: 44009 | GI8: 44010 | GJ8: 44011 | GK8: 44012 | GL8: 44013 | GM8: 44014 | GN8: 44015 | GO8: 44016 | GP8: 44017 | GQ8: 44018 | GR8: 44019 | GS8: 44020 | GT8: 44021 | GU8: 44022 | GV8: 44023 | GW8: 44024 | GX8: 44025 | GY8: 44026 | GZ8: 44027 | HA8: 44028 | HB8: 44029 | HC8: 44030 | HD8: 44031 | HE8: 44032 | HF8: 44033 | HG8: 44034 | HH8: 44035 | HI8: 44036 | HJ8: 44037 | HK8: 44038 | HL8: 44039 | HM8: 44040 | HN8: 44041 | HO8: 44042 | HP8: 44043 | HQ8: 44044 | HR8: 44045 | HS8: 44046 | HT8: 44047 | HU8: 44048 | HV8: 44049 | HW8: 44050 | HX8: 44051 | HY8: 44052 | HZ8: 44053 | IA8: 44054 | IB8: 44055 | IC8: 44056 | ID8: 44057 | IE8: 44058 | IF8: 44059 | IG8: 44060 | IH8: 44061 | II8: 44062 | IJ8: 44063 | IK8: 44064 | IL8: 44065 | IM8: 44066 | IN8: 44067 | IO8: 44068 | IP8: 44069 | IQ8: 44070 | IR8: 44071 | IS8: 44072 | IT8: 44073 | IU8: 44074 | IV8: 44075 | IW8: 44076 | IX8: 44077 | IY8: 44078 | IZ8: 44079 | JA8: 44080 | JB8: 44081 | JC8: 44082 | JD8: 44083 | JE8: 44084 | JF8: 44085 | JG8: 44086 | JH8: 44087 | JI8: 44088 | JJ8: 44089 | JK8: 44090 | JL8: 44091 | JM8: 44092 | JN8: 44093 | JO8: 44094 | JP8: 44095 | JQ8: 44096 | JR8: 44097 | JS8: 44098 | JT8: 44099 | JU8: 44100
B9: 101 | D9: Low Cost OHV | E9: 전체 일정 | G9: 전체 | H9: 43838 | I9: 44074 | J9: =IF((I9-H9)=0,"",I9-H9+1) -> 237
B10: 101 | G10: 설계 및 구매 | H10: 43838 | I10: 43890 | J10: =IF((I10-H10)=0,"",I10-H10+1) -> 53
B11: 101 | G11: 제작 및 출하 | H11: 43895 | I11: 43980 | J11: =IF((I11-H11)=0,"",I11-H11+1) -> 86
B12: 101 | G12: 출하 및 운송 | H12: 43980 | I12: 44007 | J12: =IF((I12-H12)=0,"",I12-H12+1) -> 28
B13: 101 | G13: 셋업 | H13: 43998 | I13: 44043 | J13: =IF((I13-H13)=0,"",I13-H13+1) -> 46
B14: 101 | G14: 안정화 | H14: 44044 | I14: 44074 | J14: =IF((I14-H14)=0,"",I14-H14+1) -> 31
B15: 101 | E15: 세부 일정 | F15: Vehicle | G15: 발주/자재 입고 | H15: 43876 | I15: 43966 | J15: =IF((I15-H15)=0,"",I15-H15+1) -> 91
B16: 101 | G16: 기구 조립 | H16: 43906 | I16: 43922 | J16: =IF((I16-H16)=0,"",I16-H16+1) -> 17
B17: 101 | G17: 전장 조립 | H17: 43911 | I17: 43922 | J17: =IF((I17-H17)=0,"",I17-H17+1) -> 12
B18: 101 | F18: Rail & 설치자자 | G18: 발주/자재 입고 | H18: 43876 | I18: 43914 | J18: =IF((I18-H18)=0,"",I18-H18+1) -> 39
B19: 101 | G19: 기구 조립 | H19: 43906 | I19: 43922 | J19: =IF((I19-H19)=0,"",I19-H19+1) -> 17
B20: 101 | G20: 전장 조립 | H20: 43911 | I20: 43922 | J20: =IF((I20-H20)=0,"",I20-H20+1) -> 12
B21: 101 | F21: Stocker Lifter | G21: 발주/자재 입고 | H21: 43887 | I21: 43921 | J21: =IF((I21-H21)=0,"",I21-H21+1) -> 35
B22: 101 | G22: 기구 조립 | H22: 43902 | I22: 43921 | J22: =IF((I22-H22)=0,"",I22-H22+1) -> 20
B23: 101 | G23: 전장 조립 | H23: 43904 | I23: 43921 | J23: =IF((I23-H23)=0,"",I23-H23+1) -> 18
B24: 101 | F24: 작업자 Station | G24: 발주/자재 입고 | H24: 43887 | I24: 43921 | J24: =IF((I24-H24)=0,"",I24-H24+1) -> 35
B25: 101 | G25: 기구 조립 | H25: 43902 | I25: 43921 | J25: =IF((I25-H25)=0,"",I25-H25+1) -> 20
B26: 101 | G26: 전장 조립 | H26: 43904 | I26: 43921 | J26: =IF((I26-H26)=0,"",I26-H26+1) -> 18
B27: 101 | F27: CAN Station | G27: 발주/자재 입고 | H27: 43887 | I27: 43921 | J27: =IF((I27-H27)=0,"",I27-H27+1) -> 35
B28: 101 | G28: 기구 조립 | H28: 43902 | I28: 43921 | J28: =IF((I28-H28)=0,"",I28-H28+1) -> 20
B29: 101 | G29: 전장 조립 | H29: 43904 | I29: 43921 | J29: =IF((I29-H29)=0,"",I29-H29+1) -> 18
B30: 101 | F30: MTL | G30: 발주/자재 입고 | H30: 43887 | I30: 43915 | J30: =IF((I30-H30)=0,"",I30-H30+1) -> 29
B31: 101 | G31: 기구 조립 | H31: 43902 | I31: 43918 | J31: =IF((I31-H31)=0,"",I31-H31+1) -> 17
B32: 101 | G32: 전장 조립 | H32: 43904 | I32: 43919 | J32: =IF((I32-H32)=0,"",I32-H32+1) -> 16
B33: 101 | F33: Docking 및 Turn On | H33: 43922 | I33: 43923 | J33: =IF((I33-H33)=0,"",I33-H33+1) -> 2
B34: 101 | F34: I/O Check | H34: 43923 | I34: 43927 | J34: =IF((I34-H34)=0,"",I34-H34+1) -> 5
B35: 101 | F35: Test Run 및 CE 및 Qual. | H35: =H36 -> 43928 | I35: =I46 -> 43949 | J35: =IF((I35-H35)=0,"",I35-H35+1) -> 22
B36: 101 | F36: 단동 Test Run 및 정밀 Setting | G36: Vehicle | H36: 43928 | I36: 43938 | J36: =IF((I36-H36)=0,"",I36-H36+1) -> 11
B37: 101 | G37: MTL Station | H37: 43928 | I37: 43938 | J37: =IF((I37-H37)=0,"",I37-H37+1) -> 11
B38: 101 | G38: CAN Station | H38: 43928 | I38: 43938 | J38: =IF((I38-H38)=0,"",I38-H38+1) -> 11
B39: 101 | G39: 작업자 Station | H39: 43928 | I39: 43938 | J39: =IF((I39-H39)=0,"",I39-H39+1) -> 11
B40: 101 | G40: STK Station | H40: 43928 | I40: 43938 | J40: =IF((I40-H40)=0,"",I40-H40+1) -> 11
B41: 101 | F41: Vehicle | G41: 주행 Test 및 분석 | H41: 43928 | I41: 43934 | J41: =IF((I41-H41)=0,"",I41-H41+1) -> 7
B42: 101 | G42: OCS 연동 | H42: 43935 | I42: 43938 | J42: =IF((I42-H42)=0,"",I42-H42+1) -> 4
B43: 101 | F43: Qual. | G43: CE 인증 | H43: 43942 | I43: 43942 | J43: =IF((I43-H43)=0,"",I43-H43+1)
B44: 101 | G44: 8계통 Qual. | H44: 43948 | I44: 43948 | J44: =IF((I44-H44)=0,"",I44-H44+1)
B45: 101 | G45: 환경안전 Qual. | H45: 43950 | I45: 43950 | J45: =IF((I45-H45)=0,"",I45-H45+1)
B46: 101 | F46: 미진사항 및 지적사항 조치 | H46: 43931 | I46: 43949 | J46: =IF((I46-H46)=0,"",I46-H46+1) -> 19
B47: 101 | F47: 전체 물류 Test Run (제품 In/Out Test 포함) | H47: 43950 | I47: 43976 | J47: =IF((I47-H47)=0,"",I47-H47+1) -> 27
B48: 101 | E48: Software 개발 | F48: Vehicle Test bed | G48: 동기제어 직선주행 | H48: 43887 | I48: 43894 | J48: =IF((I48-H48)=0,"",I48-H48+1) -> 8
B49: 101 | G49: 직선주행 그래프 분석 | H49: 43895 | I49: 43901 | J49: =IF((I49-H49)=0,"",I49-H49+1) -> 7
B50: 101 | G50: 윈도우OS로 포팅 | H50: 43902 | I50: 43909 | J50: =IF((I50-H50)=0,"",I50-H50+1) -> 8
B51: 101 | G51: 바코드 카메라 결합 주행 | H51: 43910 | I51: 43917 | J51: =IF((I51-H51)=0,"",I51-H51+1) -> 8
B52: 101 | F52: Vehicle 소프트웨어 개발 | G52: System 구조 | H52: 43862 | I52: 43873 | J52: =IF((I52-H52)=0,"",I52-H52+1) -> 12
B53: 101 | G53: UI 개발 | H53: 43874 | I53: 43927 | J53: =IF((I53-H53)=0,"",I53-H53+1) -> 54
B54: 101 | G54: OCS 통신 | H54: 43910 | I54: 43927 | J54: =IF((I54-H54)=0,"",I54-H54+1) -> 18
B55: 101 | G55: Scheduler | H55: 43874 | I55: 43922 | J55: =IF((I55-H55)=0,"",I55-H55+1) -> 49
B56: 101 | G56: Hardware Control | H56: 43900 | I56: 43922 | J56: =IF((I56-H56)=0,"",I56-H56+1) -> 23
B57: 101 | F57: Vehicle 소프트웨어 통합 | G57: IPC에 소프트웨어 설치 | H57: 43920 | I57: 43924 | J57: =IF((I57-H57)=0,"",I57-H57+1) -> 5
B58: 101 | J58: =IF((I58-H58)=0,"",I58-H58+1)

Sheet 입고율
B2: 구분 | C2: 품목수 | D2: 발주 (완료예상) | E2: 입고완료 | F2: 입고율 | G2: 입고 (완료예상) | H2: 비고
B3: Vehicle&Rail | C3: =COUNTA('Vehicle&Rail'!$G$3:$G$930) -> 233 | D3: =MAX('Vehicle&Rail'!$K$3:$K$930) -> 43895 | E3: =COUNTA('Vehicle&Rail'!$J$3:$J$930) -> 81 | F3: =E3/C3 -> 0.34763948 | G3: =MAX('Vehicle&Rail'!$L$3:$L$930) -> 43957 | H3: DRIVE ROLLER(5/6), STD Code Tape(4/15)
B4: MTL STATION | C4: =COUNTA('MTL STATION'!$H$4:$H$1000) -> 111 | D4: =MAX('MTL STATION'!M4:M1000) -> 43900 | E4: =COUNTA('MTL STATION'!$J$4:$J$1000) -> 0 | F4: =E4/C4 -> 0 | G4: =MAX('MTL STATION'!$N$4:$N$1000) -> 43915 | H4: SAFETY Part(3/25)
B5: CAN STATION | C5: =COUNTA('CAN STATION'!$H$4:$H$1000) -> 408 | D5: =MAX('CAN STATION'!$M$4:$M$1000) -> 43895 | E5: =COUNTA('CAN STATION'!$J$4:$J$1000) -> 0 | F5: =E5/C5 -> 0 | G5: =MAX('CAN STATION'!$N$4:$N$1000) -> 43921 | H5: Reducer(3/31)
B6: 작업자 STATION | C6: =COUNTA('작업자 STATION'!$H$4:$H$1000) -> 397 | D6: =MAX('작업자 STATION'!$M$4:$M$1000) -> 43895 | E6: =COUNTA('작업자 STATION'!$J$4:$J$1000) -> 0 | F6: =E6/C6 -> 0 | G6: =MAX('작업자 STATION'!$N$4:$N$1000) -> 43921 | H6: Reducer(3/31)
B7: STK STATION | C7: =COUNTA('STK STATION'!$H$4:$H$1000) -> 153 | D7: =MAX('STK STATION'!$M$4:$M$1000) -> 43895 | E7: =COUNTA('STK STATION'!$J$4:$J$1000) -> 0 | F7: =E7/C7 -> 0 | G7: =MAXA('STK STATION'!$N$4:$N$1000) -> 43921 | H7: Reducer(3/31)
B8: TTL | C8: =SUM(C3:C7) -> 1302 | D8: =MAX(D3:D7) -> 43900 | E8: =SUM(E3:E7) -> 81 | F8: =SUM(F3:F7)/5 -> 0.069527897 | G8: =MAX(G3:G7) -> 43957

Sheet 자재 입고 Trend
A3: 행 레이블 | B3: 개수 : 입고일자 (예상일자) | F3: 입고일자 | G3: 입고수 | H3: 누적 | I3: 누적점유율
A4: 43868 | B4: 1 | F4: 43868 | G4: 1 | H4: =G4 -> 1 | I4: =H4/$H$33 -> 0.00076745971
A5: 43874 | B5: 2 | F5: 43874 | G5: 2 | H5: =G5+H4 -> 3 | I5: =H5/$H$33 -> 0.0023023791
A6: 43878 | B6: 2 | F6: 43878 | G6: 2 | H6: =G6+H5 -> 5 | I6: =H6/$H$33 -> 0.0038372985
A7: 43879 | B7: 3 | F7: 43879 | G7: 3 | H7: =G7+H6 -> 8 | I7: =H7/$H$33 -> 0.0061396777
A8: 43880 | B8: 2 | F8: 43880 | G8: 2 | H8: =G8+H7 -> 10 | I8: =H8/$H$33 -> 0.0076745971
A9: 43881 | B9: 3 | F9: 43881 | G9: 3 | H9: =G9+H8 -> 13 | I9: =H9/$H$33 -> 0.0099769762
A10: 43885 | B10: 13 | F10: 43885 | G10: 13 | H10: =G10+H9 -> 26 | I10: =H10/$H$33 -> 0.019953952
A11: 43886 | B11: 12 | F11: 43886 | G11: 12 | H11: =G11+H10 -> 38 | I11: =H11/$H$33 -> 0.029163469
A12: 43887 | B12: 7 | F12: 43887 | G12: 7 | H12: =G12+H11 -> 45 | I12: =H12/$H$33 -> 0.034535687
A13: 43888 | B13: 2 | F13: 43888 | G13: 2 | H13: =G13+H12 -> 47 | I13: =H13/$H$33 -> 0.036070606
A14: 43889 | B14: 14 | F14: 43889 | G14: 14 | H14: =G14+H13 -> 61 | I14: =H14/$H$33 -> 0.046815042
A15: 43892 | B15: 4 | F15: 43892 | G15: 4 | H15: =G15+H14 -> 65 | I15: =H15/$H$33 -> 0.049884881
A16: 43893 | B16: 6 | F16: 43893 | G16: 6 | H16: =G16+H15 -> 71 | I16: =H16/$H$33 -> 0.054489639
... A33: 43957 | B33: 3 | F33: 43957 | G33: 3 | H33: =G33+H32 -> 1303 | I33: =H33/$H$33 -> 1
A34: 총합계 | B34: 1303

Sheet 각 부문 담당자
B2: 담당 | C2: 성명 | D2: 직급 | E2: 연락처 | F2: 비고
B3: 과제관리 | C3: 박태희 | D3: 부장 | E3: 010-3593-3723
B4: 기구설계 | C4: 이관용 | D4: 차장 | E4: 010-5453-5197
B5: 전장설계 | C5: 김형태 | D5: 이사 | E5: 010-8893-5938
C6: 김병훈 | D6: 차장 | E6: 010-4146-8079
B7: PC제어 | C7: 나성권 | D7: 차장 | E7: 010-3738-7419 | F7: 구동부 제어
C8: 강석경 | D8: 차장 | E8: 010-8998-8060 | F8: 전체 PC 제어
B9: PLC제어 | C9: 이창기 | D9: 과장 | E9: 010-9484-7495
B10: 제조 | C10: 김민수 | D10: 부장 | E10: 010-6316-7159 | F10: 제작 총괄

Sheet Vehicle&Rail
B2: Project명 | C2: Sub Project명 | D2: 품목구분 | E2: 품명 | F2: 규격 | G2: 원 수량 | H2: 단위 | I2: 제조사명 | J2: 입고수량 | K2: 발주일자 (예상일자) | L2: 입고일자 (예상일자) | M2: 비고
B3: Vehicle&Rail | C3: Vehicle | D3: 가공품 | E3: SPACER | F3: 50*15*0.5;STS304;POLISHING | G3: 12 | H3: EA | J3: 12 | K3: 43875 | L3: 43879
C4: Vehicle | D4: 가공품 | E4: TEST BKT-1 | F4: 308*110*46;STS304;POLISHING | G4: 1 | H4: EA | J4: 1 | K4: 43875 | L4: 43879
C5: Vehicle | D5: 가공품 | E5: TEST BKT-2 | F5: 76*75.5*40;STS304;POLISHING | G5: 1 | H5: EA | J5: 1 | K5: 43875 | L5: 43879
C6: Rail (Curve) | D6: 가공품 | E6: UPPER BASE | F6: 900*806*10;SS41;무전해NI | G6: 5 | H6: EA | K6: 43888 | L6: 43902 | M6: 입고 예정
C7: Rail (Curve) | D7: 가공품 | E7: UPPER BASE | F7: 900*806*10;SS41;무전해NI | G7: 4 | H7: EA | K7: 43888 | L7: 43902 | M7: 입고 예정
C8: Rail (Curve) | D8: 가공품 | E8: UPPER BASE | F8: 806*806*10;SS41;무전해NI | G8: 3 | H8: EA | K8: 43888 | L8: 43902 | M8: 입고 예정
C9: Vehicle | D9: 가공품 | E9: DRIVE ROLLER | F9: D120*35;A6061+PPDI;W-ANO;SHORE′A′95 | G9: 8 | H9: EA | K9: 43889 | L9: 43957 | M9: 발주후 70일
C10: Vehicle | D10: 가공품 | E10: GUIDE ROLLER | F10: D60*21;A6061+PPDI;W-ANO+SHORE′A′95 | G10: 24 | H10: EA | K10: 43889 | L10: 43957 | M10: 발주후 70일
C11: Vehicle | D11: 구매(기구) | E11: BEARING | F11: 6904ZZ | G11: 24 | H11: EA | I11: NSK | J11: 24 | K11: 43881 | L11: 43881
C12: 전장 재료비 | D12: 구매(전장) | E12: Safety Relay | F12: G7SA-2A2B | G12: 4 | H12: EA | I12: OMRON | J12: 4 | K12: 43888 | L12: 43889
C13: Vehicle | D13: 구매(기구) | E13: LM GUIDE | F13: HRW21CR1UU+145L-G22.5 | G13: 1 | H13: EA | I13: THK | J13: 1 | K13: 43875 | L13: 43881
C14: Vehicle | D14: 구매(기구) | E14: CAMFOLLOWER | F14: CF5UU | G14: 1 | H14: EA | I14: THK | J14: 1 | K14: 43875 | L14: 43881
C15: Vehicle | D15: 구매(기구) | E15: LM GUIDE | F15: HRW21CR1UU+145LF-G22.5 | G15: 4 | H15: EA | I15: THK | J15: 4 | K15: 43881 | L15: 43886
C16: Vehicle | D16: 구매(기구) | E16: CAM FOLLOWER | F16: CF5UU | G16: 4 | H16: EA | I16: THK | J16: 4 | K16: 43881 | L16: 43886
C17: Vehicle | D17: 구매(기구) | E17: CAM FOLLOWER | F17: CF5MUU | G17: 4 | H17: EA | I17: THK | J17: 4 | K17: 43881 | L17: 43886
C18: Rail (Curve) | D18: 가공품 | E18: MAIN GUIDE | F18: 493.2*85.1*28;SM45C;H-Cr | G18: 5 | H18: EA | K18: 43880 | L18: 43896 | M18: 입고 예정
C19: Rail (Curve) | D19: 가공품 | E19: ST GUIDE | F19: 700*32.7*28;A6061-T6;W-ANO | G19: 5 | H19: EA | K19: 43880 | L19: 43896 | M19: 입고 예정
C20: Rail (Curve) | D20: 가공품 | E20: CURVE GUIDE | F20: 694.3*518.8*28;A6061-T6;W-ANO | G20: 5 | H20: EA | K20: 43880 | L20: 43896 | M20: 입고 예정
C21: Rail (Curve) | D21: 가공품 | E21: CIRCLE PLATE-1 | F21: 420*420*30;A6061-T6;W-ANO | G21: 5 | H21: EA | K21: 43880 | L21: 43896 | M21: 입고 예정
C22: Rail (Curve) | D22: 가공품 | E22: GUIDE BLOCK | F22: 45*42*3;A6061;W-ANO | G22: 5 | H22: EA | K22: 43880 | L22: 43896 | M22: 입고 예정
C23: Rail (Curve) | D23: 가공품 | E23: CEILING SUPPORT | F23: 190.5*100*43.5;SM45C;H-Cr | G23: 35 | H23: EA | K23: 43880 | L23: 43896 | M23: 입고 예정
C24: Rail (Curve) | D24: 가공품 | E24: LEVEL GUIDE BLOCK | F24: 40*20*20;A6061;W-ANO | G24: 10 | H24: EA | K24: 43880 | L24: 43896 | M24: 입고 예정
C25: Rail (Curve) | D25: 가공품 | E25: SUPPORT BLOCK | F25: 50*30*26;A6061-T6;W-ANO | G25: 5 | H25: EA | K25: 43880 | L25: 43896 | M25: 입고 예정
C26: Rail (Curve) | D26: 가공품 | E26: TAP PLATE-1 | F26: 80*12*6;SS41 | G26: 40 | H26: EA | K26: 43880 | L26: 43896 | M26: 입고 예정
C27: Rail (Curve) | D27: 가공품 | E27: TAP PLATE-2 | F27: 95*16*8;SS41;아연도금(천연색) | G27: 25 | H27: EA | K27: 43880 | L27: 43896 | M27: 입고 예정
C28: Rail (Curve) | D28: 가공품 | E28: TAP PLATE-3 | F28: 40*12*6;SS41 | G28: 20 | H28: EA | K28: 43880 | L28: 43896 | M28: 입고 예정
C29: Rail (Curve) | D29: 가공품 | E29: TAP PLATE-5 | F29: 38*12*6;SS41 | G29: 10 | H29: EA | K29: 43880 | L29: 43896 | M29: 입고 예정
... C102: 설치부자재 (T/B) | D102: 가공품 | E102: TUNBUCKLE BOLT | F102: D16*1062;SM45C;무전해 NI | G102: 172 | H102: EA | K102: 43888 | L102: 43899 | M102: 입고 예정
C103: Vehicle | D103: 가공품 | E103: TURN PLATE | F103: 85.5*20*12;A6061 | G103: 1 | H103: EA | J103: 1 | K103: 43894 | L103: 43894
C104: Vehicle | D104: 가공품 | E104: GUIDE ROLLER BASE-1 | F104: 308*95*10;A6061;B-ANO | G104: 1 | H104: EA | J104: 1 | K104: 43875 | L104: 43889
C105: Vehicle | D105: 가공품 | E105: GUIDE ROLLER BASE-2 | F105: 100*70*15;SM45C;무전해NI | G105: 1 | H105: EA | J105: 1 | K105: 43875 | L105: 43889
C106: Vehicle | D106: 가공품 | E106: ADJUST BLOCK | F106: 45*30*12;SM45C;무전해NI | G106: 1 | H106: EA | J106: 1 | K106: 43875 | L106: 43889
C107: Vehicle | D107: 가공품 | E107: STOPPER BASE | F107: 90*30*30;SM45C;무전해NI | G107: 2 | H107: EA | J107: 2 | K107: 43875 | L107: 43889
C108: Vehicle | D108: 가공품 | E108: STOPPER | F108: D10*6.5;URETHAN;SHORE′A′90(YELLOW) | G108: 2 | H108: EA | J108: 2 | K108: 43875 | L108: 43889
C109: Vehicle | D109: 가공품 | E109: TURN PLATE | F109: 67*20*12;SM45C;무전해NI;HrC55이상 | G109: 1 | H109: EA | J109: 1 | K109: 43875 | L109: 43889
C110: Vehicle | D110: 가공품 | E110: STOPPER | F110: 50*15*10;SM45C;무전해NI;HrC55이상 | G110: 2 | H110: EA | J110: 2 | K110: 43875 | L110: 43889
C111: Vehicle | D111: 가공품 | E111: ROTARY BASE-2 | F111: 95*55*8;A6061;B-ANO | G111: 8 | H111: EA | K111: 43895 | L111: 43901 | M111: 입고 예정
C112: Vehicle | D112: 가공품 | E112: TURN PLATE | F112: 85.5*12*12;SM45C;무전해NI | G112: 4 | H112: EA | K112: 43895 | L112: 43901 | M112: 입고 예정
C113: Vehicle | D113: 구매(기구) | E113: ROTARY SOLENOID | F113: M090064RM | G113: 1 | H113: EA | I113: SHINDENGEN | J113: 1 | K113: 43868 | L113: 43874
C114: Vehicle | D114: 구매(기구) | E114: ROTARY SOLENOID | F114: RM502-2P24 | G114: 1 | H114: EA | I114: SHINDENGEN | J114: 1 | K114: 43868 | L114: 43874
C115: Vehicle | D115: 구매(기구) | E115: ROTARY SOLENOID | F115: M090064RM | G115: 4 | H115: EA | I115: SHINDENGEN | K115: 43895 | L115: 43901 | M115: 입고예정
C116: 설치부자재 (T/B) | D116: 가공품 | E116: 전산나사-2 | F116: D16*161;STS303 | G116: 172 | H116: EA | J116: 172 | K116: 43888 | L116: 43894
C117: 전장 재료비 | D117: 구매(전장) | E117: SERVO DRIVE | F117: DPCANTE-060B080 | G117: 5 | H117: EA | I117: AMC | K117: 43887 | L117: 43896 | M117: 입고예정
C118: 전장 재료비 | D118: 구매(전장) | E118: SHUNT REGULATORS | F118: SRST57 | G118: 3 | H118: EA | I118: AMC | K118: 43887 | L118: 43896 | M118: 입고예정
C119: Vehicle | D119: 구매(기구) | E119: GEAR HEAD | F119: AD064M1-005-P2/KAFQ-06 | G119: 4 | H119: EA | I119: APEX | K119: 43881 | L119: 43903 | M119: 입고예정
C120: 전장 재료비 | D120: 구매(전장) | E120: 산업용PC | F120: UNO-1372G-J | G120: 2 | H120: EA | I120: ADVANTECH | K120: 43887 | L120: 43910 | M120: 입고예정
C121: 전장 재료비 | D121: 구매(전장) | E121: HUB(5port) | F121: EKI-2725 | G121: 2 | H121: EA | I121: ADVENTECH | K121: 43889 | L121: 43957 | M121: 입고예정
C122: 전장 재료비 | D122: 구매(전장) | E122: MC (DC) | F122: MC-18b-DC24V | G122: 1 | H122: EA | I122: LS | J122: 1 | K122: 43887 | L122: 43887
C123: 전장 재료비 | D123: 구매(전장) | E123: CP | F123: GCP-32ANM-5A | G123: 1 | H123: EA | I123: Honeywell | J123: 1 | K123: 43887 | L123: 43887
C124: 전장 재료비 | D124: 구매(전장) | E124: CP | F124: GCP-32ANM-3A | G124: 2 | H124: EA | I124: Honeywell | J124: 2 | K124: 43887 | L124: 43887
C125: 전장 재료비 | D125: 구매(전장) | E125: CP | F125: GCP-32ANM-15A | G125: 2 | H125: EA | I125: Honeywell | J125: 2 | K125: 43887 | L125: 43887
C126: 전장 재료비 | D126: 구매(전장) | E126: MCCB (분전반) | F126: ABS32C-30A-30KA | G126: 1 | H126: EA | I126: LS산전 | J126: 1 | K126: 43887 | L126: 43887
C127: 전장 재료비 | D127: 구매(전장) | E127: CP | F127: GCP-32AN-7A | G127: 1 | H127: EA | I127: HONEYWELL | J127: 1 | K127: 43887 | L127: 43887
C128: 전장 재료비 | D128: Nego | E128: Nego | F128: Nego | G128: 1 | H128: EA | J128: 1 | K128: 43888 | L128: 43889
C129: 전장 재료비 | D129: 구매(전장) | E129: Melody Variation | F129: KSP-42S | G129: 2 | H129: EA | I129: KACON | J129: 2 | K129: 43888 | L129: 43893
C130: 전장 재료비 | D130: 구매(전장) | E130: Relay | F130: S4T-16-202D | G130: 8 | H130: EA | I130: IOLINK | J130: 8 | K130: 43888 | L130: 43893
C131: 전장 재료비 | D131: 구매(전장) | E131: Relay | F131: R2G-24V | G131: 8 | H131: EA | I131: IOLINK | J131: 8 | K131: 43888 | L131: 43893
C132: 전장 재료비 | D132: 구매(전장) | E132: MC | F132: MC-50a(DC24V),단자커버포함 | G132: 4 | H132: EA | I132: LS산전 | J132: 4 | K132: 43888 | L132: 43893
C133: 전장 재료비 | D133: 구매(전장) | E133: SURGE UNIT | F133: US-4(DC24V~48V) | G133: 4 | H133: EA | I133: LS산전 | J133: 4 | K133: 43888 | L133: 43893
C134: 전장 재료비 | D134: 구매(전장) | E134: SAFETY PLC | F134: PNOZ m BO 772100 | G134: 4 | H134: EA | I134: PILZ | J134: 4 | K134: 43893 | L134: 43895
C135: 전장 재료비 | D135: 구매(전장) | E135: SAFETY PLC | F135: m EF Link module(772120) | G135: 4 | H135: EA | I135: PILZ | K135: 43894 | L135: 43903 | M135: 입고 예정
C136: 전장 재료비 | D136: 구매(전장) | E136: BASE | F136: Q38B | G136: 4 | H136: EA | I136: Mitsubishi | K136: 43893 | L136: 43896 | M136: 입고 예정
C137: 전장 재료비 | D137: 구매(전장) | E137: POWER | F137: Q61P(AC) | G137: 4 | H137: EA | I137: Mitsubishi | K137: 43893 | L137: 43896 | M137: 입고 예정
C138: 전장 재료비 | D138: 구매(전장) | E138: CPU | F138: Q06UDVCPU | G138: 4 | H138: EA | I138: Mitsubishi | K138: 43893 | L138: 43896 | M138: 입고 예정
C139: 전장 재료비 | D139: 구매(전장) | E139: ETHERNET | F139: QJ71E71-100 | G139: 4 | H139: EA | I139: Mitsubishi | K139: 43893 | L139: 43896 | M139: 입고 예정
C140: 전장 재료비 | D140: 구매(전장) | E140: MOTION | F140: QD77MS4 | G140: 4 | H140: EA | I140: Mitsubishi | K140: 43893 | L140: 43896 | M140: 입고 예정
C141: 전장 재료비 | D141: 구매(전장) | E141: CC-LINK IE | F141: QJ71GP21-SX | G141: 4 | H141: EA | I141: Mitsubishi | K141: 43893 | L141: 43896 | M141: 입고 예정
C142: 전장 재료비 | D142: 구매(전장) | E142: CC-LINK MASTER | F142: QJ61BT11N | G142: 4 | H142: EA | I142: Mitsubishi | K142: 43893 | L142: 43896 | M142: 입고 예정
C143: 전장 재료비 | D143: 구매(전장) | E143: CC-LINK IE | F143: QJ71GP21-SX | G143: 4 | H143: EA | I143: Mitsubishi | K143: 43893 | L143: 43896 | M143: 입고 예정
C144: 전장 재료비 | D144: 구매(전장) | E144: RS485통신 | F144: QJ71C24N-R4 | G144: 1 | H144: EA | I144: Mitsubishi | K144: 43893 | L144: 43896 | M144: 입고 예정
C145: 전장 재료비 | D145: 구매(전장) | E145: INPUT CARD | F145: AJ65SBTB1-32D | G145: 13 | H145: EA | I145: Mitsubishi | K145: 43893 | L145: 43896 | M145: 입고 예정
C146: 전장 재료비 | D146: 구매(전장) | E146: OUTPUT CARD | F146: AJ65SBTB1-32T | G146: 4 | H146: EA | I146: Mitsubishi | K146: 43893 | L146: 43896 | M146: 입고 예정
... C150: 전장 재료비 | D150: 구매(전장) | E150: TOUCH SCREEN | F150: GT2508-VTBA 220V | G150: 1 | H150: EA | I150: Mitsubishi | K150: 43893 | L150: 43896 | M150: 입고 예정
C151: 전장 재료비 | D151: 구매(전장) | E151: DC-DC Converter | F151: DDR-240C-24(DC48V-DC24V) | G151: 2 | H151: EA | I151: MEAN WELL | J151: 2 | K151: 43888 | L151: 43894
C152: 전장 재료비 | D152: 구매(전장) | E152: DC-DC Converter | F152: DDR-120C-24(DC48V-DC24V) | G152: 2 | H152: EA | I152: MEAN WELL | J152: 2 | K152: 43888 | L152: 43894
C153: 전장 재료비 | D153: 구매(전장) | E153: WIFI MODULE | F153: AWK-1137C | G153: 2 | H153: EA | I153: MOXA | J153: 2 | K153: 43865 | L153: 43868
C154: 전장 재료비 | D154: 구매(전장) | E154: WIRELESS AP | F154: AWK-3131A-EU | G154: 2 | H154: EA | I154: MOXA | J154: 2 | K154: 43887 | L154: 43893
C155: 전장 재료비 | D155: 구매(전장) | E155: WIFI MODULE | F155: AWK-1137C | G155: 2 | H155: EA | I155: MOXA | J155: 2 | K155: 43889 | L155: 43894
C156: Vehicle | D156: 구매(기구) | E156: LASER SENSOR | F156: UBG-05LN | G156: 2 | H156: EA | I156: HOKUYO | J156: 2 | K156: 43881 | L156: 43885
C157: Vehicle | D157: 구매(기구) | E157: OPTICAL DATA TRANSMISSION DEVICE | F157: DMS-HA1-V | G157: 2 | H157: EA | I157: HOKUYO | J157: 2 | K157: 43881 | L157: 43885
C158: Vehicle | D158: 구매(기구) | E158: SNAP RING | F158: S15(축용) | G158: 24 | H158: EA | I158: STD | J158: 24 | K158: 43881 | L158: 43886
C159: Vehicle | D159: 구매(기구) | E159: SNAP RING | F159: S28(구멍용) | G159: 24 | H159: EA | I159: STD | J159: 24 | K159: 43881 | L159: 43886
C160: Vehicle | D160: 구매(기구) | E160: BEARING | F160: 6902ZZ | G160: 48 | H160: EA | I160: NSK | J160: 48 | K160: 43881 | L160: 43886
C161: Vehicle | D161: 구매(기구) | E161: BEARING | F161: 6005ZZ | G161: 12 | H161: EA | I161: NSK | J161: 12 | K161: 43881 | L161: 43886
C162: Vehicle | D162: 구매(기구) | E162: HINGE | F162: BYH3060 | G162: 4 | H162: EA | I162: BUYONG | J162: 4 | K162: 43881 | L162: 43886
... C165: 전장 재료비 | D165: 구매(전장) | E165: RGB LED BAR | F165: 24V용 흰띠 / 100cm | G165: 1 | H165: M | I165: NEOPIXEL | J165: 1 | K165: 43892 | L165: 43895
C166: Vehicle | D166: 구매(기구) | E166: TENSION ROLLER | F166: FR605S8-850-15(884)-JFP-Z-V | G166: 2 | H166: EA | I166: 은현산업 | K166: 43881 | L166: 43902 | M166: 입고 예정
C167: Vehicle | D167: 구매(기구) | E167: FREE ROLLER | F167: FR427BW-766-12(860)-JT-Z | G167: 4 | H167: EA | I167: 은현산업 | K167: 43881 | L167: 43902 | M167: 입고 예정
C168: Vehicle | D168: 구매(기구) | E168: POWER MULLER | F168: PM500FE-25-850-D-024-JD-Z060-VG-EUR605A/V*b | G168: 2 | H168: EA | I168: 은현산업 | K168: 43881 | L168: 43902 | M168: 입고 예정
C169: Vehicle | D169: 구매(기구) | E169: POWER MULLER | F169: PM500FE-25-850-D-024-JD-EUR605A/V*b | G169: 2 | H169: EA | I169: 은현산업 | K169: 43893 | L169: 43910 | M169: 입고 예정
C170: 전장 재료비 | D170: 구매(전장) | E170: SAFETY PLC | F170: G9SP-N20S | G170: 2 | H170: EA | I170: OMRON | J170: 2 | K170: 43888 | L170: 43894
C171: 전장 재료비 | D171: 구매(전장) | E171: SAFETY RELAY SOCKET | F171: P7SA-14F-ND DC24V | G171: 4 | H171: EA | I171: OMRON | J171: 4 | K171: 43888 | L171: 43894
C172: 전장 재료비 | D172: 구매(전장) | E172: Relay | F172: G6B-47BND(DC24) | G172: 10 | H172: EA | I172: OMRON | K172: 43894 | L172: 43901 | M172: 입고 예정
C173: MTL | D173: 외주턴키 | E173: MTL 1종 TK(계약금 30%) | F173: 기구(설계,제작)/전장(설계,제작/지에스아이 SETUP기준 | G173: 1 | H173: SET | J173: 1 | K173: 43862 | L173: 43878
C174: Rail (Straight) | D174: 가공품 | E174: DRIVE RAIL 금형 제작 | F174: 56*45.5;금형제작 | G174: 1 | H174: EA | K174: 43880 | L174: 43906 | M174: 입고 예정
C175: Rail (Straight) | D175: 가공품 | E175: SUPPORT PROFILE 금형 제작 | F175: 70*35;금형제작 | G175: 1 | H175: EA | K175: 43880 | L175: 43906 | M175: 입고 예정
C176: Vehicle | D176: 가공품 | E176: SUPPORT PROFILE | F176: 938*20*20;AL PROFILE | G176: 4 | H176: EA | J176: 4 | K176: 43880 | L176: 43887
C177: Vehicle | D177: 구매(기구) | E177: OPTICAL READING HEAD | F177: PXV100-F200-R4-V19 | G177: 2 | H177: EA | I177: PEPPERL&FUCHS | K177: 43881 | L177: 43907 | M177: 입고 예정
C178: 전장 재료비 | D178: 구매(전장) | E178: STD Code Tape(100~131M) | F178: PXV000031M-CA25-000100? | G178: 1 | H178: SET | I178: Perpperl&fuchs(퍼펄&푹스) | K178: 43892 | L178: 43936 | M178: 입고 예정
...

Sheet MTL STATION
B2: STK STATION BOM LIST | K2: 대수 | L2: 1 | M2: 발주일자 (예상일자) | N2: 입고일자 (예상일자)
B3: Sub Unit | D3: 품목구분 | E3: 품명 | F3: 규격 | G3: 제조사명 | H3: 원 수량 | I3: 구매 수량 | J3: 입고 수량 | K3: 단위 | L3: 비고(신청)
B4: MTL | C4: MTL FRAME UNIT
D6: 구매품 | E6: LEVELING FOOT | F6: KD-1258-20130 | G6: KONGJIN | H6: 4 | I6: =H6 -> 4 | K6: EA | M6: 43900 | N6: 43913
D7: 구매품 | E7: CASTER | F7: CHJF75A | G7: MISUMI | H7: 4 | I7: =H7 -> 4 | K7: EA | M7: 43900 | N7: 43913
D8: 구매품 | E8: SAFETY LOCK | F8: D4SL-N4NFG-D | G8: OMRON | H8: 6 | I8: =H8 -> 6 | K8: EA | M8: 43887 | N8: 43915
D9: 구매품 | E9: SAFETY LOCK KEY | F9: D4SL-NK3 | G9: OMRON | H9: 6 | I9: =H9 -> 6 | K9: EA | M9: 43887 | N9: 43915
D10: 구매품 | E10: HANDLE | F10: BY183-2CV | G10: BUYOUNG | H10: 6 | I10: =H10 -> 6 | K10: EA | M10: 43895 | N10: 43907
D11: 구매품 | E11: HINGE | F11: BYH6060-31 | G11: BUYOUNG | H11: 18 | I11: =H11 -> 18 | K11: EA | M11: 43895 | N11: 43907
D12: 구매품 | E12: MAGNET | F12: BY3-4040-20 | G12: BUYOUNG | H12: 12 | I12: =H12 -> 12 | K12: EA | M12: 43895 | N12: 43907
D13: 구매품 | E13: MAGNET | F13: BY3-PBK | G13: BUYOUNG | H13: 12 | I13: =H13 -> 12 | K13: EA | M13: 43895 | N13: 43907
D14: 구매품 | E14: EMS SWITCH | F14: A22E-M-12-EMS | G14: OMRON | H14: 1 | I14: =H14 -> 1 | K14: EA | M14: 43900 | N14: 43910
D15: 구매품 | E15: SOLVELVE | F15: SS5Y3-41-08-C6_40-5LZE_22221100 | G15: SMC | H15: 1 | I15: =H15 -> 1 | K15: EA | M15: 43900 | N15: 43907
D16: 구매품 | E16: SILENCER | F16: AN200-02 | G16: SMC | H16: 1 | I16: =H16 -> 1 | K16: EA | M16: 43900 | N16: 43907
D17: 구매품 | E17: DIGITAL PRESSURE SWITCH | F17: ISE30A-01-C-L | G17: SMC | H17: 1 | I17: =H17 -> 1 | K17: EA | M17: 43900 | N17: 43907
... D24: 구매품 | E24: REGULATER | F24: AC30D-02-V1-B | G24: SMC | H24: 1 | I24: =H24 -> 1 | K24: EA | M24: 43900 | N24: 43910
C28: LIFT RAIL ASSY | D28: 구매품 | E28: SPEED_GUIDE | F28: OSG40-2 | G28: WINNER | H28: 4 | I28: 4 | K28: EA | M28: 43900 | N28: 43910
D29: 구매품 | E29: BULCKLE TYPE_1 | F29: STRT60 | G29: MISUMI | H29: 12 | I29: 12 | K29: EA | M29: 43900 | N29: 43910
D30: 구매품 | E30: BULCKLE TYPE_2 | F30: SRC-R60 | G30: MISUMI | H30: 16 | I30: 16 | K30: EA | M30: 43900 | N30: 43910
D31: 구매품 | E31: JOINT LINK | F31: JMTC60 | G31: MISUMI | H31: 12 | I31: 12 | K31: EA | M31: 43900 | N31: 43910
D32: 구매품 | E32: GUIDE ROLLER | F32: RORPHS50-L30 | G32: MISUMI | H32: 24 | I32: 24 | K32: EA | M32: 43900 | N32: 43910
D33: 구매품 | E33: SNAP RING | F33: STWN12 | G33: MISUMI | H33: 32 | I33: 32 | K33: EA | M33: 43900 | N33: 43910
D34: 구매품 | E34: SENSOR | F34: E2E_X7D1_M1GJ | G34: OMRON | H34: 2 | I34: 2 | K34: EA | M34: 43900 | N34: 43910
D35: 구매품 | E35: BUSH | F35: LFG25-59 | G35: MISUMI | H35: 2 | I35: 2 | K35: EA | M35: 43900 | N35: 43910
D36: 구매품 | E36: LM GUIDE | F36: SR20W1SS-118L | G36: THK | H36: 2 | I36: 2 | K36: EA | M36: 43900 | N36: 43910
D37: 구매품 | E37: CYLINDER | F37: CDU20-40D-M9NM | G37: SMC | H37: 2 | I37: 2 | K37: EA | M37: 43900 | N37: 43907
D38: 구매품 | E38: CYLINDER | F38: 20CDQ2D40-50DZ-M9NM | G38: SMC | H38: 2 | I38: 2 | K38: EA | M38: 43900 | N38: 43907
C42: CHAIN DRIVE ASSY
D43: 구매품 | E43: SERVO MOTOR | F43: HG-SR-152B | G43: MITSUBISHI | H43: 1 | I43: 1 | K43: EA | M43: 43900 | N43: 43913
D44: 구매품 | E44: BEVEL GEAR | F44: CBX-401TB | G44: TOHOKOERA | H44: 1 | I44: 1 | K44: EA | M44: 43900 | N44: 43913
D45: 구매품 | E45: UNIT BEARING | F45: UCP308 | G45: NSK | H45: 4 | I45: 4 | K45: EA | M45: 43900 | N45: 43907
D46: 구매품 | E46: SPROCKET | F46: DRC60-14-20 | G46: MISUMI | H46: 14 | I46: 6 | K46: EA | M46: 43895 | N46: 43910
D47: 구매품 | E47: WASHER | F47: FWSSS-D28-V15.5-T3.0 | G47: MISUMI | H47: 12 | I47: 12 | K47: EA | M47: 43900 | N47: 43907
D48: 구매품 | E48: NUT | F48: BNR15 | G48: MISUMI | H48: 12 | I48: 12 | K48: EA | M48: 43900 | N48: 43907
D49: 구매품 | E49: SENSOR | F49: E2E_X7D1_M1GJ | G49: OMRON | H49: 2 | I49: 2 | K49: EA | M49: 43900 | N49: 43910
D50: 구매품 | E50: CHAIN | F50: CHEM60-U(RS60) 1000L | G50: MISUMI | H50: 4 | I50: 4 | K50: EA | M50: 43895 | N50: 43910
D51: 구매품 | E51: CHAIN | F51: CHEM60-U(RS60) 1500L | G51: MISUMI | H51: 4 | I51: 4 | K51: EA | M51: 43895 | N51: 43910
C55: FREE ROLLER MODULE
D56: 구매품 | E56: FREE ROLLER | F56: 860L x Φ42.7 | G56: DAE JONG FRS | H56: 4 | I56: =H56 -> 4 | K56: EA | M56: 43887 | N56: 43903
C65: 전장 UNIT | D65: 구매(전장) | E65: BASE | F65: Q38B | G65: Mitsubishi | H65: 1 | I65: 1 | K65: EA | M65: 43895 | N65: 43903
D66: 구매(전장) | E66: POWER | F66: Q61P(AC) | G66: Mitsubishi | H66: 1 | I66: 1 | K66: EA | M66: 43895 | N66: 43903
D67: 구매(전장) | E67: CPU | F67: Q06UDVCPU | G67: Mitsubishi | H67: 1 | I67: 1 | K67: EA | M67: 43895 | N67: 43903
D68: 구매(전장) | E68: ETHERNET | F68: QJ71E71-100 | G68: Mitsubishi | H68: 1 | I68: 1 | K68: EA | M68: 43895 | N68: 43903
D69: 구매(전장) | E69: MOTION | F69: QD77MS4 | G69: Mitsubishi | H69: 1 | I69: 1 | K69: EA | M69: 43895 | N69: 43903
D70: 구매(전장) | E70: CC-LINK IE | F70: QJ71GP21-SX | G70: Mitsubishi | H70: 1 | I70: 1 | K70: EA | M70: 43895 | N70: 43903
D71: 구매(전장) | E71: CC-LINK MASTER | F71: QJ61BT11N | G71: Mitsubishi | H71: 1 | I71: 1 | K71: EA | M71: 43895 | N71: 43903
D72: 구매(전장) | E72: CC-LINK IE | F72: QJ71GP21-SX | G72: Mitsubishi | H72: 1 | I72: 1 | K72: EA | L72: 추가 유/무 확인 요망 | M72: 43895 | N72: 43903
D73: 구매(전장) | E73: RS485통신 | F73: QJ71C24N-R4 | G73: Mitsubishi | H73: 1 | I73: 1 | K73: EA | M73: 43895 | N73: 43903
D74: 구매(전장) | E74: INPUT CARD | F74: AJ65SBTB1-32D | G74: Mitsubishi | H74: 1 | I74: 1 | K74: EA | M74: 43895 | N74: 43903
D75: 구매(전장) | E75: OUTPUT CARD | F75: AJ65SBTB1-32T | G75: Mitsubishi | H75: 0 | I75: 0 | K75: EA | M75: 43895 | N75: 43903
D76: 구매(전장) | E76: IN/OUT CARD | F76: AJ65SBTB1-32DT | G76: Mitsubishi | H76: 3 | I76: 3 | K76: EA | M76: 43895 | N76: 43903
D77: 구매(전장) | E77: 배터리 | F77: MR-BAT6V1 | G77: Mitsubishi | H77: 1 | I77: 1 | K77: EA | M77: 43895 | N77: 43903
D78: 구매(전장) | E78: TOUCH SCREEN | F78: GT2512-STBA 220V | G78: Mitsubishi | H78: 1 | I78: 1 | K78: EA | M78: 43895 | N78: 43903
D79: 구매(전장) | E79: SAFETY PLC | F79: PNOZ m BO | G79: PILZ | H79: 1 | I79: 1 | K79: EA | M79: 43895 | N79: 43903
D80: 구매(전장) | E80: SAFETY MODE KEY | F80: STK-22-TOR-S | G80: SAFECT | H80: 1 | I80: 1 | K80: EA | M80: 43895 | N80: 43902
D81: 구매(전장) | E81: GT/B1 | F81: KTB1-06004/ 30A | G81: KACON | H81: 1 | I81: =H81*$L$2 -> 1 | K81: EA | M81: 43895 | N81: 43902
D82: 구매(전장) | E82: UT/B1 | F82: KTB1-03004/ 30A | G82: KACON | H82: 1 | I82: 1 | K82: EA | M82: 43895 | N82: 43902
D83: 구매(전장) | E83: GELCB1 | F83: EBS53c/ 20A 200mA | G83: LS산전 | H83: 1 | I83: 1 | K83: EA | M83: 43895 | N83: 43902
D84: 구매(전장) | E84: UELCB1 | F84: EBS53c/ 30A 200mA | G84: LS산전 | H84: 1 | I84: 1 | K84: EA | M84: 43895 | N84: 43902
D85: 구매(전장) | E85: HANDLE | F85: N-30c(Off Iock) | G85: LS산전 | H85: 2 | I85: 2 | K85: EA | M85: 43895 | N85: 43902
D86: 구매(전장) | E86: SURGE | F86: NSDP/C-A320-20 20ka | G86: NTC | H86: 2 | I86: 2 | K86: EA | M86: 43895 | N86: 43902
D87: 구매(전장) | E87: LIMIT S/W | F87: HY-R704C | G87: HANYOUNG | H87: 2 | I87: 2 | K87: EA | M87: 43895 | N87: 43902
D88: 구매(전장) | E88: GNF/1 | F88: SFT3-25030-2NF 40A | G88: SUNJIN TECH | H88: 1 | I88: 1 | K88: EA | M88: 43895 | N88: 43902
D89: 구매(전장) | E89: UNF/1 | F89: SFT3-25030-2NF 20A | G89: SUNJIN TECH | H89: 1 | I89: 1 | K89: EA | M89: 43895 | N89: 43902
D90: 구매(전장) | E90: UNF/2 | F90: RSHN-2006/6A | G90: LAMBDA | H90: 1 | I90: 1 | M90: 43895 | N90: 43902
D91: 구매(전장) | E91: GMC | F91: MC-22a(2a2b/P24V) | G91: LS산전 | H91: 1 | I91: 1 | M91: 43895 | N91: 43902
D92: 구매(전장) | E92: UMC | F92: MC-32a(P24V) | G92: LS산전 | H92: 1 | I92: 1 | K92: EA | M92: 43895 | N92: 43902
D93: 구매(전장) | E93: GELCB11 | F93: EBS53c/ 20A 200mA | G93: LS산전 | H93: 1 | I93: 1 | K93: EA | M93: 43895 | N93: 43902
D94: 구매(전장) | E94: UELCB11 | F94: EBS32FB/20A 35KA | G94: LS산전 | H94: 1 | I94: 1 | K94: EA | M94: 43895 | N94: 43902
D95: 구매(전장) | E95: GCP01 | F95: GCP-32ANM/1A/AX | G95: Honeywell | H95: 1 | I95: 1 | K95: EA | M95: 43895 | N95: 43902
D96: 구매(전장) | E96: GCP02 | F96: GCP-32ANM/3A/AX | G96: Honeywell | H96: 1 | I96: 1 | K96: EA | M96: 43895 | N96: 43902
D97: 구매(전장) | E97: GCP03 | F97: GCP-32ANM/1A | G97: Honeywell | H97: 1 | I97: 1 | K97: EA | M97: 43895 | N97: 43902
D98: 구매(전장) | E98: GCP101 | F98: GCP-33ANM/20A/AX | G98: Honeywell | H98: 1 | I98: 1 | K98: EA | M98: 43895 | N98: 43902
D99: 구매(전장) | E99: UCP01 | F99: GCP-32ANM/1A/AX | G99: Honeywell | H99: 1 | I99: 1 | K99: EA | M99: 43895 | N99: 43902
D100: 구매(전장) | E100: UCP02 | F100: GCP-32ANM/1A/AX | G100: Honeywell | H100: 1 | I100: 1 | K100: EA | M100: 43895 | N100: 43902
D101: 구매(전장) | E101: UCP03 | F101: GCP-32ANM/1A/AX | G101: Honeywell | H101: 1 | I101: 1 | K101: EA | M101: 43895 | N101: 43902
D102: 구매(전장) | E102: UCP04 | F102: GCP-32ANM/3A/AX | G102: Honeywell | H102: 1 | I102: 1 | K102: EA | M102: 43895 | N102: 43902
D103: 구매(전장) | E103: UCP05 | F103: GCP-32ANM/3A/AX | G103: Honeywell | H103: 1 | I103: 1 | K103: EA | M103: 43895 | N103: 43902
... D121: 구매(전장) | E121: SELECT S/W | F121: K30F-41K-S2R 12/24VDC | G121: KACON | H121: 1 | I121: 1 | K121: EA | M121: 43895 | N121: 43902
D122: 구매(전장) | E122: P/B | F122: K30F-27W-24V | G122: KACON | H122: 3 | I122: 3 | K122: EA | L122: 수량 협의 | M122: 43895 | N122: 43902
D123: 구매(전장) | F123: K30F-27G-24V | G123: KACON | H123: 1 | I123: 1 | K123: EA | M123: 43895 | N123: 43902
D124: 구매(전장) | F124: K30F-27R-24V | G124: KACON | H124: 1 | I124: 1 | K124: EA | M124: 43895 | N124: 43902
D125: 구매(전장) | F125: K30F-27B-24V | G125: KACON | H125: 1 | I125: 1 | K125: EA | M125: 43895 | N125: 43902
D126: 구매(전장) | F126: K30F-27Y-24V | G126: KACON | H126: 1 | I126: 1 | K126: EA | M126: 43895 | N126: 43902
D127: 구매(전장) | E127: 연기 감지기 | F127: 4WTAR-B | G127: GS ENG | H127: 1 | I127: 1 | K127: EA | M127: 43895 | N127: 43902
D128: 구매(전장) | E128: 전원 분배 블록 | F128: SPS25-M6/6*M4 | G128: 삼원 액트 | H128: 3 | I128: 3 | K128: EA | M128: 43895 | N128: 43902
D129: 구매(전장) | E129: 전원 분배 블록 | F129: SPS30-M6/6*M5 | G129: 삼원 액트 | H129: 3 | I129: 3 | K129: EA | M129: 43895 | N129: 43902
D130: 구매(전장) | E130: BUZZER | F130: KSP-41S | G130: KACON | H130: 1 | I130: 1 | K130: EA | M130: 43895 | N130: 43902
D131: 구매(전장) | E131: I/F 단자대 | F131: XTB-20B | G131: 삼원 액트 | H131: 2 | I131: 2 | K131: EA | M131: 43895 | N131: 43902
D132: 구매(전장) | E132: I/F 단자대 | F132: XTB-40B | G132: 삼원 액트 | H132: 2 | I132: 2 | K132: EA | M132: 43895 | N132: 43902
D133: 구매(전장) | E133: 분기형 터미널 | F133: MC-T04D-3 | G133: 삼원 액트 | H133: 2 | I133: 2 | K133: EA | M133: 43895 | N133: 43902
D134: 구매(전장) | E134: 분기형 터미널 | F134: MC-T08D-3 | G134: 삼원 액트 | H134: 2 | I134: 2 | K134: EA | M134: 43895 | N134: 43902
D135: 구매(전장) | E135: HUB | F135: V1405-8G(8포트) | G135: HP | H135: 1 | I135: 1 | K135: EA | M135: 43895 | N135: 43902

Sheet CAN STATION
B2: CAN STATION BOM LIST | K2: 대수 | L2: 1 | M2: 발주일자 (예상일자) | N2: 입고일자 (예상일자)
B3: Sub Unit | D3: 품목구분 | E3: 품명 | F3: 규격 | G3: 제조사명 | H3: 원 수량 | I3: 구매 수량 | J3: 입고 수량 | K3: 단위 | L3: 비고(신청)
B4: CAN STATION | C4: FRAME UNIT | D4: 가공품 | E4: FRONT COVER_01 | F4: 1230*1005_2t ; SS41 ; 도장 | H4: 1 | I4: =H4 -> 1 | K4: EA | L4: Munsell No. 5Y 9/1.5(상아색) | M4: 43889 | N4: 43902
D5: 가공품 | E5: FRONT COVER_02 | F5: 1230*825_2t ; SS41 ; 도장 | H5: 1 | I5: =H5 -> 1 | K5: EA | L5: Munsell No. 5Y 9/1.5(상아색) | M5: 43889 | N5: 43902
D6: 가공품 | E6: CABLEVEYOR BKT_01 | F6: 1830*1521_3t ; STS304,양면폴리싱 | H6: 1 | I6: =H6 -> 1 | K6: EA | M6: 43889 | N6: 43902
D7: 가공품 | E7: CABLEVEYOR BKT_02 | F7: 1828*154_3t ; STS304,양면폴리싱 | H7: 1 | I7: =H7 -> 1 | K7: EA | M7: 43889 | N7: 43902
D8: 가공품 | E8: LOWER COVER_01 | F8: 1218*818_2t ; STS304,양면폴리싱 | H8: 1 | I8: =H8 -> 1 | K8: EA | M8: 43889 | N8: 43902
D9: 가공품 | E9: LOWER COVER_02 | F9: 1118*818_2t ; STS304,양면폴리싱 | H9: 1 | I9: =H9 -> 1 | K9: EA | M9: 43889 | N9: 43902
D10: 가공품 | E10: LOWER COVER_03 | F10: 1108*818_2t ; STS304,양면폴리싱 | H10: 1 | I10: =H10 -> 1 | K10: EA | M10: 43889 | N10: 43902
D11: 가공품 | E11: LOWER COVER_04 | F11: 1029*818_2t ; STS304,양면폴리싱 | H11: 1 | I11: =H11 -> 1 | K11: EA | M11: 43889 | N11: 43902
D12: 가공품 | E12: LOWER COVER_05 | F12: 1070*818_2t ; STS304,양면폴리싱 | H12: 1 | I12: =H12 -> 1 | K12: EA | M12: 43889 | N12: 43902
D13: 가공품 | E13: CAN FRAME | F13: 2755*3680*900 ; PROFILE | H13: 1 | I13: =H13 -> 1 | K13: EA | M13: 43889 | N13: 43907
D14: 가공품 | E14: STOPPER | F14: Ф30*30 ; 우레탄 | H14: 2 | I14: =H14 -> 2 | K14: EA | M14: 43889 | N14: 43907
D15: 가공품 | E15: UPPER DOOR_01 | F15: 1096*661*20 ; PROFILE | H15: 1 | I15: =H15 -> 1 | K15: EA | M15: 43889 | N15: 43907
D16: 가공품 | E16: FOOT BASE_01 | F16: 180*180_15t ; SS40 ; 크롬도금 | H16: 4 | I16: =H16 -> 4 | K16: EA | M16: 43889 | N16: 43907
D17: 가공품 | E17: FOOT BASE_02 | F17: 120*120_8t ; STS304 | H17: 6 | I17: =H17 -> 6 | K17: EA | M17: 43889 | N17: 43907
D18: 가공품 | E18: FOOT BASE_03 | F18: 160*150_15t ; SS40 ; 크롬도금 | H18: 2 | I18: =H18 -> 2 | K18: EA | M18: 43889 | N18: 43907
D19: 가공품 | E19: PIO LOWER BKT_01 | F19: 80*80_2t ; SS41 ; 도장 | H19: 2 | I19: =H19 -> 2 | K19: EA | L19: Munsell No. 5Y 9/1.5(상아색) | M19: 43889 | N19: 43902
D20: 가공품 | E20: PIO LOWER BKT_02 | F20: 100*80*95_2t ; SS41 ; 도장 | H20: 2 | I20: =H20 -> 2 | K20: EA | L20: Munsell No. 5Y 9/1.5(상아색) | M20: 43889 | N20: 43902
D21: 가공품 | E21: PIO HIGH BKT_01 | F21: 83*34*20_2t ; SS41 ; 도장 | H21: 1 | I21: =H21 -> 1 | K21: EA | L21: Munsell No. 5Y 9/1.5(상아색) | M21: 43889 | N21: 43902
D22: 가공품 | E22: PIO HIGH BKT_02 | F22: 70*54*30_2t ; SS41 ; 도장 | H22: 1 | I22: =H22 -> 1 | K22: EA | L22: Munsell No. 5Y 9/1.5(상아색) | M22: 43889 | N22: 43902
D23: 가공품 | E23: BCR BLOCK | F23: 60*40*30 ; AL6061 ; W-ANO | H23: 3 | I23: =H23 -> 3 | K23: EA | M23: 43889 | N23: 43903
D24: 가공품 | E24: BCR SHAFT_01 | F24: 320*Φ12 ; SUS 연마봉 | H24: 2 | I24: =H24 -> 2 | K24: EA | M24: 43889 | N24: 43907
D25: 가공품 | E25: BCR SHAFT_02 | F25: 230*Φ12 ; SUS 연마봉 | H25: 1 | I25: =H25 -> 1 | K25: EA | M25: 43889 | N25: 43907
D26: 가공품 | E26: BCR BKT | F26: 80*60_3t ; STS304,양면폴리싱 | H26: 1 | I26: =H26 -> 1 | K26: EA | M26: 43889 | N26: 43903
D27: 가공품 | E27: PIO HIGH BKT_03 | F27: 53.5*54*20_2t ; SS41 ; 도장 | H27: 1 | I27: =H27 -> 1 | K27: EA | L27: Munsell No. 5Y 9/1.5(상아색) | M27: 43889 | N27: 43902
D28: 가공품 | E28: PIO HIGH BKT_04 | F28: 55*54*30_2t ; SS41 ; 도장 | H28: 1 | I28: =H28 -> 1 | K28: EA | L28: Munsell No. 5Y 9/1.5(상아색) | M28: 43889 | N28: 43902
D29: 가공품 | E29: FREE ROLLER BKT_01 | F29: 165*50_3t ; STS304,양면폴리싱 | H29: 4 | I29: =H29 -> 4 | K29: EA | M29: 43889 | N29: 43903
D31: 구매품 | E31: LEVELING FOOT | F31: A-M-16-180 | G31: AUTOCFT | H31: 6 | I31: =H31 -> 6 | K31: EA | M31: 43889 | N31: 43907
D32: 구매품 | E32: CASTER | F32: ACMM-75SF | G32: AUTOCFT | H32: 6 | I32: =H32 -> 6 | K32: EA | M32: 43889 | N32: 43907
D33: 구매품 | E33: PIO SENSOR | F33: DMS-HB1-V | G33: HOKUYO | H33: 4 | I33: =H33 -> 4 | K33: EA | M33: 43889 | N33: 43907
D34: 구매품 | E34: SAFETY LOCK KEY | F34: D4SL-NSK10-LK | G34: OMRON | H34: 1 | I34: =H34 -> 1 | K34: EA | M34: 43889 | N34: 43915
D35: 구매품 | E35: SAFETY LOCK | F35: D4SL-N4NFG-D | G35: OMRON | H35: 1 | I35: =H35 -> 1 | K35: EA | M35: 43889 | N35: 43915
D36: 구매품 | E36: PROFILE GUIDE | F36: 1991+1990_3M | G36: WOOJIN | H36: 4 | I36: =H36 -> 4 | K36: EA | M36: 43889 | N36: 43903
C39: LIFT DIVERTER UNIT | D39: 가공품 | E39: ROBOT PLATE_01 | F39: 1750*240*15 ; AL6061 ; W-ANO | H39: 1 | I39: =H39 -> 1 | K39: EA | M39: 43889 | N39: 43903
D40: 가공품 | E40: ROBOT PLATE_02 | F40: 923*240*15 ; AL6061 ; W-ANO | H40: 1 | I40: =H40 -> 1 | K40: EA | M40: 43889 | N40: 43903
D41: 가공품 | E41: CABLEVEYOR BKT_CAN | F41: 149.5*120*141_3t ; STS304,양면폴리싱 | H41: 1 | I41: =H41 -> 1 | K41: EA | M41: 43889 | N41: 43903
D42: 가공품 | E42: TRAY STOPPER_01 | F42: 60*30*10 ; AL6061 ; W-ANO | H42: 2 | I42: =H42 -> 2 | K42: EA | M42: 43889 | N42: 43903
D43: 가공품 | E43: TRAY STOPPER_02 | F43: 60*40*10 ; AL6061 ; W-ANO | H43: 2 | I43: =H43 -> 2 | K43: EA | M43: 43889 | N43: 43903
D44: 가공품 | E44: DIVERTER CONVEYOR FRAME | F44: 958*710*40 ; PROFILE | H44: 1 | I44: =H44 -> 1 | K44: EA | M44: 43889 | N44: 43903
D45: 가공품 | E45: Z-AXIS MOVING PLATE_01 | F45: 409*80*15 ; AL6061 ; W-ANO | H45: 1 | I45: =H45 -> 1 | K45: EA | M45: 43889 | N45: 43903
D46: 가공품 | E46: CAN ROBOT PLATE_01 | F46: 400*239*20 ; AL6061 ; W-ANO | H46: 1 | I46: =H46 -> 1 | K46: EA | M46: 43889 | N46: 43903
D47: 가공품 | E47: CONVEYOR SUPPORT BLOCK | F47: 450*40*20 ; AL6061 ; W-ANO | H47: 2 | I47: =H47 -> 2 | K47: EA | M47: 43889 | N47: 43903
D48: 가공품 | E48: ROLLER BRIDGE_01 | F48: 710*160*35_3.2t ; SS41 ; 도장 | H48: 1 | I48: =H48 -> 1 | K48: EA | L48: Munsell No. 5Y 9/1.5(상아색) | M48: 43889 | N48: 43902
D49: 가공품 | E49: ROLLER BRIDGE_02 | F49: 710*160*35_3.2t ; SS41 ; 도장 | H49: 1 | I49: =H49 -> 1 | K49: EA | L49: Munsell No. 5Y 9/1.5(상아색) | M49: 43889 | N49: 43902
D50: 가공품 | E50: CYLINDER PLATE | F50: 200*85.5*12 ; AL6061 ; W-ANO | H50: 2 | I50: =H50 -> 2 | K50: EA | M50: 43889 | N50: 43903
D51: 가공품 | E51: JOINT SHAFT | F51: 944*Φ10 ; SUS 연마봉 | H51: 2 | I51: =H51 -> 2 | K51: EA | M51: 43889 | N51: 43903
D52: 가공품 | E52: CONVEYOR COVER_01 | F52: 710*200_2t ; SS41 ; 도장 | H52: 1 | I52: =H52 -> 1 | K52: EA | L52: Munsell No. 5Y 9/1.5(상아색) | M52: 43889 | N52: 43902
D53: 가공품 | E53: CONVEYOR COVER_02 | F53: 235.5*160*17_2t ; SS41 ; 도장 | H53: 1 | I53: =H53 -> 1 | K53: EA | L53: Munsell No. 5Y 9/1.5(상아색) | M53: 43889 | N53: 43902
D54: 가공품 | E54: CONVEYOR COVER_03 | F54: 235.5*160*17_2t ; SS41 ; 도장 | H54: 1 | I54: =H54 -> 1 | K54: EA | L54: Munsell No. 5Y 9/1.5(상아색) | M54: 43889 | N54: 43902
D55: 가공품 | E55: CONVEYOR COVER_04 | F55: 947*200_2t ; SS41 ; 도장 | H55: 1 | I55: =H55 -> 1 | K55: EA | L55: Munsell No. 5Y 9/1.5(상아색) | M55: 43889 | N55: 43902
D56: 가공품 | E56: CONVEYOR COVER_05 | F56: 947*200_2t ; SS41 ; 도장 | H56: 1 | I56: =H56 -> 1 | K56: EA | L56: Munsell No. 5Y 9/1.5(상아색) | M56: 43889 | N56: 43902
D57: 가공품 | E57: CONVEYOR COVER_06 | F57: 956*149.5_1.6t ; SS41 ; 도장 | H57: 2 | I57: =H57 -> 2 | K57: EA | L57: Munsell No. 5Y 9/1.5(상아색) | M57: 43889 | N57: 43902
D58: 가공품 | E58: CONVEYOR COVER_07 | F58: 956*367_1.6t ; SS41 ; 도장 | H58: 1 | I58: =H58 -> 1 | K58: EA | L58: Munsell No. 5Y 9/1.5(상아색) | M58: 43889 | N58: 43902
D59: 가공품 | E59: LIFT ROLLER COVER | F59: 719*70*30_2t ; SS41 ; 도장 | H59: 1 | I59: =H59 -> 1 | K59: EA | L59: Munsell No. 5Y 9/1.5(상아색) | M59: 43889 | N59: 43902
D60: 가공품 | E60: DIVERTER BASE | F60: 450*418_5t ; SS41 ; 도장 | H60: 1 | I60: =H60 -> 1 | K60: EA | L60: Munsell No. 5Y 9/1.5(상아색) | M60: 43889 | N60: 43902
D61: 가공품 | E61: DIVERTER BRIDGE_01 | F61: 954*135*35_5t ; SS41 ; 도장 | H61: 1 | I61: =H61 -> 1 | K61: EA | L61: Munsell No. 5Y 9/1.5(상아색) | M61: 43889 | N61: 43902
D62: 가공품 | E62: DIVERTER BRIDGE_02 | F62: 954*135*35_5t ; SS41 ; 도장 | H62: 1 | I62: =H62 -> 1 | K62: EA | L62: Munsell No. 5Y 9/1.5(상아색) | M62: 43889 | N62: 43902
D63: 가공품 | E63: COUPLING BKT | F63: 107.6*70*64_1.2t ; SS41 ; 도장 | H63: 2 | I63: =H63 -> 2 | K63: EA | L63: Munsell No. 5Y 9/1.5(상아색) | M63: 43889 | N63: 43902
D64: 가공품 | E64: MOTOR BKT | F64: 101.47*97*94_5t ; SS41 ; 도장 | H64: 1 | I64: =H64 -> 1 | K64: EA | L64: Munsell No. 5Y 9/1.5(상아색) | M64: 43889 | N64: 43902
D65: 가공품 | E65: COUPLING COVER_01 | F65: 90*75_5t ; 무정전PC ; - | H65: 1 | I65: =H65 -> 1 | K65: EA | M65: 43889 | N65: 43903
D66: 가공품 | E66: COUPLING COVER_02 | F66: 75*60_5t ; 무정전PC ; - | H66: 2 | I66: =H66 -> 2 | K66: EA | M66: 43889 | N66: 43903
D67: 가공품 | E67: DIVERTER JOINT SHAFT | F67: 408*Φ15 ; SUS 연마봉 | H67: 2 | I67: =H67 -> 2 | K67: EA | M67: 43889 | N67: 43903
D68: 가공품 | E68: CYLINDER UP/DW BKT | F68: 200*66.2*18.2_3.2t ; SS41 ; 도장 | H68: 2 | I68: =H68 -> 2 | K68: EA | L68: Munsell No. 5Y 9/1.5(상아색) | M68: 43889 | N68: 43902
D69: 가공품 | E69: CONVEYOR BELT COVER | F69: 956*40_2t ; SS41 ; 도장 | H69: 2 | I69: =H69 -> 2 | K69: EA | L69: Munsell No. 5Y 9/1.5(상아색) | M69: 43889 | N69: 43902
D70: 가공품 | E70: IDLER SHAFT_01 | F70: 55.5*Φ16 ; SUS 연마봉 | H70: 22 | I70: =H70 -> 22 | K70: EA | M70: 43889 | N70: 43903
D71: 가공품 | E71: IDLER PULLEY | F71: 54*Φ42 ; AL6061 ; w-ano | H71: 4 | I71: =H71 -> 4 | K71: EA | M71: 43889 | N71: 43903
D72: 가공품 | E72: DRIVING SHAFT | F72: 112.5*Φ15 ; SUS 연마봉 | H72: 2 | I72: =H72 -> 2 | K72: EA | M72: 43889 | N72: 43903
D73: 가공품 | E73: WASHER | F73: Φ15_3t ; STS304,양면폴리싱 | H73: 2 | I73: =H73 -> 2 | K73: EA | M73: 43889 | N73: 43903
D74: 가공품 | E74: DRIVING PULLEY | F74: 64*Φ44 ; AL6061 ; w-ano | H74: 2 | I74: =H74 -> 2 | K74: EA | M74: 43889 | N74: 43903
D75: 가공품 | E75: GUIDE BRACKET_01 | F75: 40*40*35_2.3t ; SS41 ; 도장 | H75: 4 | I75: =H75 -> 4 | K75: EA | L75: Munsell No. 5Y 9/1.5(상아색) | M75: 43889 | N75: 43902
D76: 가공품 | E76: GUIDE BRACKET_02 | F76: 62*45*40_2.3t ; SS41 ; 도장 | H76: 2 | I76: =H76 -> 2 | K76: EA | L76: Munsell No. 5Y 9/1.5(상아색) | M76: 43889 | N76: 43902
D77: 가공품 | E77: GUIDE BRACKET_03 | F77: 60*24*15.5_2t ; SS41 ; 도장 | H77: 3 | I77: =H77 -> 3 | K77: EA | L77: Munsell No. 5Y 9/1.5(상아색) | M77: 43889 | N77: 43902
D78: 가공품 | E78: MIRROR SENSOR BKT | F78: 64*40*20_1.6t ; SS41 ; 도장 | H78: 1 | I78: =H78 -> 1 | K78: EA | L78: Munsell No. 5Y 9/1.5(상아색) | M78: 43889 | N78: 43902
D79: 가공품 | E79: TRAY SIDE SENSOR BKT | F79: 102*35*30_2t ; SS41 ; 도장 | H79: 3 | I79: =H79 -> 3 | K79: EA | L79: Munsell No. 5Y 9/1.5(상아색) | M79: 43889 | N79: 43902
D80: 가공품 | E80: GUIDE BRACKET_04 | F80: 75*40*37_2.3t ; SS41 ; 도장 | H80: 2 | I80: =H80 -> 2 | K80: EA | L80: Munsell No. 5Y 9/1.5(상아색) | M80: 43889 | N80: 43902
D81: 가공품 | E81: TRAY MOVING SENSOR BKT | F81: 132*35*22_2.3t ; SS41 ; 도장 | H81: 3 | I81: =H81 -> 3 | K81: EA | L81: Munsell No. 5Y 9/1.5(상아색) | M81: 43889 | N81: 43902
D82: 가공품 | E82: LIFT GUIDE BKT_2 | F82: 1790*65_5t ; SS41 ; 도장 | H82: 1 | I82: =H82 -> 1 | K82: EA | L82: Munsell No. 5Y 9/1.5(상아색) | M82: 43889 | N82: 43902
D83: 가공품 | E83: LIFT GUIDE BKT | F83: 1790*65_5t ; SS41 ; 도장 | H83: 1 | I83: =H83 -> 1 | K83: EA | L83: Munsell No. 5Y 9/1.5(상아색) | M83: 43889 | N83: 43902
D84: 가공품 | E84: LIFT GUIDE BLOCK_01 | F84: 104*60*12 ; AL6061 ; W-ANO | H84: 2 | I84: =H84 -> 2 | K84: EA | M84: 43889 | N84: 43903
D85: 가공품 | E85: LIFT GUIDE BLOCK_02 | F85: 108*65*10 ; AL6061 ; W-ANO | H85: 2 | I85: =H85 -> 2 | K85: EA | M85: 43889 | N85: 43903
D87: 구매품 | E87: BELT | F87: 1.4T - 2010L (50mm) | G87: HANYANG | H87: 2 | I87: =H87 -> 2 | K87: EA | M87: 43887 | N87: 43902
D88: 구매품 | E88: POWER MOLLER | F88: PM500FE-25-838-D-024-JD-VG-PS | G88: EUNHYUN | H88: 1 | I88: =H88 -> 1 | K88: EA | M88: 43887 | N88: 43906
D89: 구매품 | E89: FREE ROLLER | F89: FR508PL-838-12-JD-JS-PS-PVG | G89: EUNHYUN | H89: 6 | I89: =H89 -> 6 | K89: EA | M89: 43887 | N89: 43906
D90: 구매품 | E90: POWER MOLLER BRACKET | F90: C-001-D | G90: EUNHYUN | H90: 2 | I90: =H90 -> 2 | K90: EA | M90: 43887 | N90: 43906
D91: 구매품 | E91: BELT | F91: 3PJ 336 | G91: EUNHYUN | H91: 2 | I91: =H91 -> 2 | K91: EA | M91: 43887 | N91: 43906
D92: 구매품 | E92: BELT | F92: 3PJ 282 | G92: EUNHYUN | H92: 2 | I92: =H92 -> 2 | K92: EA | M92: 43887 | N92: 43906
D93: 구매품 | E93: BELT | F93: 3PJ 435 | G93: EUNHYUN | H93: 2 | I93: =H93 -> 2 | K93: EA | M93: 43887 | N93: 43906
D94: 구매품 | E94: IDLER ROLLER | F94: ROFAN40-12-L54 | G94: MISUMI | H94: 18 | I94: =H94 -> 18 | K94: EA | M94: 43887 | N94: 43903
D95: 구매품 | E95: BEARING | F95: B6901ZZ | G95: MISUMI | H95: 8 | I95: =H95 -> 8 | K95: EA | M95: 43887 | N95: 43903
D96: 구매품 | E96: WASHER | F96: FWSSS-D16-V5.5-T2 | G96: MISUMI | H96: 22 | I96: =H96 -> 22 | K96: EA | M96: 43887 | N96: 43903
D97: 구매품 | E97: BEARING NUT | F97: BNR8 | G97: MISUMI | H97: 2 | I97: =H97 -> 2 | K97: EA | M97: 43887 | N97: 43903
D98: 구매품 | E98: BEARING HOLDER SET | F98: BARR6901ZZ | G98: MISUMI | H98: 2 | I98: =H98 -> 2 | K98: EA | M98: 43887 | N98: 43903
... D119: 구매품 | E119: SAMWON | F119: EF-H0214-01A-CHOEUN | G119: GORE CABLE | H119: 1 | I119: =H119 -> 1 | K119: EA | M119: 43892 | N119: 43908
C122: 2단 DIVERTER UNIT | D122: 가공품 | E122: 2 STAGE ROLLER BRIDGE_01 | F122: 851*135*40_3.2t ; SS41 ; 도장 | H122: 1 | I122: =H122 -> 1 | K122: EA | L122: Munsell No. 5Y 9/1.5(상아색) | M122: 43889 | N122: 43902
D123: 가공품 | E123: 2 STAGE ROLLER BRIDGE_02 | F123: 851*146*40_3.2t ; SS41 ; 도장 | H123: 1 | I123: =H123 -> 1 | K123: EA | L123: Munsell No. 5Y 9/1.5(상아색) | M123: 43889 | N123: 43902
D124: 가공품 | E124: 2 STAGE CONVEYOR COVER_01 | F124: 850*146*40_2t ; SS41 ; 도장 | H124: 1 | I124: =H124 -> 1 | K124: EA | L124: Munsell No. 5Y 9/1.5(상아색) | M124: 43889 | N124: 43902
D125: 가공품 | E125: 2 STAGE CONVEYOR COVER_02 | F125: 957*153*22_2t ; SS41 ; 도장 | H125: 1 | I125: =H125 -> 1 | K125: EA | L125: Munsell No. 5Y 9/1.5(상아색) | M125: 43889 | N125: 43902
D126: 가공품 | E126: 2 STAGE CONVEYOR COVER_03 | F126: 851*155_2t ; SS41 ; 도장 | H126: 1 | I126: =H126 -> 1 | K126: EA | L126: Munsell No. 5Y 9/1.5(상아색) | M126: 43889 | N126: 43902
D127: 가공품 | E127: 2 STAGE CONVEYOR COVER_04 | F127: 957*153*90_2t ; SS41 ; 도장 | H127: 1 | I127: =H127 -> 1 | K127: EA | L127: Munsell No. 5Y 9/1.5(상아색) | M127: 43889 | N127: 43902
...

Sheet 작업자 STATION
B2: 작업자 STATION BOM LIST | K2: 대수 | L2: 1 | M2: 발주일자 (예상일자) | N2: 입고일자 (예상일자)
B3: Sub Unit | D3: 품목구분 | E3: 품명 | F3: 규격 | G3: 제조사명 | H3: 원 수량 | I3: 구매 수량 | J3: 입고 수량 | K3: 단위 | L3: 비고(신청)
B4: STD STATION | C4: FRAME | D4: 가공품 | E4: STD RACK FRAME | F4: 4560*1697*810 ; PROFILE | H4: 1 | I4: =H4 -> 1 | K4: EA | M4: 43889 | N4: 43907
D5: 가공품 | E5: STD_RACK_FRONT COVER_1 | F5: 1140*725_2t ; SS41 ; 도장 | H5: 2 | I5: =H5 -> 2 | K5: EA | L5: Munsell No. 5Y 9/1.5(상아색) | M5: 43889 | N5: 43902
D6: 가공품 | E6: STD_RACK_FRONT COVER_2 | F6: 1100*725_2t ; SS41 ; 도장 | H6: 2 | I6: =H6 -> 2 | K6: EA | L6: Munsell No. 5Y 9/1.5(상아색) | M6: 43889 | N6: 43902
D7: 가공품 | E7: STD_RACK_FRONT COVER_3 | F7: 1100*750_2t ; SS41 ; 도장 | H7: 2 | I7: =H7 -> 2 | K7: EA | L7: Munsell No. 5Y 9/1.5(상아색) | M7: 43889 | N7: 43902
D8: 가공품 | E8: STD_RACK_FRONT COVER_4 | F8: 1140*750_2t ; SS41 ; 도장 | H8: 2 | I8: =H8 -> 2 | K8: EA | L8: Munsell No. 5Y 9/1.5(상아색) | M8: 43889 | N8: 43902
D9: 가공품 | E9: RACK FOOT BASE | F9: 80*40_17t ; AL6061 ; W-ANO | H9: 6 | I9: =H9 -> 6 | K9: EA | M9: 43889 | N9: 43903
D10: 가공품 | E10: RACK WEIGHT PLATE | F10: 120*120_8t ; STS304 ; 2B | H10: 6 | I10: =H10 -> 6 | K10: EA | M10: 43889 | N10: 43903
D11: 가공품 | E11: BCR BLOCK | F11: 80*50_25t ; AL6061 ; W-ANO | H11: 4 | I11: =H11 -> 4 | K11: EA | M11: 43889 | N11: 43903
D12: 가공품 | E12: BCR SUPPORT_01 | F12: Ф16*190 ; STS304 연마봉 | H12: 4 | I12: =H12 -> 4 | K12: EA | M12: 43889 | N12: 43903
D13: 가공품 | E13: BCR SUPPORT_02 | F13: Ф16*160 ; STS304 연마봉 | H13: 8 | I13: =H13 -> 8 | K13: EA | M13: 43889 | N13: 43903
D14: 가공품 | E14: RACK CASTER PLATE | F14: 120*150*100_5t ; STS304 ; 2B | H14: 4 | I14: =H14 -> 4 | K14: EA | M14: 43889 | N14: 43903
D16: 구매품 | E16: LEVELING FOOT | F16: A-M-16-100L | G16: AUTO CFT | H16: 6 | I16: =H16 -> 6 | K16: EA | M16: 43887 | N16: 43907
D17: 구매품 | E17: CASTER | F17: ACMM-75SF | G17: AUTO CFT | H17: 4 | I17: =H17 -> 4 | K17: EA | M17: 43887 | N17: 43907
D18: 구매품 | E18: SHAFT HOLDER | F18: SHFT16 | G18: MISUMI | H18: 4 | I18: =H18 -> 4 | K18: EA | M18: 43887 | N18: 43903
D19: 구매품 | E19: STRUT CLAMP | F19: MDKT16 | G19: MISUMI | H19: 8 | I19: =H19 -> 8 | K19: EA | M19: 43887 | N19: 43903
C21: POWER MOLLER ASSY | D21: 가공품 | E21: RACK CONVEYOR BASE_01 | F21: 790*110*35_3.2t ; SS41 ; 도장 | H21: 8 | I21: =H21 -> 8 | K21: EA | L21: Munsell No. 5Y 9/1.5(상아색) | M21: 43889 | N21: 43902
D22: 가공품 | E22: RACK CONVEYOR BASE_02 | F22: 790*110*35_3.2t ; SS41 ; 도장 | H22: 8 | I22: =H22 -> 8 | K22: EA | L22: Munsell No. 5Y 9/1.5(상아색) | M22: 43889 | N22: 43902
D23: 가공품 | E23: RACK CONVEYOR FRONT COVER | F23: 947*110*12_2t ; SS41 ; 도장 | H23: 8 | I23: =H23 -> 8 | K23: EA | L23: Munsell No. 5Y 9/1.5(상아색) | M23: 43889 | N23: 43902
D24: 가공품 | E24: RACK CONVEYOR BKT | F24: 50*25*30_3t ; STS304 | H24: 32 | I24: =H24 -> 32 | K24: EA | M24: 43889 | N24: 43902
D25: 가공품 | E25: RACK CONVEYOR REAR COVER | F25: 947*110*12_2t ; SS41 ; 도장 | H25: 8 | I25: =H25 -> 8 | K25: EA | L25: Munsell No. 5Y 9/1.5(상아색) | M25: 43889 | N25: 43902
D26: 가공품 | E26: AUTO STOPPER COVER | F26: 536*129*85_1.6t ; SS41 ; 도장 | H26: 4 | I26: =H26 -> 4 | K26: EA | L26: Munsell No. 5Y 9/1.5(상아색) | M26: 43889 | N26: 43902
D27: 가공품 | E27: RACK CONVEYOR PLATE_01 | F27: 878*788*35_3.2t ; SS41 ; 도장 | H27: 4 | I27: =H27 -> 4 | K27: EA | L27: Munsell No. 5Y 9/1.5(상아색) | M27: 43889 | N27: 43902
D28: 가공품 | E28: RACK CONVEYOR BELT COVER | F28: 799*70*38_2t ; SS41 ; 도장 | H28: 8 | I28: =H28 -> 8 | K28: EA | L28: Munsell No. 5Y 9/1.5(상아색) | M28: 43889 | N28: 43902
D29: 가공품 | E29: RACK CONVEYOR SIDE COVER | F29: 790*98_1.6t ; SS41 ; 도장 | H29: 16 | I29: =H29 -> 16 | K29: EA | L29: Munsell No. 5Y 9/1.5(상아색) | M29: 43889 | N29: 43902
D30: 가공품 | E30: RACK CONVEYOR GUIDE | F30: 60*31*24_2t ; STS304 ; POLISHING | H30: 32 | I30: =H30 -> 32 | K30: EA | M30: 43889 | N30: 43902
D31: 가공품 | E31: RACK CONVEYOR GUIDE BKT_01 | F31: 54.5*40*35_3t ; SS41 ; 도장 | H31: 16 | I31: =H31 -> 16 | K31: EA | L31: Munsell No. 5Y 9/1.5(상아색) | M31: 43889 | N31: 43902
D32: 가공품 | E32: RACK CONVEYOR GUIDE BKT_02 | F32: 30*40*48_3t ; SS41 ; 도장 | H32: 16 | I32: =H32 -> 16 | K32: EA | L32: Munsell No. 5Y 9/1.5(상아색) | M32: 43889 | N32: 43902
D33: 가공품 | E33: RACK CONVEYOR SENSOR BKT | F33: 25*102*38_2t ; SS41 ; 도장 | H33: 48 | I33: =H33 -> 48 | K33: EA | L33: Munsell No. 5Y 9/1.5(상아색) | M33: 43889 | N33: 43902
D34: 가공품 | E34: MANUAL STOPPER BASE | F34: 107*60_8t ; STS304 | H34: 8 | I34: =H34 -> 8 | K34: EA | M34: 43889 | N34: 43902
D35: 가공품 | E35: MANUAL STOPPER BOLT | F35: Ф20*25.5 ; STS304 연마봉 | H35: 8 | I35: =H35 -> 8 | K35: EA | M35: 43889 | N35: 43903
D36: 가공품 | E36: MANUAL STOPPER HANDLE | F36: Ф15*40 ; STS304 | H36: 8 | I36: =H36 -> 8 | K36: EA | M36: 43889 | N36: 43902
D37: 가공품 | E37: AUTO STOPPER PLATE | F37: 470*60*75_5t ; SS41 ; 도장 | H37: 4 | I37: =H37 -> 4 | K37: EA | L37: Munsell No. 5Y 9/1.5(상아색) | M37: 43889 | N37: 43902
D38: 가공품 | E38: AUTO STOPPER BASE | F38: 380*59*91.5_5t ; SS41 ; 도장 | H38: 4 | I38: =H38 -> 4 | K38: EA | L38: Munsell No. 5Y 9/1.5(상아색) | M38: 43889 | N38: 43902
D39: 가공품 | E39: AUTO STOPPER URETHANE | F39: 380*40_5t ; 우레탄 | H39: 4 | I39: =H39 -> 4 | K39: EA | M39: 43889 | N39: 43903
D40: 가공품 | E40: RACK CONVEYOR GUIDE BKT_03 | F40: 28.5*40*35_3t ; SS41 ; 도장 | H40: 16 | I40: =H40 -> 16 | K40: EA | L40: Munsell No. 5Y 9/1.5(상아색) | M40: 43889 | N40: 43902
D41: 가공품 | E41: RACK CONVEYOR GUIDE BKT_04 | F41: 30*40*46_3t ; SS41 ; 도장 | H41: 16 | I41: =H41 -> 16 | K41: EA | L41: Munsell No. 5Y 9/1.5(상아색) | M41: 43889 | N41: 43902
D42: 가공품 | E42: RACK CONVEYOR PLATE_02 | F42: 878*788*35_2.3t ; SS41 ; 도장 | H42: 4 | I42: =H42 -> 4 | K42: EA | L42: Munsell No. 5Y 9/1.5(상아색) | M42: 43889 | N42: 43902
D44: 구매품 | E44: CYLINDER | F44: MGPWL32-25-M9NM | G44: SMC | H44: 4 | I44: =H44 -> 4 | K44: EA | M44: 43887 | N44: 43903
D45: 구매품 | E45: SPEED CONTROLLER | F45: AS2201F-01-06A | G45: SMC | H45: 8 | I45: =H45 -> 8 | K45: EA | M45: 43887 | N45: 43903
D46: 구매품 | E46: SENSOR | F46: E3Z-T61 | G46: OMRON | H46: 24 | I46: =H46 -> 24 | K46: EA | M46: 43887 | N46: 43903
D47: 구매품 | E47: PROFILE GUIDE | F47: 1991+1990_3M | G47: WOOJIN | H47: 5 | I47: =H47 -> 5 | K47: EA | M47: 43887 | N47: 43903
D48: 구매품 | E48: POWER MOLLER | F48: PM500FE-838-D-024-JD-VG-PS | G48: EUNHYUN | H48: 8 | I48: =H48 -> 8 | K48: EA | M48: 43887 | N48: 43906
D49: 구매품 | E49: FREE ROLLER | F49: FR508PL-838-12-JD-JS-PS-PVG | G49: EUNHYUN | H49: 56 | I49: =H49 -> 56 | K49: EA | M49: 43887 | N49: 43906
D50: 구매품 | E50: BELT | F50: 3PJ 336 | G50: EUNHYUN | H50: 56 | I50: =H50 -> 56 | K50: EA | M50: 43887 | N50: 43906
D51: 구매품 | E51: POWER MOLLER BKT | F51: C-001-D | G51: EUNHYUN | H51: 16 | I51: =H51 -> 16 | K51: EA | M51: 43887 | N51: 43906
D52: 구매품 | E52: POWER MOLLER DRIVER | F52: IB-C02B | G52: EUM HYUN | H52: 4 | I52: =H52 -> 4 | K52: EA | M52: 43887 | N52: 43906
D53: 구매품 | E53: CC-Link 표준 커넥터 | F53: 35505-6000-BOM GF | G53: EUM HYUN | H53: 8 | I53: =H53 -> 8 | K53: EA | M53: 43887 | N53: 43906
D54: 구매품 | E54: 전원 커넥터 모터 구동용(CN1) | F54: WAGO231-302/026-000 | G54: EUM HYUN | H54: 4 | I54: =H54 -> 4 | K54: EA | M54: 43887 | N54: 43906
D55: 구매품 | E55: 전원 커넥터 모터 제어용(CN5) | F55: WAGO734-102 | G55: EUM HYUN | H55: 4 | I55: =H55 -> 4 | K55: EA | M55: 43887 | N55: 43906
D56: 구매품 | E56: 종단 저항 커넥터 | F56: 35T05-6M00-BOM GF | G56: EUM HYUN | H56: 1 | I56: =H56 -> 1 | K56: EA | M56: 43887 | N56: 43906
C58: 전장 BOX | D58: 가공품 | F58: 520*715_2t ; SS41 ; 백색아연도금 | H58: 1 | I58: =H58 -> 1 | K58: EA | L58: AIR UTIL PLATE | M58: 43889 | N58: 43903
D59: 가공품 | F59: 555*410_2t ; SS41 ; 백색아연도금 | H59: 1 | I59: =H59 -> 1 | K59: EA | L59: AIR UTIL PLATE | M59: 43889 | N59: 43903
D60: 가공품 | E60: SOLENOID VALVE COVER_1 | F60: 260*380_5t ; 무정전PC | H60: 1 | I60: =H60 -> 1 | K60: EA | M60: 43889 | N60: 43903
D61: 가공품 | E61: SOLENOIDE VALVE COVER_2 | F61: 160*260_5t ; 무정전PC | H61: 1 | I61: =H61 -> 1 | K61: EA | M61: 43889 | N61: 43903
D63: 구매품 | E63: REGULATER | F63: AC40C-04-V1-B | G63: SMC | H63: 1 | I63: =H63 -> 1 | K63: EA | M63: 43887 | N63: 43903
D64: 구매품 | E64: SILENCER | F64: AN300-03 | G64: SMC | H64: 1 | I64: =H64 -> 1 | K64: EA | M64: 43887 | N64: 43903
D65: 구매품 | E65: SILENCER | F65: AN15-02 | G65: SMC | H65: 4 | I65: =H65 -> 4 | K65: EA | M65: 43887 | N65: 43903
D66: 구매품 | E66: DIGITAL PRESSURE SWITCH | F66: ISE30A-01-C-L | G66: SMC | H66: 1 | I66: =H66 -> 1 | K66: EA | M66: 43887 | N66: 43903
D67: 구매품 | E67: MANIFOLD | F67: SS5Y5-41-12-C6 | G67: SMC | H67: 3 | I67: =H67 -> 3 | K67: EA | M67: 43887 | N67: 43903
D68: 구매품 | E68: SOLENOID VALVE | F68: SY5240-5LZE | G68: SMC | H68: 34 | I68: =H68 -> 34 | K68: EA | M68: 43887 | N68: 43903
D69: 구매품 | E69: BLANKING | F69: SY5000-26-20A | G69: SMC | H69: 2 | I69: =H69 -> 2 | K69: EA | M69: 43887 | N69: 43903
D70: 구매품 | E70: FITTING | F70: KQ2L12-04G | G70: SMC | H70: 1 | I70: =H70 -> 1 | K70: EA | M70: 43887 | N70: 43903
D71: 구매품 | E71: FITTING | F71: KQ2L10-04G | G71: SMC | H71: 1 | I71: =H71 -> 1 | K71: EA | M71: 43887 | N71: 43903
D72: 구매품 | E72: FITTING | F72: KQ2U10-00A | G72: SMC | H72: 1 | I72: =H72 -> 1 | K72: EA | M72: 43887 | N72: 43903
D73: 구매품 | E73: FITTING | F73: KQ2L10-02G | G73: SMC | H73: 2 | I73: =H73 -> 2 | K73: EA | M73: 43887 | N73: 43903
D74: 구매품 | E74: FITTING | F74: KQ2T10-02G | G74: SMC | H74: 1 | I74: =H74 -> 1 | K74: EA | M74: 43887 | N74: 43903
C76: TOUCH PANEL | D76: 가공품 | E76: TOUCH PANEL BASE | F76: 570*420*182_2t ; SS41 ; 도장 | H76: 1 | I76: =H76 -> 1 | K76: EA | L76: Munsell No. 5Y 9/1.5(상아색) | M76: 43889 | N76: 43902
D77: 가공품 | F77: 565*420*18_2t ; SS41 ; 도장 | H77: 1 | I77: =H77 -> 1 | K77: EA | L77: Munsell No. 5Y 9/1.5(상아색) | M77: 43889 | N77: 43902
D78: 가공품 | F78: 15*60_2t ; SS41 ; 도장 | H78: 2 | I78: =H78 -> 2 | K78: EA | L78: Munsell No. 5Y 9/1.5(상아색) | M78: 43889 | N78: 43902
D79: 가공품 | E79: TOWER LAMP PLATE | F79: 180*180*40_3t ; SS41 ; 도장 | H79: 1 | I79: =H79 -> 1 | K79: EA | L79: Munsell No. 5Y 9/1.5(상아색) | M79: 43889 | N79: 43902
D81: 구매품 | E81: INTERFACE COVER | F81: KDU-200-L | G81: KEM | H81: 1 | I81: =H81 -> 1 | K81: EA | M81: 43887 | N81: 43903
D82: 구매품 | E82: BUZZER | F82: KSP-42S | G82: KACON | H82: 1 | I82: =H82 -> 1 | K82: EA | M82: 43887 | N82: 43903
D83: 구매품 | E83: EMS SWITCH | F83: A22E-M-12-EMS | G83: OMRON | H83: 1 | I83: =H83 -> 1 | K83: EA | M83: 43887 | N83: 43903
D84: 구매품 | E84: TOWER LAMP | F84: ST45L-3-24-RAG-LW18 | G84: QLIGHT | H84: 1 | I84: =H84 -> 1 | K84: EA | M84: 43887 | N84: 43903
D85: 구매품 | E85: KEY SWITCH | F85: STK-21-TOR-S | G85: SAFECT | H85: 1 | I85: =H85 -> 1 | K85: EA | M85: 43887 | N85: 43903
D86: 구매품 | E86: CAMP LOCK | F86: BYMS7067Z-1-1 | G86: BUYOUNG | H86: 1 | I86: =H86 -> 1 | K86: EA | M86: 43887 | N86: 43903
D87: 구매품 | E87: HINGE | F87: BYHPA-Z-02T | G87: BUYOUNG | H87: 1 | I87: =H87 -> 1 | K87: EA | M87: 43887 | N87: 43903
D88: 구매품 | E88: 서포트 섹션 (개방형) | F88: CP 6206.110 x 500mm(L) | G88: RITTAL | H88: 1 | I88: =H88 -> 1 | K88: EA | M88: 43887 | N88: 43903
D89: 구매품 | E89: 서포트 섹션 (개방형) | F89: CP 6206.110 x 200mm(L) | G89: RITTAL | H89: 1 | I89: =H89 -> 1 | K89: EA | M89: 43887 | N89: 43903
D90: 구매품 | E90: 서포트 섹션 (개방형) | F90: CP 6206.110 x 250mm(L) | G90: RITTAL | H90: 1 | I90: =H90 -> 1 | K90: EA | M90: 43887 | N90: 43903
D91: 구매품 | E91: 상부 장착 조인트 | F91: CP 6206.700 | G91: RITTAL | H91: 1 | I91: =H91 -> 1 | K91: EA | M91: 43887 | N91: 43903
D92: 구매품 | E92: 서포트 암 연결부용 커플링 | F92: CP 6206.300 | G92: RITTAL | H92: 1 | I92: =H92 -> 1 | K92: EA | M92: 43887 | N92: 43903
... D94: 구매품 | E94: 90도 앵글 피스 | F94: CP 6206.600 | G94: RITTAL | H94: 1 | I94: =H94 -> 1 | K94: EA | M94: 43887 | N94: 43903
C96: FRAME | D96: 가공품 | E96: SHUTTLE FRAME_01 | F96: 3400*810*1663 ; PROFILE | H96: 1 | I96: =H96 -> 1 | K96: EA | M96: 43889 | N96: 43907
D97: 가공품 | E97: SUTTLE FRAME DOOR_UNIT | F97: 647*1499*20 ; PROFILE | H97: 2 | I97: =H97 -> 2 | K97: EA | M97: 43889 | N97: 43907
D98: 가공품 | E98: FOOT BASE_01 | F98: 235*235_15t ; SS41 ; 크롬도금 | H98: 8 | I98: =H98 -> 8 | K98: EA | M98: 43889 | N98: 43907
D99: 가공품 | E99: FOOT BASE | F99: 120*120_8t ; STS304 | H99: 10 | I99: =H99 -> 10 | K99: EA | M99: 43889 | N99: 43907
D100: 가공품 | E100: FOOT BASE_02 | F100: 240*240_15t ; SS41 ; 크롬도금 | H100: 2 | I100: =H100 -> 2 | K100: EA | M100: 43889 | N100: 43907
D101: 가공품 | E101: SHUTTLE FRAME_02 | F101: 2490*810*1663 ; PROFILE | H101: 1 | I101: =H101 -> 1 | K101: EA | M101: 43889 | N101: 43907
D102: 가공품 | E102: INTERLOCK SWITCH BK | F102: 40*109*80 ; SS41 ; 도장 | H102: 2 | I102: =H102 -> 2 | K102: EA | L102: Munsell No. 5Y 9/1.5(상아색) | M102: 43889 | N102: 43902
D103: 가공품 | E103: SHUTTLE EMS BKT_01 | F103: 190*100_3.2t ; SS41 ; 도장 | H103: 2 | I103: =H103 -> 2 | K103: EA | L103: Munsell No. 5Y 9/1.5(상아색) | M103: 43889 | N103: 43902
D104: 가공품 | E104: SHUTTLE EMS COVER | F104: 100*95*62 ; SS41 ; 도장 | H104: 2 | I104: =H104 -> 2 | K104: EA | L104: Munsell No. 5Y 9/1.5(상아색) | M104: 43889 | N104: 43902
D105: 가공품 | E105: 2ND LOWER COVER_01 | F105: 1118*728_1.2t ; SS41 ; 도장 | H105: 2 | I105: =H105 -> 2 | K105: EA | L105: Munsell No. 5Y 9/1.5(상아색) | M105: 43889 | N105: 43902
D106: 가공품 | E106: 2ND LOWER COVER_02 | F106: 1118*728_1.2t ; SS41 ; 도장 | H106: 1 | I106: =H106 -> 1 | K106: EA | L106: Munsell No. 5Y 9/1.5(상아색) | M106: 43889 | N106: 43902
D107: 가공품 | E107: 2ND LOWER COVER_03 | F107: 1153*728_1.2t ; SS41 ; 도장 | H107: 1 | I107: =H107 -> 1 | K107: EA | L107: Munsell No. 5Y 9/1.5(상아색) | M107: 43889 | N107: 43902
D108: 가공품 | E108: 2ND LOWER COVER_04 | F108: 1293*728_1.2t ; SS41 ; 도장 | H108: 1 | I108: =H108 -> 1 | K108: EA | L108: Munsell No. 5Y 9/1.5(상아색) | M108: 43889 | N108: 43902
D109: 가공품 | E109: FRAME CONNECT BKT | F109: 80*60_3t ; STS304 | H109: 4 | I109: =H109 -> 4 | K109: EA | M109: 43889 | N109: 43902
D110: 가공품 | E110: 1ST LOWER COVER_01 | F110: 1118*648*35_1.2t ; STS304 ; POLISHING | H110: 1 | I110: =H110 -> 1 | K110: EA | M110: 43889 | N110: 43902
...

Sheet STK STATION
B2: STK STATION BOM LIST | K2: 대수 | L2: 1 | M2: 발주일자 (예상일자) | N2: 입고일자 (예상일자)
B3: Sub Unit | D3: 품목구분 | E3: 품명 | F3: 규격 | G3: 제조사명 | H3: 원 수량 | I3: 구매 수량 | J3: 입고 수량 | K3: 단위 | L3: 비고(신청)
B4: STK STATION | C4: STK FRAME UNIT | D4: 가공품 | E4: CABLEVEYOR BK_01 | F4: 1857*150*3;STS304;POLISHING | H4: 1 | I4: =H4 -> 1 | K4: EA | M4: 43889 | N4: 43902
D5: 가공품 | E5: CABLEVEYOR BK_02 | F5: 1859*150*3;STS304;POLISHING | H5: 1 | I5: =H5 -> 1 | K5: EA | M5: 43889 | N5: 43902
D6: 가공품 | E6: STK BOTTOM COVER_01 | F6: 1256*728*2;STS304;POLISHING | H6: 1 | I6: =H6 -> 1 | K6: EA | M6: 43889 | N6: 43902
D7: 가공품 | E7: STK BOTTOM COVER_02 | F7: 1218*728*2;STS304;POLISHING | H7: 1 | I7: =H7 -> 1 | K7: EA | M7: 43889 | N7: 43902
D8: 가공품 | E8: PIO HIGH BKT_01 | F8: 83*34*20_2t ; SS41 ; 도장 | H8: 1 | I8: =H8 -> 1 | K8: EA | L8: Munsell No. 5Y 9/1.5(상아색) | M8: 43889 | N8: 43902
D9: 가공품 | E9: PIO HIGH BKT_02 | F9: 70*54*30_2t ; SS41 ; 도장 | H9: 1 | I9: =H9 -> 1 | K9: EA | L9: Munsell No. 5Y 9/1.5(상아색) | M9: 43889 | N9: 43902
D10: 가공품 | E10: BCR BLOCK | F10: 60*40*30 ; AL6061 ; W-ANO | H10: 2 | I10: =H10 -> 2 | K10: EA | M10: 43889 | N10: 43903
D11: 가공품 | E11: BCR SHAFT_01 | F11: 320*Φ12 ; SUS 연마봉 | H11: 2 | I11: =H11 -> 2 | K11: EA | M11: 43889 | N11: 43903
D12: 가공품 | E12: LIFTER LINEAR BUSH BKT | F12: 1745*65_5t ; SS41 ; 도장 | H12: 4 | I12: =H12 -> 4 | K12: EA | L12: Munsell No. 5Y 9/1.5(상아색) | M12: 43889 | N12: 43902
D13: 가공품 | E13: LIFTER_BUSH CONNECTOR | F13: 85*60_10t ; AL6061 ; W-ANO | H13: 4 | I13: =H13 -> 4 | K13: EA | M13: 43889 | N13: 43903
D14: 가공품 | E14: LIFT GUIDE BLOCK_01 | F14: 104*60*12 ; AL6061 ; W-ANO | H14: 4 | I14: =H14 -> 4 | K14: EA | M14: 43889 | N14: 43903
D15: 가공품 | E15: STK MAIN FRAME | F15: 2520*700*2675;4080PROFILE | H15: 1 | I15: =H15 -> 1 | K15: EA | M15: 43889 | N15: 43907
D16: 가공품 | E16: STK DOOR | F16: 1136*676*20;2020PROFILE | H16: 2 | I16: =H16 -> 2 | K16: EA | M16: 43889 | N16: 43907
D17: 가공품 | E17: STOPPER | F17: Ф30*30 ; 우레탄 | H17: 4 | I17: =H17 -> 4 | K17: EA | M17: 43889 | N17: 43903
D18: 가공품 | E18: FOOT BASE_01 | F18: 180*180_15t ; SS40 ; 크롬도금 | H18: 4 | I18: =H18 -> 4 | K18: EA | M18: 43889 | N18: 43903
D19: 가공품 | E19: FOOT BASE_02 | F19: 120*120_8t ; STS304 | H19: 6 | I19: =H19 -> 6 | K19: EA | M19: 43889 | N19: 43902
D20: 가공품 | E20: FOOT BASE_03 | F20: 160*150_15t ; SS40 ; 크롬도금 | H20: 2 | I20: =H20 -> 2 | K20: EA | M20: 43889 | N20: 43903
D21: 가공품 | E21: PIO HIGH BKT_02 | F21: 70*54*30_2t ; SS41 ; 도장 | H21: 1 | I21: =H21 -> 1 | K21: EA | L21: Munsell No. 5Y 9/1.5(상아색) | M21: 43889 | N21: 43902
D22: 가공품 | E22: STK PIO SENSOR BK_01 | F22: 120*34*2;SS41;도장 | H22: 1 | I22: =H22 -> 1 | K22: EA | L22: Munsell No. 5Y 9/1.5(상아색) | M22: 43889 | N22: 43902
D23: 가공품 | E23: FREE ROLLER BK_01 | F23: 45*195*3;STS304;POLISHING | H23: 1 | I23: =H23 -> 1 | K23: EA | M23: 43889 | N23: 43902
D24: 가공품 | E24: FREE ROLLER BK_02 | F24: 45*195*3;STS304;POLISHING | H24: 1 | I24: =H24 -> 1 | K24: EA | M24: 43889 | N24: 43902
D25: 가공품 | E25: FREE ROLLER BK_03 | F25: 45*205*3;STS304;POLISHING | H25: 3 | I25: =H25 -> 3 | K25: EA | M25: 43889 | N25: 43902
D26: 가공품 | E26: FREE ROLLER BK_04 | F26: 45*205*3;STS304;POLISHING | H26: 3 | I26: =H26 -> 3 | K26: EA | M26: 43889 | N26: 43902
D27: 가공품 | E27: EMS BK_01 | F27: 170*100*3.2;SS41;도장 | H27: 1 | I27: =H27 -> 1 | K27: EA | L27: Munsell No. 5Y 9/1.5(상아색) | M27: 43889 | N27: 43902
D28: 가공품 | E28: SHUTTLE EMS COVER | F28: 100*95*62 ; SS41 ; 도장 | H28: 1 | I28: =H28 -> 1 | K28: EA | L28: Munsell No. 5Y 9/1.5(상아색) | M28: 43889 | N28: 43902
D30: 구매품 | E30: LEVELING FOOT | F30: A-M-16-180L | G30: AUTO CFT | H30: 6 | I30: =H30 -> 6 | K30: EA | M30: 43889 | N30: 43907
D31: 구매품 | E31: CASTER | F31: ACMM-75SF | G31: AUTO CFT | H31: 6 | I31: =H31 -> 6 | K31: EA | M31: 43889 | N31: 43907
D32: 구매품 | E32: PIO SENSOR | F32: DMS-HB1-V | G32: HOKUYO | H32: 2 | I32: =H32 -> 2 | K32: EA | M32: 43887 | N32: 43903
D33: 구매품 | E33: BALL BUSH | F33: WBAS-20G6-1965-M6x200-100 | G33: WONST | H33: 4 | I33: =H33 -> 4 | K33: EA | M33: 43887 | N33: 43903
D34: 구매품 | E34: LINEAR MOTION SHAFT | F34: CSOW 20UU | G34: WONST | H34: 4 | I34: =H34 -> 4 | K34: EA | M34: 43887 | N34: 43903
D35: 구매품 | E35: SHAFT GUIDE | F35: S-STU20X50 | G35: WONST | H35: 32 | I35: =H35 -> 32 | K35: EA | M35: 43887 | N35: 43903
D36: 구매품 | E36: NIPPLE | F36: GPAS6A | G36: MISUMI | H36: 4 | I36: =H36 -> 4 | K36: EA | M36: 43887 | N36: 43903
D37: 구매품 | E37: EMS SWITCH COVER | F37: A22B-KG2-YS | G37: SAFECT | H37: 1 | I37: =H37 -> 1 | K37: EA | M37: 43887 | N37: 43903
D38: 구매품 | E38: EMS SWITCH | F38: A22E-M-01-EMS | G38: OMRON | H38: 1 | I38: =H38 -> 1 | K38: EA | M38: 43887 | N38: 43903
D39: 구매품 | E39: SAFETY LOCK | F39: D4SL-NSK10-LK | G39: OMRON | H39: 2 | I39: =H39 -> 2 | K39: EA | M39: 43887 | N39: 43915
D40: 구매품 | E40: SAFETY LOCK | F40: D4SL-N4NFG-D | G40: OMRON | H40: 2 | I40: =H40 -> 2 | K40: EA | M40: 43887 | N40: 43915
D41: 구매품 | E41: SAFETY LOCK KEY | F41: D4SL-NK1G | G41: OMRON | H41: 2 | I41: =H41 -> 2 | K41: EA | M41: 43887 | N41: 43915
C44: STK ROBOT UNIT | D44: 가공품 | E44: STK ROBOT PLATE_01 | F44: 1780*240*15;AL6061;W-ANO | H44: 2 | I44: =H44 -> 2 | K44: EA | M44: 43889 | N44: 43903
D45: 가공품 | E45: STK ROBOT PLATE_02 | F45: 895*240*15;AL6061;W-ANO | H45: 2 | I45: =H45 -> 2 | K45: EA | M45: 43889 | N45: 43903
D47: 구매품 | E47: ROBOT | F47: JSS-20S-L0016-R5_STATION LIFTER | G47: JCL TECHNOLOGY | H47: 2 | I47: =H47 -> 2 | K47: EA | M47: 43887 | N47: 43903
D48: 구매품 | E48: SERVO MOTOR | F48: HG-KR73B(MIT_750W+B) | G48: MITSUBISHI | H48: 2 | I48: =H48 -> 2 | K48: EA | M48: 43887 | N48: 43903
D49: 구매품 | E49: REDUCER | F49: AB0901-003-S1-P1 | G49: APEX | H49: 2 | I49: =H49 -> 2 | K49: EA | M49: 43887 | N49: 43921
D50: 구매품 | E50: SAMWON | F50: EF-H0214-02A-CHOEUN | G50: GORE CABLE | H50: 2 | I50: =H50 -> 2 | K50: EA | M50: 43887 | N50: 43903
C53: STK BELT CONVEYOR UNIT | D53: 가공품 | E53: CAN ROBOT PLATE_01 | F53: 400*239*20 ; AL6061 ; W-ANO | H53: 2 | I53: =H53 -> 2 | K53: EA | M53: 43889 | N53: 43903
D54: 가공품 | E54: MIRROR SENSOR BKT | F54: 64*40*20_1.6t ; SS41 ; 도장 | H54: 2 | I54: =H54 -> 2 | K54: EA | L54: Munsell No. 5Y 9/1.5(상아색) | M54: 43889 | N54: 43902
D55: 가공품 | E55: TRAY SIDE SENSOR BKT | F55: 102*35*30_2t ; SS41 ; 도장 | H55: 24 | I55: =H55 -> 24 | K55: EA | L55: Munsell No. 5Y 9/1.5(상아색) | M55: 43889 | N55: 43902
D56: 가공품 | E56: ROBOT BASE PROFILE | F56: 952*700*40 ; PROFILE | H56: 2 | I56: =H56 -> 2 | K56: EA | M56: 43889 | N56: 43903
D57: 가공품 | E57: ROBOT PLATE_02 | F57: 409*60_15t ; S45C ; 무전해니캘도금 | H57: 2 | I57: =H57 -> 2 | K57: EA | M57: 43889 | N57: 43903
D58: 가공품 | E58: ROLLER PLATE COVER_01 | F58: 253*85*17_2t ; SS41 ; 도장 | H58: 2 | I58: =H58 -> 2 | K58: EA | L58: Munsell No. 5Y 9/1.5(상아색) | M58: 43889 | N58: 43902
D59: 가공품 | E59: ROLLER PLATE COVER_01 | F59: 207*85*17_2t ; SS41 ; 도장 | H59: 2 | I59: =H59 -> 2 | K59: EA | L59: Munsell No. 5Y 9/1.5(상아색) | M59: 43889 | N59: 43902
D60: 가공품 | E60: ROLLER PLATE_01 | F60: 700*85*35_3.2t ; SS41 ; 도장 | H60: 2 | I60: =H60 -> 2 | K60: EA | L60: Munsell No. 5Y 9/1.5(상아색) | M60: 43889 | N60: 43902
D61: 가공품 | E61: ROLLER PLATE_02 | F61: 700*85*35_3t ; SS41 ; 도장 | H61: 2 | I61: =H61 -> 2 | K61: EA | L61: Munsell No. 5Y 9/1.5(상아색) | M61: 43889 | N61: 43902
D62: 가공품 | E62: ROLLER PLATE COVER_01 | F62: 700*125_2t ; SS41 ; 도장 | H62: 2 | I62: =H62 -> 2 | K62: EA | L62: Munsell No. 5Y 9/1.5(상아색) | M62: 43889 | N62: 43902
D63: 가공품 | E63: ROLLER TENSION BLACK | F63: 75*40_20t ; AL6061 ; W-ANO | H63: 4 | I63: =H63 -> 4 | K63: EA | M63: 43889 | N63: 43903
D64: 가공품 | E64: CONVEYOR COVER_04 | F64: 946*125*20_2t ; SS41 ; 도장 | H64: 4 | I64: =H64 -> 4 | K64: EA | L64: Munsell No. 5Y 9/1.5(상아색) | M64: 43889 | N64: 43902
D65: 가공품 | E65: CABLEVEYOR BKT | F65: 141*135*126.5_3t ; STS304 ; POLISHING | H65: 2 | I65: =H65 -> 2 | K65: EA | M65: 43889 | N65: 43902
D66: 가공품 | E66: LIFT TRAY GUIDE BKT_1 | F66: 52*30*40_3t ; SS41 ; 도장 | H66: 8 | I66: =H66 -> 8 | K66: EA | L66: Munsell No. 5Y 9/1.5(상아색) | M66: 43889 | N66: 43902
D67: 가공품 | E67: LIFT TRAY GUIDE BKT_2 | F67: 30*35*40_3t ; SS41 ; 도장 | H67: 8 | I67: =H67 -> 8 | K67: EA | L67: Munsell No. 5Y 9/1.5(상아색) | M67: 43889 | N67: 43902
D68: 가공품 | E68: GUIDE BRACKET_03 | F68: 60*24*15.5_2t ; SS41 ; 도장 | H68: 8 | I68: =H68 -> 8 | K68: EA | L68: CAN TYPE 동일 | M68: 43889 | N68: 43902
D70: 구매품 | E70: SENSOR | F70: E3Z-D61 | G70: OMRON | H70: 12 | I70: =H70 -> 12 | K70: EA | M70: 43887 | N70: 43903
D71: 구매품 | E71: SENSOR MIRROR | F71: E39-R1S | G71: OMRON | H71: 2 | I71: =H71 -> 2 | K71: EA | M71: 43887 | N71: 43903
D72: 구매품 | E72: POWER MOLLER DRIVER | F72: IB-C02B | G72: EUNHYUN | H72: 2 | I72: =H72 -> 2 | K72: EA | M72: 43887 | N72: 43906
D73: 구매품 | E73: CC-Link 표준 커넥터 | F73: 35505-6000-BOM GF | G73: EUNHYUN | H73: 2 | I73: =H73 -> 2 | K73: EA | M73: 43887 | N73: 43906
D74: 구매품 | E74: 전원 커넥터 모터 구동용(CN1) | F74: WAGO231-302/026-000 | G74: EUNHYUN | H74: 1 | I74: =H74 -> 1 | K74: EA | M74: 43887 | N74: 43906
D75: 구매품 | E75: 전원 커넥터 모터 제어용(CN5) | F75: WAGO734-102 | G75: EUNHYUN | H75: 1 | I75: =H75 -> 1 | K75: EA | M75: 43887 | N75: 43906
D76: 구매품 | E76: POWER MOLLER BRACKET | F76: C-001-D | G76: EUNHYUN | H76: 4 | I76: =H76 -> 4 | K76: EA | M76: 43887 | N76: 43906
D77: 구매품 | E77: FREE ROLLER | F77: 923L x Φ60.5 | G77: EUNHYUN | H77: 2 | I77: =H77 -> 2 | K77: EA | M77: 43887 | N77: 43906
D78: 구매품 | E78: POWER MOLLER | F78: 909L x Φ60.5 | G78: EUNHYUN | H78: 2 | I78: =H78 -> 2 | K78: EA | M78: 43887 | N78: 43906
D79: 구매품 | E79: BELT | F79: 1.4T V 홈 대전방지용 BELT | G79: HANYANG | H79: 2 | I79: =H79 -> 2 | K79: EA | M79: 43887 | N79: 43903
D80: 구매품 | E80: FREE ROLLER | F80: 830L x Φ42.7 | G80: DAE JONG FRS | H80: 4 | I80: =H80 -> 4 | K80: EA | M80: 43887 | N80: 43903
D81: 구매품 | E81: FREE ROLLER | F81: 877L x Φ47.2 | G81: DAE JONG FRS | H81: 4 | I81: =H81 -> 4 | K81: EA | M81: 43887 | N81: 43903
D82: 구매품 | E82: PROFILE GUIDE | F82: 1991+1990_3M | G82: WOOJIN | H82: 1 | I82: =H82 -> 1 | K82: EA | M82: 43887 | N82: 43903
C84: STK 전장 BOX
D85: 구매품 | E85: INTERFACE COVER | F85: KDU-200-L | G85: KEM | H85: 1 | I85: =H85 -> 1 | K85: EA | M85: 43887 | N85: 43903
D86: 구매품 | E86: BUZZER | F86: KSP-42S | G86: KACON | H86: 1 | I86: =H86 -> 1 | K86: EA | M86: 43887 | N86: 43903
D87: 구매품 | E87: TOWER LAMP | F87: ST45L-3-24-RAG-SZ18 | G87: QLIGHT | H87: 1 | I87: =H87 -> 1 | K87: EA | M87: 43887 | N87: 43903
D88: 구매품 | E88: EMS SWITCH | F88: A22E-M-12-EMS | G88: OMRON | H88: 1 | I88: =H88 -> 1 | K88: EA | M88: 43887 | N88: 43903
D89: 구매품 | E89: KEY SWITCH | F89: STK-21-TOR-S | G89: SAFECT | H89: 1 | I89: =H89 -> 1 | K89: EA | M89: 43887 | N89: 43903
D90: 구매품 | E90: BCR BRACKET | F90: OP-88002 | G90: KEYENCE | H90: 2 | I90: =H90 -> 2 | K90: EA | M90: 43887 | N90: 43903
D91: 구매품 | E91: 종단 저항 커넥터 | F91: 35T05-6M00-BOM GF | G91: EUNHYUN | H91: 1 | I91: =H91 -> 1 | K91: EA | M91: 43887 | N91: 43906
C93: 전장 UNIT | D93: 구매(전장) | E93: BASE | F93: Q38B | G93: Mitsubishi | H93: 1 | I93: 1 | K93: EA | M93: 43895 | N93: 43903
D94: 구매(전장) | E94: POWER | F94: Q61P(AC) | G94: Mitsubishi | H94: 1 | I94: 1 | K94: EA | M94: 43895 | N94: 43903
D95: 구매(전장) | E95: CPU | F95: Q06UDVCPU | G95: Mitsubishi | H95: 1 | I95: 1 | K95: EA | M95: 43895 | N95: 43903
D96: 구매(전장) | E96: ETHERNET | F96: QJ71E71-100 | G96: Mitsubishi | H96: 1 | I96: 1 | K96: EA | M96: 43895 | N96: 43903
D97: 구매(전장) | E97: MOTION | F97: QD77MS4 | G97: Mitsubishi | H97: 1 | I97: 1 | K97: EA | M97: 43895 | N97: 43903
D98: 구매(전장) | E98: CC-LINK IE | F98: QJ71GP21-SX | G98: Mitsubishi | H98: 1 | I98: 1 | K98: EA | M98: 43895 | N98: 43903
D99: 구매(전장) | E99: CC-LINK MASTER | F99: QJ61BT11N | G99: Mitsubishi | H99: 1 | I99: 1 | K99: EA | M99: 43895 | N99: 43903
D100: 구매(전장) | E100: CC-LINK IE | F100: QJ71GP21-SX | G100: Mitsubishi | H100: 1 | I100: 1 | K100: EA | L100: 추가 유/무 확인 요망 | M100: 43895 | N100: 43903
D101: 구매(전장) | E101: INPUT CARD | F101: AJ65SBTB1-32D | G101: Mitsubishi | H101: 2 | I101: 2 | K101: EA | M101: 43895 | N101: 43903
D102: 구매(전장) | E102: OUTPUT CARD | F102: AJ65SBTB1-32T | G102: Mitsubishi | H102: 0 | I102: 0 | K102: EA | M102: 43895 | N102: 43903
D103: 구매(전장) | E103: IN/OUT CARD | F103: AJ65SBTB1-32DT | G103: Mitsubishi | H103: 4 | I103: 4 | K103: EA | M103: 43895 | N103: 43903
D104: 구매(전장) | E104: 배터리 | F104: MR-BAT6V1 | G104: Mitsubishi | H104: 2 | I104: 2 | K104: EA | M104: 43895 | N104: 43903
D105: 구매(전장) | E105: TOUCH SCREEN | F105: GT2512-STBA 220V | G105: Mitsubishi | H105: 1 | I105: 1 | K105: EA | M105: 43895 | N105: 43903
D106: 구매(전장) | E106: SAFETY PLC | F106: PNOZ m BO | G106: PILZ | H106: 1 | I106: 1 | K106: EA | M106: 43895 | N106: 43903
D107: 구매(전장) | E107: SAFETY MODE KEY | F107: STK-22-TOR-S | G107: SAFECT | H107: 1 | I107: 1 | K107: EA | M107: 43895 | N107: 43902
D108: 구매(전장) | E108: GT/B1 | F108: KTB1-06004/ 30A | G108: KACON | H108: 1 | I108: =H108*$L$2 -> 1 | K108: EA | M108: 43895 | N108: 43902
D109: 구매(전장) | E109: UT/B1 | F109: KTB1-03004/ 30A | G109: KACON | H109: 1 | I109: 1 | K109: EA | M109: 43895 | N109: 43902
D110: 구매(전장) | E110: GELCB1 | F110: EBS53c/ 20A 200mA | G110: LS산전 | H110: 1 | I110: 1 | K110: EA | M110: 43895 | N110: 43902
...

Sheet Sheet2
B2: Project Code | C2: Project 명 | D2: Project Plan (업무 Scope : GSI 설비 입고 후 I/O Check까지)
D3: 설계 | F3: 구매 | H3: 제작 | J3: 출하 | L3: 셋업 | N3: 안정화
D4: 시작 | E4: 종료 | F4: 시작 | G4: 종료 | H4: 시작 | I4: 종료 | J4: 시작 | K4: 종료 | L4: 시작 | M4: 종료 | N4: 시작 | O4: 종료
B5: [SDI] OHV 상공물류 자동화(천진) | D5: 43857 | E5: 43878 | F5: 43878 | G5: 43900 | H5: 43896 | I5: 43917 | J5: 43918 | K5: 43920 | L5: 43920 | M5: 43923
B7: Project | C7: 설계 | F7: 구매 / 가공 | K7: 제작 진행률 | L7: 비고
F8: 발주 | I8: 입고
C9: 총 설계 수 | D9: 총 설계 완료 수 | E9: 설계 진행율 | F9: 발주 필요 수 | G9: 발주 완료 수 | H9: 발주 완료율 | I9: 입고 완료 수 | J9: 입고 완료율
B10: [SDI] OHV 상공물류 자동화(천진) | C10: =D44 -> 35 | D10: =COUNTIF(F13:F43,"100%") -> 25 | E10: =F44 -> 0.96935484 | F10: =E44 -> 63 | G10: =COUNTIF(G13:G43,"100%") -> 22 | H10: =G44 -> 0.76129032 | I10: =COUNTIF(H13:H43,"100%") -> 0 | J10: =H44 -> 0 | K10: =I44 -> 0
B12: Module | C12: Unit | D12: Unit | E12: 제작 수량 | F12: 설계완료율 | G12: 발주완료율 | H12: 입고완료율 | I12: 세부 완료율 | J12: 제작 완료 TTL | K12: 제작 Issue
B13: Can용 Station | C13: Lifter | D13: Frame & Cover | E13: 1 | F13: 1 | G13: 1 | H13: 0 | I13: 0 | J13: =AVERAGE(I13:I16) -> 0
D14: Z-Axis Robot | E14: 1 | F14: 1 | G14: 1 | H14: 0 | I14: 0
D15: Diverter | E15: 2 | F15: 1 | G15: 1 | H15: 0 | I15: 0
D16: BCR & Sensor | E16: 2 | F16: 1 | G16: 1 | H16: 0 | I16: 0
C17: Movement | D17: 1단 Diverter | E17: 1 | F17: 1 | G17: 1 | H17: 0 | I17: 0 | J17: =AVERAGE(I17:I19) -> 0
D18: 2단 Diverter | E18: 1 | F18: 1 | G18: 1 | H18: 0 | I18: 0
D19: Belt Conveyor | E19: 2 | F19: 1 | G19: 1 | H19: 0 | I19: 0
D20: BCR & Sensor | E20: 1 | F20: 1 | G20: 1 | H20: 0 | I20: 0 | J20: =AVERAGE(I20:I20) -> 0
C21: 전장 | D21: 전장 Box | E21: 1 | F21: 0.8 | G21: 0.4 | H21: 0 | I21: 0 | J21: =I21 -> 0
B22: Standard Station | C22: Lifter | D22: Frame & Cover | E22: 1 | F22: 1 | G22: 1 | H22: 0 | I22: 0 | J22: =AVERAGE(I22:I26) -> 0 | K22: 3/4 15:00 이관용 차장의 Concept 변경 검토 요청에 의한 제작 및 발주 진행 보류 (3/5 오전중 Concept 확정 Confirm 예정)
D23: Z-Axis Robot | E23: 1 | F23: 1 | G23: 1 | H23: 0 | I23: 0
D24: Belt Conveyor | E24: 1 | F24: 1 | G24: 1 | H24: 0 | I24: 0
D25: Diverter | E25: 2 | F25: 1 | G25: 1 | H25: 0 | I25: 0
D26: BCR & Sensor | E26: 3 | F26: 1 | G26: 1 | H26: 0 | I26: 0
C27: Rack | D27: Frame & Cover | E27: 1 | F27: 1 | G27: 1 | H27: 0 | I27: 0 | J27: =AVERAGE(I27:I29) -> 0
D28: Roller Conveyor | E28: 8 | F28: 1 | G28: 1 | H28: 0 | I28: 0
D29: BCR & Sensor | E29: 4 | F29: 1 | G29: 1 | H29: 0 | I29: 0
C30: Shuttle | D30: Frame & Cover | E30: 1 | F30: 1 | G30: 1 | H30: 0 | I30: 0 | J30: =AVERAGE(I30:I31) -> 0
D31: Diverter | E31: 10 | F31: 1 | G31: 1 | H31: 0 | I31: 0
C32: 전장 | D32: 전장 Box | E32: 1 | F32: 0.8 | G32: 0.4 | H32: 0 | I32: 0 | J32: =I32 -> 0
B33: STK Lifter | C33: Lifter | D33: Frame & Cover | E33: 1 | F33: 1 | G33: 1 | H33: 0 | I33: 0 | J33: =AVERAGE(I33:I36) -> 0
D34: Z-Axis Robot | E34: 2 | F34: 1 | G34: 1 | H34: 0 | I34: 0
D35: Belt Conveyor | E35: 2 | F35: 1 | G35: 1 | H35: 0 | I35: 0
D36: BCR & Sensor | E36: 2 | F36: 1 | G36: 1 | H36: 0 | I36: 0
C37: 전장 | D37: 전장 Box | E37: 1 | F37: 0.8 | G37: 0.4 | H37: 0 | I37: 0 | J37: =I37 -> 0
B38: MTL | C38: Lifter | D38: Frame & Cover | E38: 1 | F38: 0.9 | G38: 0 | H38: 0 | I38: 0 | J38: =AVERAGE(I38:I42) -> 0
D39: Vehicle Rail | E39: 2 | F39: 1 | G39: 0 | H39: 0 | I39: 0
D40: Chain | E40: 4 | F40: 1 | G40: 0 | H40: 0 | I40: 0
D41: Free Conveyor | E41: 1 | F41: 1 | G41: 0 | H41: 0 | I41: 0
D42: Sensor | E42: 1 | F42: 0.95 | G42: 0 | H42: 0 | I42: 0
C43: 전장 | D43: 전장 Box | E43: 1 | F43: 0.8 | G43: 0.4 | H43: 0 | I43: 0 | J43: =I43 -> 0
B44: 합계 | D44: 35 | E44: =SUM(E13:E43) -> 63 | F44: =AVERAGE(F13:F43) -> 0.96935484 | G44: =AVERAGE(G13:G43) -> 0.76129032 | H44: =AVERAGE(H13:H43) -> 0 | I44: =AVERAGE(I13:I43) -> 0

Sheet Sheet4
B1: 입고일자 (예상일자)
B2: 43868
B3: 43874
B4: 43874
B5: 43878
B6: 43878
B7: 43879
B8: 43879
B9: 43879
B10: 43880
B11: 43880
B12: 43881
B13: 43881
... B1304: 43921
